From mboxrd@z Thu Jan 1 00:00:00 1970 Return-Path: Received: from mails.dpdk.org (mails.dpdk.org [217.70.189.124]) by inbox.dpdk.org (Postfix) with ESMTP id 459C746BDA for ; Mon, 21 Jul 2025 22:17:35 +0200 (CEST) Received: from mails.dpdk.org (localhost [127.0.0.1]) by mails.dpdk.org (Postfix) with ESMTP id 3D9144021E; Mon, 21 Jul 2025 22:17:35 +0200 (CEST) Received: from mail-pl1-f225.google.com (mail-pl1-f225.google.com [209.85.214.225]) by mails.dpdk.org (Postfix) with ESMTP id 368E34021E for ; Mon, 21 Jul 2025 22:17:34 +0200 (CEST) Received: by mail-pl1-f225.google.com with SMTP id d9443c01a7336-234f17910d8so41987165ad.3 for ; Mon, 21 Jul 2025 13:17:34 -0700 (PDT) DKIM-Signature: v=1; a=rsa-sha256; c=relaxed/relaxed; d=iol.unh.edu; s=unh-iol; t=1753129053; x=1753733853; darn=dpdk.org; h=references:in-reply-to:cc:to:from:subject:message-id:date:from:to :cc:subject:date:message-id:reply-to; bh=t8L3ort/P0YQZHKElHqAVtDYhlHK3regEk7u/gNCkfU=; b=ijjsyVHcshwehkKrqtTYkcOda/5U6AdS1rkibTFditvPBlg8Y7ABLuF5A+QurqyAfI SazEMhex2iMO0fg0SEUIHz/n4Fke4RtGvwfONPOeP81zyJs9hkCIwfJQaTdiNvzwMWJU 7OGxboy289ZEcfITgu+WpMeRviQeSbeyb0PYI= X-Google-DKIM-Signature: v=1; a=rsa-sha256; c=relaxed/relaxed; d=1e100.net; s=20230601; t=1753129053; x=1753733853; h=references:in-reply-to:cc:to:from:subject:message-id:date :x-gm-message-state:from:to:cc:subject:date:message-id:reply-to; bh=t8L3ort/P0YQZHKElHqAVtDYhlHK3regEk7u/gNCkfU=; b=RDTi3Y2iRJpfrwmFuh+8+8jFCyC4nzB1UssefZ7/SjXT6NUMBJ7pQPV1lCq1hfN8d6 JkyZoFp4NpAMP4zzuQbPVVNLhOyZz+fIdMNuBywlq4V9a+Tgh/NZwfms3UKe/s74BLdX ayJ7PoySj5A1PRiOdx3m2uLP1nqDtmqsiz5LPUp1q/Gx0mAgCEBfPIFEovgoSS95fMv9 j4GiTPpeEgsyW74qeQB68I7SE2Unlf67f6Q7m2hbnYmkLBK86aGiCi7kyjPa99PHGBEw AY3hD09Wp4q3Y2jsCm45f4mOzb+YrHJIbg/99RZKu4rNBC7eDV0qjKfrFuGuntswrPsV goiw== X-Gm-Message-State: AOJu0YwAcWs3LhszcXQbDFuhNgv7PQXherCYG/dCLiuw64ZfAtofSQuT nEOfiBiT5L/99eJ+ZhfUuIX0r1v4hKOxOa6t6y6cgd3bcp5C7yzr1VD9hh9jvmhCWXfLWk7kISV lG4zmqEBQVvoFjhuzLBe1DCQsfvoq5c/50w7x2LEwmRSCWuIyGva71OI7+6HS X-Gm-Gg: ASbGncuLmGmY9by8299LxeZFbD1H98S+54RlbGGsNsvWEaO9q6X1yZO6meIALq8L7k+ j7URkL4fyQAr49UGFD9EfY61vURiE3zh5ZJ1lpG2COVqbdBFcYyEtjX+afvr8snkN2Y+OCGz7am KK+Utnl1Jqej1f+svztWjFeACojlN8vVRpxG9Y/LZBVsENwheWFHT3W16Hq6U/JOoUfMNGsP2tM uqYDSHU9TfA9SzueDznAlh97SlrAWMYXVzT+5RB4VxBEjEeZc9TiwwK+T3uTs1VrN7BL1npsYp+ Nd4srhtuMGoMstppGPRHPZ413kbtZznDRSlDFDdQVdc9rjBPVQ== X-Google-Smtp-Source: AGHT+IGLvcY8uvpeC7MnyzwyD9uo2EJEhHwap1sQD17S53izmqmOyMWtLzyrbvpExgxwT9SZHi8ZZ6tajFdG X-Received: by 2002:a17:903:22c9:b0:235:f3df:bc26 with SMTP id d9443c01a7336-23e3b766031mr184885325ad.3.1753129053259; Mon, 21 Jul 2025 13:17:33 -0700 (PDT) Received: from postal.iol.unh.edu (postal.iol.unh.edu. [2606:4100:3880:1234::84]) by smtp-relay.gmail.com with ESMTPS id d9443c01a7336-23e3b5f7929sm4647455ad.22.2025.07.21.13.17.33 (version=TLS1_2 cipher=ECDHE-ECDSA-AES128-GCM-SHA256 bits=128/128); Mon, 21 Jul 2025 13:17:33 -0700 (PDT) X-Relaying-Domain: iol.unh.edu Date: Mon, 21 Jul 2025 13:17:33 -0700 (PDT) Message-ID: <687ea05d.170a0220.1a0467.7497SMTPIN_ADDED_MISSING@mx.google.com> Received: from [172.21.0.3] (unknown [172.18.0.240]) by postal.iol.unh.edu (Postfix) with ESMTP id 2ED68604D420; Mon, 21 Jul 2025 16:17:32 -0400 (EDT) Subject: |SUCCESS| pw155397 [PATCH] [v2] app/test-cmdline: add test to Window From: dpdklab@iol.unh.edu To: Test Report Cc: dpdk-test-reports@iol.unh.edu In-Reply-To: <1753121912-31321-1-git-send-email-andremue@linux.microsoft.com> References: <1753121912-31321-1-git-send-email-andremue@linux.microsoft.com> Content-Type: text/plain X-BeenThere: test-report@dpdk.org X-Mailman-Version: 2.1.29 Precedence: list List-Id: automatic DPDK test reports List-Unsubscribe: , List-Archive: List-Post: List-Help: List-Subscribe: , Errors-To: test-report-bounces@dpdk.org Test-Label: iol-compile-amd64-testing Test-Status: SUCCESS http://dpdk.org/patch/155397 _Testing PASS_ Submitter: Andre Muezerie Date: Monday, July 21 2025 18:18:32 DPDK git baseline: Repo:dpdk Branch: master CommitID:3795e96fc862e2b65aa8951f6661420510c87328 155397 --> testing pass Upstream job id: Generic-DPDK-Compile-Meson#410635 Test environment and result as below: +-------------------------------+--------------------+-------------------+------------------+-------------------------+-------------------+----------------------+ | Environment | dpdk_meson_compile | dpdk_compile_spdk | dpdk_compile_ovs | dpdk_llvm_clang_compile | dpdk_msvc_compile | dpdk_mingw64_compile | +===============================+====================+===================+==================+=========================+===================+======================+ | CentOS Stream 9 | PASS | PASS | SKIPPED | SKIPPED | SKIPPED | SKIPPED | +-------------------------------+--------------------+-------------------+------------------+-------------------------+-------------------+----------------------+ | Fedora Linux 40 | PASS | PASS | SKIPPED | SKIPPED | SKIPPED | SKIPPED | +-------------------------------+--------------------+-------------------+------------------+-------------------------+-------------------+----------------------+ | CentOS Stream 10 | PASS | SKIPPED | SKIPPED | SKIPPED | SKIPPED | SKIPPED | +-------------------------------+--------------------+-------------------+------------------+-------------------------+-------------------+----------------------+ | Debian GNU/Linux 12 | PASS | PASS | SKIPPED | SKIPPED | SKIPPED | SKIPPED | +-------------------------------+--------------------+-------------------+------------------+-------------------------+-------------------+----------------------+ | openSUSE Leap 15.6 | PASS | SKIPPED | SKIPPED | SKIPPED | SKIPPED | SKIPPED | +-------------------------------+--------------------+-------------------+------------------+-------------------------+-------------------+----------------------+ | Fedora Linux 41 | PASS | PASS | PASS | SKIPPED | SKIPPED | SKIPPED | +-------------------------------+--------------------+-------------------+------------------+-------------------------+-------------------+----------------------+ | Ubuntu 24.04 | PASS | PASS | PASS | SKIPPED | SKIPPED | SKIPPED | +-------------------------------+--------------------+-------------------+------------------+-------------------------+-------------------+----------------------+ | Ubuntu 20.04 | PASS | SKIPPED | SKIPPED | SKIPPED | SKIPPED | SKIPPED | +-------------------------------+--------------------+-------------------+------------------+-------------------------+-------------------+----------------------+ | Red Hat Enterprise Linux 9.5 | PASS | SKIPPED | SKIPPED | SKIPPED | SKIPPED | SKIPPED | +-------------------------------+--------------------+-------------------+------------------+-------------------------+-------------------+----------------------+ | Red Hat Enterprise Linux 8.10 | PASS | SKIPPED | SKIPPED | SKIPPED | SKIPPED | SKIPPED | +-------------------------------+--------------------+-------------------+------------------+-------------------------+-------------------+----------------------+ | Ubuntu 22.04 | PASS | PASS | SKIPPED | SKIPPED | SKIPPED | SKIPPED | +-------------------------------+--------------------+-------------------+------------------+-------------------------+-------------------+----------------------+ | Alpine Linux 3.22.0 | PASS | SKIPPED | SKIPPED | SKIPPED | SKIPPED | SKIPPED | +-------------------------------+--------------------+-------------------+------------------+-------------------------+-------------------+----------------------+ | FreeBSD 14.2 | PASS | SKIPPED | SKIPPED | SKIPPED | SKIPPED | SKIPPED | +-------------------------------+--------------------+-------------------+------------------+-------------------------+-------------------+----------------------+ | Windows Server 2022 | SKIPPED | SKIPPED | SKIPPED | PASS | PASS | PASS | +-------------------------------+--------------------+-------------------+------------------+-------------------------+-------------------+----------------------+ CentOS Stream 9 Kernel: 5.15 Compiler: gcc gcc (GCC) 11.5.0 20240719 (Red Hat 11.5.0-7) Fedora Linux 40 Kernel: 5.15 Compiler: gcc gcc (GCC) 14.2.1 20240912 (Red Hat 14.2.1-3) CentOS Stream 10 Kernel: 5.15 Compiler: gcc gcc (GCC) 14.2.1 20250110 (Red Hat 14.2.1-8) Debian GNU/Linux 12 Kernel: 5.15 Compiler: gcc gcc (Debian 12.2.0-14+deb12u1) 12.2.0 openSUSE Leap 15.6 Kernel: 5.15 Compiler: gcc gcc (SUSE Linux) 7.5.0 Fedora Linux 41 Kernel: 5.15 Compiler: gcc gcc (GCC) 14.3.1 20250523 (Red Hat 14.3.1-1) Ubuntu 24.04 Kernel: 5.15 Compiler: gcc gcc (Ubuntu 13.3.0-6ubuntu2~24.04) 13.3.0 Ubuntu 20.04 Kernel: 4.19 Compiler: gcc gcc (Ubuntu 9.4.0-1ubuntu1~20.04.2) 9.4.0 Red Hat Enterprise Linux 9.5 Kernel: 5.15 Compiler: gcc gcc (GCC) 11.5.0 20240719 (Red Hat 11.5.0-2) Red Hat Enterprise Linux 8.10 Kernel: 5.15 Compiler: gcc gcc (GCC) 8.5.0 20210514 (Red Hat 8.5.0-22) Ubuntu 22.04 Kernel: 5.15 Compiler: gcc gcc (Ubuntu 11.4.0-1ubuntu1~22.04) 11.4.0 Alpine Linux 3.22.0 Kernel: 5.15 Compiler: gcc gcc (Alpine 14.2.0) 14.2.0 FreeBSD 14.2 Kernel: 14.2-RELEASE Compiler: clang 18.1.6 Windows Server 2022 Kernel: 10.0.20348.2031 Compiler: clang 15.0.7, gcc 14.1.0 (MinGW), and MSVC VS 19.39.33521 To view detailed results, visit: https://lab.dpdk.org/results/dashboard/patchsets/33714/ UNH-IOL DPDK Community Lab To manage your email subscriptions, visit: https://lab.dpdk.org/results/dashboard/preferences/subscriptions/