From mboxrd@z Thu Jan 1 00:00:00 1970 Return-Path: Received: from mails.dpdk.org (mails.dpdk.org [217.70.189.124]) by inbox.dpdk.org (Postfix) with ESMTP id 719BA46BDA for ; Mon, 21 Jul 2025 22:27:41 +0200 (CEST) Received: from mails.dpdk.org (localhost [127.0.0.1]) by mails.dpdk.org (Postfix) with ESMTP id 4B5FE4021E; Mon, 21 Jul 2025 22:27:41 +0200 (CEST) Received: from mail-il1-f227.google.com (mail-il1-f227.google.com [209.85.166.227]) by mails.dpdk.org (Postfix) with ESMTP id 3F62F4021E for ; Mon, 21 Jul 2025 22:27:39 +0200 (CEST) Received: by mail-il1-f227.google.com with SMTP id e9e14a558f8ab-3de2b02c69eso17118045ab.1 for ; Mon, 21 Jul 2025 13:27:39 -0700 (PDT) DKIM-Signature: v=1; a=rsa-sha256; c=relaxed/relaxed; d=iol.unh.edu; s=unh-iol; t=1753129658; x=1753734458; darn=dpdk.org; h=references:in-reply-to:cc:to:from:subject:message-id:date:from:to :cc:subject:date:message-id:reply-to; bh=PYaShh5nnClclZrrkycgDWJ9WhmYzMxpY539cp2gGCk=; b=fTzsgKSMdW+dR8uC/3NkgrX798PaFTjMvKXu3PCZctBIGdTB02snhtvlbpnRXzf4qs LRH0RA01iRPRqsmB071XEQIzeMWiKKOQM1iZa75OyU5fQQZ456xt2GC7NCUf7UdwfZRF /xzUTxqa02K3UxvwBaEdaQrL+qPeYqzSFLapI= X-Google-DKIM-Signature: v=1; a=rsa-sha256; c=relaxed/relaxed; d=1e100.net; s=20230601; t=1753129658; x=1753734458; h=references:in-reply-to:cc:to:from:subject:message-id:date :x-gm-message-state:from:to:cc:subject:date:message-id:reply-to; bh=PYaShh5nnClclZrrkycgDWJ9WhmYzMxpY539cp2gGCk=; b=uaG+h1hTWsnwKAj+gNtHDzjPpPwz4KJLgasmzhgd3hTREViGui7HGw512x8AN/J2BO ltcbcVwDB/14AyZhbcmF+IhGA+ZETTNGw33G9FRCNF7tcWmDKDE95sd/wbnr95XPKLGv KtD966p5Fy3su+sAbmZMxiiSPYpCXXELSQ44IHf5o4cNuh35r7GEXZh8j3RkNmu/JZ/w 7Tx5JQBB40Jz1M1ci/wTJDUBhek68fyc+L4GA+sltXdr5j/rdWoSAgDH7/11WMijiCxF d5p6VtWdfzhgjhQVRH0c2IhayCkALr3XkeyYAJxgTPIZqqylxXUWnwVh2AA2vJ8kt4yy +Wgg== X-Gm-Message-State: AOJu0YyA/flG7+0VwZrZTlPLEXwns/la7KWqRMEOi/44zpm1Z2mHoSSz yBdKmlBld4RtNBn+bjDBq7lWwmFgDUKxB4OfhxTHp1ta50uf56lcurifP+jBO+YEnJ4Oetx2Lfk 5uUFDP5SU4ubPq7T0qsE6uRjp2p5X93vXTh5V59gb2MvjztIecaDJGVAiif3S X-Gm-Gg: ASbGncu6OmbnHTXH05ImSLk16sntbG3C/3lyWw7SEWBFNfC4msuJr0QMWiFLHZd8iyd kJZdOIFr9x3cm0JcVKJ6y1F/sxgiryjJk8Z0OirA7PxiMnztjfCCIxBGz80SzBJdP2vSWpMWMRY 0cecvHRvY6HTWeZi79bb9So12o9WLvsN+PsUfoiL3iy6ZVWHfTtd7s3dol/MEaVZH15a2ofGYyN BDrM/F0YNVbTIkZwncjmv5tdYYI3sndnHnnc7emLcXKEBDU2LlK0ZG2nnssb2aOqhu1fbYQIrXe dFf4JHZrXDq6+Qv9PmHu86srmUraRyfB9bXAD5SsJjzzG2eh5g== X-Google-Smtp-Source: AGHT+IEDK3ZdxNR+Zriyh9U5/TOjCxlpdnBYpO0BHg86cTDvwaEpbcOR5gw2fbAgBnACQ4eJMuJI2MVuQJLj X-Received: by 2002:a05:6e02:5e81:b0:3e2:98b8:e102 with SMTP id e9e14a558f8ab-3e298b8e324mr143779625ab.18.1753129658367; Mon, 21 Jul 2025 13:27:38 -0700 (PDT) Received: from postal.iol.unh.edu (postal.iol.unh.edu. [2606:4100:3880:1234::84]) by smtp-relay.gmail.com with ESMTPS id e9e14a558f8ab-3e29836f3c4sm5559055ab.43.2025.07.21.13.27.38 (version=TLS1_2 cipher=ECDHE-ECDSA-AES128-GCM-SHA256 bits=128/128); Mon, 21 Jul 2025 13:27:38 -0700 (PDT) X-Relaying-Domain: iol.unh.edu Date: Mon, 21 Jul 2025 13:27:38 -0700 (PDT) Message-ID: <687ea2ba.050a0220.b62c9.e227SMTPIN_ADDED_MISSING@mx.google.com> Received: from [172.21.0.2] (unknown [172.18.0.240]) by postal.iol.unh.edu (Postfix) with ESMTP id BF7EA604D420; Mon, 21 Jul 2025 16:27:37 -0400 (EDT) Subject: |SUCCESS| pw155398 [PATCH] [v3] test_bbdev: enable to be compiled on From: dpdklab@iol.unh.edu To: Test Report Cc: dpdk-test-reports@iol.unh.edu In-Reply-To: <1753122671-2645-1-git-send-email-andremue@linux.microsoft.com> References: <1753122671-2645-1-git-send-email-andremue@linux.microsoft.com> Content-Type: text/plain X-BeenThere: test-report@dpdk.org X-Mailman-Version: 2.1.29 Precedence: list List-Id: automatic DPDK test reports List-Unsubscribe: , List-Archive: List-Post: List-Help: List-Subscribe: , Errors-To: test-report-bounces@dpdk.org Test-Label: iol-unit-amd64-testing Test-Status: SUCCESS http://dpdk.org/patch/155398 _Testing PASS_ Submitter: Andre Muezerie Date: Monday, July 21 2025 18:31:11 DPDK git baseline: Repo:dpdk Branch: master CommitID:3795e96fc862e2b65aa8951f6661420510c87328 155398 --> testing pass Upstream job id: Generic-VM-Unit-Test-DPDK#30074 Test environment and result as below: +-------------------------------+----------------+ | Environment | dpdk_unit_test | +===============================+================+ | CentOS Stream 10 | PASS | +-------------------------------+----------------+ | CentOS Stream 9 | PASS | +-------------------------------+----------------+ | Fedora Linux 41 | PASS | +-------------------------------+----------------+ | Debian GNU/Linux 12 | PASS | +-------------------------------+----------------+ | Fedora Linux 40 | PASS | +-------------------------------+----------------+ | Red Hat Enterprise Linux 8.10 | PASS | +-------------------------------+----------------+ | Ubuntu 22.04 | PASS | +-------------------------------+----------------+ | Ubuntu 20.04 | PASS | +-------------------------------+----------------+ | Red Hat Enterprise Linux 9.5 | PASS | +-------------------------------+----------------+ | Ubuntu 24.04 | PASS | +-------------------------------+----------------+ | Windows Server 2022 | PASS | +-------------------------------+----------------+ CentOS Stream 10 Kernel: 5.15 Compiler: gcc gcc (GCC) 14.2.1 20250110 (Red Hat 14.2.1-8) CentOS Stream 9 Kernel: 5.15 Compiler: gcc gcc (GCC) 11.5.0 20240719 (Red Hat 11.5.0-7) Fedora Linux 41 Kernel: 5.15 Compiler: gcc gcc (GCC) 14.3.1 20250523 (Red Hat 14.3.1-1) Debian GNU/Linux 12 Kernel: 5.15 Compiler: gcc gcc (Debian 12.2.0-14+deb12u1) 12.2.0 Fedora Linux 40 Kernel: 5.15 Compiler: clang gcc (GCC) 14.2.1 20240912 (Red Hat 14.2.1-3) Red Hat Enterprise Linux 8.10 Kernel: 5.15 Compiler: gcc gcc (GCC) 8.5.0 20210514 (Red Hat 8.5.0-22) Ubuntu 22.04 Kernel: 5.15 Compiler: gcc gcc (Ubuntu 11.4.0-1ubuntu1~22.04) 11.4.0 Ubuntu 20.04 Kernel: 5.15 Compiler: gcc gcc (Ubuntu 9.4.0-1ubuntu1~20.04.2) 9.4.0 Red Hat Enterprise Linux 9.5 Kernel: 5.15 Compiler: gcc gcc (GCC) 11.5.0 20240719 (Red Hat 11.5.0-2) Ubuntu 24.04 Kernel: 5.15 Compiler: gcc gcc (Ubuntu 13.3.0-6ubuntu2~24.04) 13.3.0 Windows Server 2022 Kernel: 10.0.20348.2031 Compiler: clang 15.0.7, gcc 14.1.0 (MinGW), and MSVC VS 19.39.33521 To view detailed results, visit: https://lab.dpdk.org/results/dashboard/patchsets/33715/ UNH-IOL DPDK Community Lab To manage your email subscriptions, visit: https://lab.dpdk.org/results/dashboard/preferences/subscriptions/