From mboxrd@z Thu Jan 1 00:00:00 1970 Return-Path: Received: from mails.dpdk.org (mails.dpdk.org [217.70.189.124]) by inbox.dpdk.org (Postfix) with ESMTP id 46BF546BDA for ; Mon, 21 Jul 2025 22:36:58 +0200 (CEST) Received: from mails.dpdk.org (localhost [127.0.0.1]) by mails.dpdk.org (Postfix) with ESMTP id 202314021E; Mon, 21 Jul 2025 22:36:58 +0200 (CEST) Received: from mail-qv1-f99.google.com (mail-qv1-f99.google.com [209.85.219.99]) by mails.dpdk.org (Postfix) with ESMTP id D36634021E for ; Mon, 21 Jul 2025 22:36:55 +0200 (CEST) Received: by mail-qv1-f99.google.com with SMTP id 6a1803df08f44-6fabb948e5aso48690916d6.1 for ; Mon, 21 Jul 2025 13:36:55 -0700 (PDT) DKIM-Signature: v=1; a=rsa-sha256; c=relaxed/relaxed; d=iol.unh.edu; s=unh-iol; t=1753130215; x=1753735015; darn=dpdk.org; h=references:in-reply-to:cc:to:from:subject:message-id:date:from:to :cc:subject:date:message-id:reply-to; bh=NnY/0ypigOCxpSU50I5ag/4IT0OY7qoKL6FbOOeLw2I=; b=NtuLSCuy3urk5plafeNKNep/i7en4mu5RlBZrLnwQMl1mZGCl1LzDUhdt27kakJuRl HHCI27tDTQz1Q9gq/sJZHJ9h598P+98guJSc8FaPpFb/cSkmW474qjg4CwrqiQOujRJy a2DXmwl6G9NXp25Pd5hZ+UcccdUEsEQ4zwFKI= X-Google-DKIM-Signature: v=1; a=rsa-sha256; c=relaxed/relaxed; d=1e100.net; s=20230601; t=1753130215; x=1753735015; h=references:in-reply-to:cc:to:from:subject:message-id:date :x-gm-message-state:from:to:cc:subject:date:message-id:reply-to; bh=NnY/0ypigOCxpSU50I5ag/4IT0OY7qoKL6FbOOeLw2I=; b=Ao9pynWL1vzzXR7Fpa6PvZhduR/DssxxV5ehANi5XMhs0mRIRa7txuJczhi3j43eIJ /1mk+NQ9nm/EMlltklBKtu8EmfuyPG+O+zFKEElkfMpxIsooVqNedmomBjXvhSVzqVdx 7VkE+W5Ay1sxQcje8qw0e01SJJmKFghuzQzIOCz1oFupDJysscYgBXkbrBmT13sAiTjn 1qAyIF6KWzu1du8MHB9bOBjeAwPl7VtevwqZEW5FSdmtxRa5YVTfjvRiZ3wGNRjyde42 I/1hxshFZ8V3s6thARfiLR+/Wh16cIFqkUEOIQnL+LYeOuhDnXw4lX8jUHCDaWOQgk6K Fc/A== X-Gm-Message-State: AOJu0YxcoOrflVnfHKE6qZzthHRs6VjcvJpzR+NG1qRZm8CRdS2b0KWL 1/01rSHnz8K1z1mDpO9BNd4FjOc1qTZuTfKNEJr/yl6lhOlJ/QJGlXIelB7zoA11wDDnRnu1CTa XC/ctzOaKvp2zbuDmhfKrCNh8nVRev/c1M89qgKBY14FU2BIUvHq7scn7IhGH X-Gm-Gg: ASbGncvhaG587Eb2T0CIjgvjBm0XeibkKqBBBrPeAaXqlbqRjbdedKDOe6adg98U9pZ P2l6q6hC3XKsOJ2G+VPbxoRH83GQS4D6N2LAtPrbA7wBtOMbDPkvKqL/h+Gy/eEmMvd1ewYQ0cV HyxQM5Vom3wEaSmEw667FD1DJb8mogI7D722CCpRLUync5M/MelcT1IdwI8t/0+PPSmC7ztBFAs FMx2euzkaHfqWfRjZy9mHYt1utalyxJTqpjvDDSA418ynTT9+QL5h9QYSILL2k7guKu5pxzJ7Cg GDKl54BUR+Xzy3F9PtlfNoub8IGL1kJvdrbBfgXBrbFT7FBfng== X-Google-Smtp-Source: AGHT+IEjpnUZ4zfj69+AfYih/ickkT8qK2CWuPOgl9iRV6JztZgs7lv/sFHoBXscAZDl0CvfYmjiMWDxQqie X-Received: by 2002:a05:6214:c2f:b0:702:da1d:7b6 with SMTP id 6a1803df08f44-704f6b5c804mr362021496d6.39.1753130214932; Mon, 21 Jul 2025 13:36:54 -0700 (PDT) Received: from postal.iol.unh.edu (postal.iol.unh.edu. [2606:4100:3880:1234::84]) by smtp-relay.gmail.com with ESMTPS id 6a1803df08f44-7051bccef75sm4227376d6.40.2025.07.21.13.36.54 (version=TLS1_2 cipher=ECDHE-ECDSA-AES128-GCM-SHA256 bits=128/128); Mon, 21 Jul 2025 13:36:54 -0700 (PDT) X-Relaying-Domain: iol.unh.edu Date: Mon, 21 Jul 2025 13:36:54 -0700 (PDT) Message-ID: <687ea4e6.d40a0220.17d395.4ff9SMTPIN_ADDED_MISSING@mx.google.com> Received: from [172.21.0.2] (unknown [172.18.0.240]) by postal.iol.unh.edu (Postfix) with ESMTP id AC81A604D420; Mon, 21 Jul 2025 16:36:54 -0400 (EDT) Subject: |SUCCESS| pw155398 [PATCH] [v3] test_bbdev: enable to be compiled on From: dpdklab@iol.unh.edu To: Test Report Cc: dpdk-test-reports@iol.unh.edu In-Reply-To: <1753122671-2645-1-git-send-email-andremue@linux.microsoft.com> References: <1753122671-2645-1-git-send-email-andremue@linux.microsoft.com> Content-Type: text/plain X-BeenThere: test-report@dpdk.org X-Mailman-Version: 2.1.29 Precedence: list List-Id: automatic DPDK test reports List-Unsubscribe: , List-Archive: List-Post: List-Help: List-Subscribe: , Errors-To: test-report-bounces@dpdk.org Test-Label: iol-unit-amd64-testing Test-Status: SUCCESS http://dpdk.org/patch/155398 _Testing PASS_ Submitter: Andre Muezerie Date: Monday, July 21 2025 18:31:11 DPDK git baseline: Repo:dpdk Branch: master CommitID:3795e96fc862e2b65aa8951f6661420510c87328 155398 --> testing pass Upstream job id: Generic-VM-Unit-Test-DPDK#30075 Test environment and result as below: +-------------------------------+----------------+ | Environment | dpdk_unit_test | +===============================+================+ | CentOS Stream 10 | PASS | +-------------------------------+----------------+ | CentOS Stream 9 | PASS | +-------------------------------+----------------+ | Fedora Linux 41 | PASS | +-------------------------------+----------------+ | Debian GNU/Linux 12 | PASS | +-------------------------------+----------------+ | Fedora Linux 40 | PASS | +-------------------------------+----------------+ | Red Hat Enterprise Linux 8.10 | PASS | +-------------------------------+----------------+ | Ubuntu 22.04 | PASS | +-------------------------------+----------------+ | Ubuntu 20.04 | PASS | +-------------------------------+----------------+ | Red Hat Enterprise Linux 9.5 | PASS | +-------------------------------+----------------+ | Ubuntu 24.04 | PASS | +-------------------------------+----------------+ | Windows Server 2022 | PASS | +-------------------------------+----------------+ CentOS Stream 10 Kernel: 5.15 Compiler: gcc gcc (GCC) 14.2.1 20250110 (Red Hat 14.2.1-8) CentOS Stream 9 Kernel: 5.15 Compiler: gcc gcc (GCC) 11.5.0 20240719 (Red Hat 11.5.0-7) Fedora Linux 41 Kernel: 5.15 Compiler: gcc gcc (GCC) 14.3.1 20250523 (Red Hat 14.3.1-1) Debian GNU/Linux 12 Kernel: 5.15 Compiler: gcc gcc (Debian 12.2.0-14+deb12u1) 12.2.0 Fedora Linux 40 Kernel: 5.15 Compiler: clang gcc (GCC) 14.2.1 20240912 (Red Hat 14.2.1-3) Red Hat Enterprise Linux 8.10 Kernel: 5.15 Compiler: gcc gcc (GCC) 8.5.0 20210514 (Red Hat 8.5.0-22) Ubuntu 22.04 Kernel: 5.15 Compiler: gcc gcc (Ubuntu 11.4.0-1ubuntu1~22.04) 11.4.0 Ubuntu 20.04 Kernel: 5.15 Compiler: gcc gcc (Ubuntu 9.4.0-1ubuntu1~20.04.2) 9.4.0 Red Hat Enterprise Linux 9.5 Kernel: 5.15 Compiler: gcc gcc (GCC) 11.5.0 20240719 (Red Hat 11.5.0-2) Ubuntu 24.04 Kernel: 5.15 Compiler: gcc gcc (Ubuntu 13.3.0-6ubuntu2~24.04) 13.3.0 Windows Server 2022 Kernel: 10.0.20348.2031 Compiler: clang 15.0.7, gcc 14.1.0 (MinGW), and MSVC VS 19.39.33521 To view detailed results, visit: https://lab.dpdk.org/results/dashboard/patchsets/33715/ UNH-IOL DPDK Community Lab To manage your email subscriptions, visit: https://lab.dpdk.org/results/dashboard/preferences/subscriptions/