From mboxrd@z Thu Jan 1 00:00:00 1970 Return-Path: Received: from mails.dpdk.org (mails.dpdk.org [217.70.189.124]) by inbox.dpdk.org (Postfix) with ESMTP id 3F82346BDA for ; Mon, 21 Jul 2025 22:56:15 +0200 (CEST) Received: from mails.dpdk.org (localhost [127.0.0.1]) by mails.dpdk.org (Postfix) with ESMTP id 1851B4021E; Mon, 21 Jul 2025 22:56:15 +0200 (CEST) Received: from mail-vk1-f226.google.com (mail-vk1-f226.google.com [209.85.221.226]) by mails.dpdk.org (Postfix) with ESMTP id 83C4F4021E for ; Mon, 21 Jul 2025 22:56:13 +0200 (CEST) Received: by mail-vk1-f226.google.com with SMTP id 71dfb90a1353d-5315acf37b6so1134256e0c.2 for ; Mon, 21 Jul 2025 13:56:13 -0700 (PDT) DKIM-Signature: v=1; a=rsa-sha256; c=relaxed/relaxed; d=iol.unh.edu; s=unh-iol; t=1753131373; x=1753736173; darn=dpdk.org; h=references:in-reply-to:cc:to:from:subject:message-id:date:from:to :cc:subject:date:message-id:reply-to; bh=ndRNB8SRTBFarjBVXfQeu4hA6LAPABwJ8creqeWjfgA=; b=TRjDng7TrW1MuObd3/KzXo1+U701UbfDFPhjq/7R6QHZtRYQhvc0Zte9m8L+x3alAQ xOSvAe+8l4M8X+Jdsl12I4/VuvrmjrnptX6Yd2NhnYY4wrOKYzMKs5sR98vq5rsDzzg8 X08DP3jU2DKFz7nMdaEj5o/JyBzXGgoHXfqpo= X-Google-DKIM-Signature: v=1; a=rsa-sha256; c=relaxed/relaxed; d=1e100.net; s=20230601; t=1753131373; x=1753736173; h=references:in-reply-to:cc:to:from:subject:message-id:date :x-gm-message-state:from:to:cc:subject:date:message-id:reply-to; bh=ndRNB8SRTBFarjBVXfQeu4hA6LAPABwJ8creqeWjfgA=; b=fkpcFbxXbW++yMjQ4dcRyzCwF5/d0IaI25YBcxrOGECgaof7918Kx9zoSqlGM13pll JpdcI7plLbAem85+VQLuXLqU3WlgWZO5RJQ8Z9ZRnLK3iw/Wm4mme37Nbjj/ZbCZLE8O cE+EvGpDrM39uT0tr7TCDuZlOl55IGLO87cKYOjGDy+g6bCgiO0PV+yk8ZN7ff8HZ/1+ x0Yw4ep5pNw3SHSlw1U6G5P08wlDz2ZIVKC0Dki/Z8ZZsO2+bSmG/8aBrhSNiuIVGl3Z jvr1OGpQWt5bqdenyhpnTEXxXDah+VYSR6Fz5Y6J0xoLXF6lbgv7b3XL0U65CGXFTIce x/xg== X-Gm-Message-State: AOJu0Yzyo8z1L59mOOwfz1q+gWpRyqk2/Izla9aBg9hxWZBuJvMg5ZXD /WGWydvxe+gto1N9V6O4wRZEdapV9dRMB2LWvD0TwYsZaLI1Vy39oqaOKqivIgf6XUH7oilcbiI 96SPUH2uIVr095Dvu8HV8L8d5nKl73F5oGFILDhTUnAUa X-Gm-Gg: ASbGncsw/poeZTle5HenyEcctKlhkcv3bRpZHfuAbXmOXdG9SJ01em3F5WB4fOw53JN c/XbSCSO0S6wHD8tWtyh23k/Mv6nP5zj00aQ597iluWMTAS+9i39QwDeWstczZLQHcGxhytqTLK U5SSvXU436GDaZN/t1MUP1EfJeSjO/QcTux+Qns8QVllJOqFoxux4eOUgOHcPEFg8i6x23jYkup VZFJe35pmB6KFw/QeVWp9dCCFNJ2YiypaMjk43sbVXoS0HWJI/nQAySkkr5OxxmJFWdPgHZfimt a8NGprS0XSD9K4X6zux7EfjZhLfTar5YfNynZz4WjzbBm4uahP997KM5DMt0PxLzck0C2VEj X-Google-Smtp-Source: AGHT+IGhu/zj5Op05LCKUHYXU2tJ8nkjjCgvWDbh7St1gQsMGKpcyWjDrOPztEwTnSOJT6Qpl7A1/uj7lOta X-Received: by 2002:a05:6122:201a:b0:535:e714:70af with SMTP id 71dfb90a1353d-5373fcb7e04mr8972651e0c.7.1753131372689; Mon, 21 Jul 2025 13:56:12 -0700 (PDT) Received: from postal.iol.unh.edu (postal.iol.unh.edu. [132.177.123.84]) by smtp-relay.gmail.com with ESMTPS id 71dfb90a1353d-53764d3f6ddsm447497e0c.2.2025.07.21.13.56.12 (version=TLS1_2 cipher=ECDHE-ECDSA-AES128-GCM-SHA256 bits=128/128); Mon, 21 Jul 2025 13:56:12 -0700 (PDT) X-Relaying-Domain: iol.unh.edu Date: Mon, 21 Jul 2025 13:56:12 -0700 (PDT) Message-ID: <687ea96c.050a0220.268771.656dSMTPIN_ADDED_MISSING@mx.google.com> Received: from [172.21.0.4] (unknown [172.18.0.240]) by postal.iol.unh.edu (Postfix) with ESMTP id 5DEDC604D420; Mon, 21 Jul 2025 16:56:12 -0400 (EDT) Subject: |SUCCESS| pw155396 [PATCH] mailmap: keep only one name per contribut From: dpdklab@iol.unh.edu To: Test Report Cc: dpdk-test-reports@iol.unh.edu In-Reply-To: <20250721154403.2688034-1-david.marchand@redhat.com> References: <20250721154403.2688034-1-david.marchand@redhat.com> Content-Type: text/plain X-BeenThere: test-report@dpdk.org X-Mailman-Version: 2.1.29 Precedence: list List-Id: automatic DPDK test reports List-Unsubscribe: , List-Archive: List-Post: List-Help: List-Subscribe: , Errors-To: test-report-bounces@dpdk.org Test-Label: iol-compile-arm64-testing Test-Status: SUCCESS http://dpdk.org/patch/155396 _Testing PASS_ Submitter: David Marchand Date: Monday, July 21 2025 15:44:01 DPDK git baseline: Repo:dpdk Branch: master CommitID:2f4cd1b4dbaec6633da510da67c2213cfd2bd359 155396 --> testing pass Upstream job id: Generic-DPDK-Compile-Meson#410605 Test environment and result as below: +------------------------------+--------------------+ | Environment | dpdk_meson_compile | +==============================+====================+ | Fedora Linux 40 | PASS | +------------------------------+--------------------+ | Debian GNU/Linux 12 | PASS | +------------------------------+--------------------+ | Red Hat Enterprise Linux 9.5 | PASS | +------------------------------+--------------------+ | Ubuntu 20.04 | PASS | +------------------------------+--------------------+ | CentOS Stream 9 | PASS | +------------------------------+--------------------+ | Ubuntu 22.04 | PASS | +------------------------------+--------------------+ | Fedora Linux 41 | PASS | +------------------------------+--------------------+ | Ubuntu 24.04 | PASS | +------------------------------+--------------------+ | CentOS Stream 10 | PASS | +------------------------------+--------------------+ Fedora Linux 40 Kernel: 5.4 Compiler: gcc gcc (GCC) 14.2.1 20240912 (Red Hat 14.2.1-3) Debian GNU/Linux 12 Kernel: 5.4 Compiler: gcc gcc (Debian 12.2.0-14+deb12u1) 12.2.0 Red Hat Enterprise Linux 9.5 Kernel: 5.4 Compiler: gcc gcc (GCC) 11.5.0 20240719 (Red Hat 11.5.0-2) Ubuntu 20.04 Kernel: 5.15 Compiler: aarch64-linux-gnu-gcc gcc (Ubuntu 9.4.0-1ubuntu1~20.04.2) 9.4.0 CentOS Stream 9 Kernel: 5.4 Compiler: gcc gcc (GCC) 11.5.0 20240719 (Red Hat 11.5.0-7) Ubuntu 22.04 Kernel: 5.4 Compiler: gcc gcc (Ubuntu 11.4.0-1ubuntu1~22.04) 11.4.0 Fedora Linux 41 Kernel: 5.4 Compiler: gcc gcc (GCC) 14.3.1 20250523 (Red Hat 14.3.1-1) Ubuntu 24.04 Kernel: 5.4 Compiler: gcc gcc (Ubuntu 13.3.0-6ubuntu2~24.04) 13.3.0 CentOS Stream 10 Kernel: 5.4 Compiler: gcc gcc (GCC) 14.2.1 20250110 (Red Hat 14.2.1-8) To view detailed results, visit: https://lab.dpdk.org/results/dashboard/patchsets/33713/ UNH-IOL DPDK Community Lab To manage your email subscriptions, visit: https://lab.dpdk.org/results/dashboard/preferences/subscriptions/