From mboxrd@z Thu Jan 1 00:00:00 1970 Return-Path: Received: from mails.dpdk.org (mails.dpdk.org [217.70.189.124]) by inbox.dpdk.org (Postfix) with ESMTP id D6A0446BDA for ; Mon, 21 Jul 2025 23:53:26 +0200 (CEST) Received: from mails.dpdk.org (localhost [127.0.0.1]) by mails.dpdk.org (Postfix) with ESMTP id D1B3D4021E; Mon, 21 Jul 2025 23:53:26 +0200 (CEST) Received: from mail-pl1-f225.google.com (mail-pl1-f225.google.com [209.85.214.225]) by mails.dpdk.org (Postfix) with ESMTP id 468614021E for ; Mon, 21 Jul 2025 23:53:25 +0200 (CEST) Received: by mail-pl1-f225.google.com with SMTP id d9443c01a7336-235f9e87f78so44396925ad.2 for ; Mon, 21 Jul 2025 14:53:25 -0700 (PDT) DKIM-Signature: v=1; a=rsa-sha256; c=relaxed/relaxed; d=iol.unh.edu; s=unh-iol; t=1753134804; x=1753739604; darn=dpdk.org; h=references:in-reply-to:cc:to:from:subject:message-id:date:from:to :cc:subject:date:message-id:reply-to; bh=N3A3M2Ko9F9xXPygBmjWqwB0wQ6iETuqwSTfEBfdTVQ=; b=dU4GZw3KUNHR50a09xxgnWreq6z+VqNTSNNRW08xendKKYq1gxWXgmWYOMsxC7Vo7i O8GL/M65+TLrsY7gPm8QwSAfzTmHALlSxpjuF6jUugK7e9lh5oNf5ZvMnDZaGuwdg4U2 +hWvQxEDsDwaoVkPzfgcgfNX82wup7I2g+8iQ= X-Google-DKIM-Signature: v=1; a=rsa-sha256; c=relaxed/relaxed; d=1e100.net; s=20230601; t=1753134804; x=1753739604; h=references:in-reply-to:cc:to:from:subject:message-id:date :x-gm-message-state:from:to:cc:subject:date:message-id:reply-to; bh=N3A3M2Ko9F9xXPygBmjWqwB0wQ6iETuqwSTfEBfdTVQ=; b=mbf6hrugWibjED7QjvVSbYmFMC1EeVNLvX698jfmmqIbDG5nttny1tuBQHpGjpy7rU 7Rs/aH3ZdxTEbH/595AvsgIuOxY+NuowdoHRXY6tUrpQM9BOfRHvs0Goe93H7HaKyVbz 7Wd58RMJtoWDW4TLNQqbAakxr6ZSv7ObptbmxbL1y2ELART2hS7TvA0qdFsybXmJ7FpF cRwtXlo2hAOTnPcG9dUjlGN7aVVwFL08hPr5FOYL4GWIDGDUb3cR8VzoetvHUnA+mewb 0uJNgFFEh4yR6e1htVByfqma/OHbcCNGSitH88MvMXdkU1E5qeNPJGPzek4uD01hCkCP 2UGw== X-Gm-Message-State: AOJu0YzRf6YVDwKEf8FOsW0m/LQ5xxixRKpXjiPv1x/VxpkUpR8Ggjlv 1ZrsWZm3ohTel+2T/zqb5KKC743mq3Jbc+SoJZt6elDPAlti76KEz455bwLSB2i9uRJTKwb7jLK dnnoy3n/SrcQXCte7GsE/0XQhVcGlohbsPkqBxk0jA2CEEmcS5JYqTHw43rvQ X-Gm-Gg: ASbGncvyL9NPPhvHHRRE3IULWnncl2VBmGr01+mq7vDdjnwrgTQ6Eu8nZBN2VwWFym7 inQK2IBB3Rj+4mm3YbMZcYKIGO4SIe42t3q232CI2XqwUC71kI5Tmfb7H31NKsc7QtKQ96NwqRP iBCob1kM0NDlBW8BRXh+/1SmIyF62ooOJs5PskMnIRtvX7mS+LIP+EC96IL8pRhDdivfrpVmClZ tVhOpaHcJLwJM+J/Z7LM8LoWnlZ5QuLSkmALBPBvMGltAhhkwbmPdF8jOAgMd3bORQqajD+qCvh S3N5XnsuU7Rul/cDJBCYyBFtv09khKVXUOKrlZPZfOUx0xOWMw== X-Google-Smtp-Source: AGHT+IEjogcBECIQyaj+rZxaFuT6UCr3RJdVgH2klCqa2WkKkh2MeRXOt9j8lsBVsZ6vXBrVY4qEnNvV3F/A X-Received: by 2002:a17:903:2452:b0:21f:617a:f1b2 with SMTP id d9443c01a7336-23e25770d07mr389166605ad.46.1753134804438; Mon, 21 Jul 2025 14:53:24 -0700 (PDT) Received: from postal.iol.unh.edu (postal.iol.unh.edu. [2606:4100:3880:1234::84]) by smtp-relay.gmail.com with ESMTPS id d9443c01a7336-23e3b6df5efsm4755315ad.90.2025.07.21.14.53.24 (version=TLS1_2 cipher=ECDHE-ECDSA-AES128-GCM-SHA256 bits=128/128); Mon, 21 Jul 2025 14:53:24 -0700 (PDT) X-Relaying-Domain: iol.unh.edu Date: Mon, 21 Jul 2025 14:53:24 -0700 (PDT) Message-ID: <687eb6d4.170a0220.3acc12.ac70SMTPIN_ADDED_MISSING@mx.google.com> Received: from [172.21.0.2] (unknown [172.18.0.240]) by postal.iol.unh.edu (Postfix) with ESMTP id A76E9604D420; Mon, 21 Jul 2025 17:53:23 -0400 (EDT) Subject: |SUCCESS| pw155398 [PATCH] [v3] test_bbdev: enable to be compiled on From: dpdklab@iol.unh.edu To: Test Report Cc: dpdk-test-reports@iol.unh.edu In-Reply-To: <1753122671-2645-1-git-send-email-andremue@linux.microsoft.com> References: <1753122671-2645-1-git-send-email-andremue@linux.microsoft.com> Content-Type: text/plain X-BeenThere: test-report@dpdk.org X-Mailman-Version: 2.1.29 Precedence: list List-Id: automatic DPDK test reports List-Unsubscribe: , List-Archive: List-Post: List-Help: List-Subscribe: , Errors-To: test-report-bounces@dpdk.org Test-Label: iol-unit-arm64-testing Test-Status: SUCCESS http://dpdk.org/patch/155398 _Testing PASS_ Submitter: Andre Muezerie Date: Monday, July 21 2025 18:31:11 DPDK git baseline: Repo:dpdk Branch: master CommitID:3795e96fc862e2b65aa8951f6661420510c87328 155398 --> testing pass Upstream job id: Generic-Unit-Test-DPDK#356994 Test environment and result as below: +------------------------------+----------------+--------------+------------------------------+---------------------------+ | Environment | dpdk_unit_test | lpm_autotest | cryptodev_sw_snow3g_autotest | cryptodev_sw_zuc_autotest | +==============================+================+==============+==============================+===========================+ | CentOS Stream 9 | PASS | SKIPPED | SKIPPED | SKIPPED | +------------------------------+----------------+--------------+------------------------------+---------------------------+ | Fedora Linux 41 | PASS | SKIPPED | SKIPPED | SKIPPED | +------------------------------+----------------+--------------+------------------------------+---------------------------+ | Fedora Linux 40 | PASS | SKIPPED | SKIPPED | SKIPPED | +------------------------------+----------------+--------------+------------------------------+---------------------------+ | Debian GNU/Linux 12 | PASS | SKIPPED | SKIPPED | SKIPPED | +------------------------------+----------------+--------------+------------------------------+---------------------------+ | CentOS Stream 10 | PASS | SKIPPED | SKIPPED | SKIPPED | +------------------------------+----------------+--------------+------------------------------+---------------------------+ | Red Hat Enterprise Linux 9.5 | PASS | SKIPPED | SKIPPED | SKIPPED | +------------------------------+----------------+--------------+------------------------------+---------------------------+ | Ubuntu 22.04 | PASS | SKIPPED | SKIPPED | SKIPPED | +------------------------------+----------------+--------------+------------------------------+---------------------------+ | Ubuntu 20.04 | PASS | PASS | SKIPPED | SKIPPED | +------------------------------+----------------+--------------+------------------------------+---------------------------+ | Ubuntu 24.04 | PASS | SKIPPED | SKIPPED | SKIPPED | +------------------------------+----------------+--------------+------------------------------+---------------------------+ | Debian 12 (arm) | SKIPPED | SKIPPED | PASS | PASS | +------------------------------+----------------+--------------+------------------------------+---------------------------+ CentOS Stream 9 Kernel: 5.4 Compiler: gcc gcc (GCC) 11.5.0 20240719 (Red Hat 11.5.0-7) Fedora Linux 41 Kernel: 5.4 Compiler: gcc gcc (GCC) 14.3.1 20250523 (Red Hat 14.3.1-1) Fedora Linux 40 Kernel: 5.4 Compiler: gcc gcc (GCC) 14.2.1 20240912 (Red Hat 14.2.1-3) Debian GNU/Linux 12 Kernel: 5.4 Compiler: gcc gcc (Debian 12.2.0-14+deb12u1) 12.2.0 CentOS Stream 10 Kernel: 5.4 Compiler: gcc gcc (GCC) 14.2.1 20250110 (Red Hat 14.2.1-8) Red Hat Enterprise Linux 9.5 Kernel: 5.4 Compiler: gcc gcc (GCC) 11.5.0 20240719 (Red Hat 11.5.0-2) Ubuntu 22.04 Kernel: 5.4 Compiler: gcc gcc (Ubuntu 11.4.0-1ubuntu1~22.04) 11.4.0 Ubuntu 20.04 Kernel: 5.4 Compiler: gcc gcc (Ubuntu 9.4.0-1ubuntu1~20.04.2) 9.4.0 Ubuntu 24.04 Kernel: 5.4 Compiler: gcc gcc (Ubuntu 13.3.0-6ubuntu2~24.04) 13.3.0 Debian 12 (arm) Kernel: Depends on container host Compiler: gcc (Debian 12.2.0-14) 12.2.0 To view detailed results, visit: https://lab.dpdk.org/results/dashboard/patchsets/33715/ UNH-IOL DPDK Community Lab To manage your email subscriptions, visit: https://lab.dpdk.org/results/dashboard/preferences/subscriptions/