From mboxrd@z Thu Jan 1 00:00:00 1970 Return-Path: Received: from mails.dpdk.org (mails.dpdk.org [217.70.189.124]) by inbox.dpdk.org (Postfix) with ESMTP id 3EAAC46BDA for ; Tue, 22 Jul 2025 00:02:00 +0200 (CEST) Received: from mails.dpdk.org (localhost [127.0.0.1]) by mails.dpdk.org (Postfix) with ESMTP id 390BE4026C; Tue, 22 Jul 2025 00:02:00 +0200 (CEST) Received: from mail-vk1-f228.google.com (mail-vk1-f228.google.com [209.85.221.228]) by mails.dpdk.org (Postfix) with ESMTP id 2374B4026C for ; Tue, 22 Jul 2025 00:01:59 +0200 (CEST) Received: by mail-vk1-f228.google.com with SMTP id 71dfb90a1353d-52b2290e292so953013e0c.3 for ; Mon, 21 Jul 2025 15:01:59 -0700 (PDT) DKIM-Signature: v=1; a=rsa-sha256; c=relaxed/relaxed; d=iol.unh.edu; s=unh-iol; t=1753135318; x=1753740118; darn=dpdk.org; h=references:in-reply-to:cc:to:from:subject:message-id:date:from:to :cc:subject:date:message-id:reply-to; bh=n+JeLN1ncPA7crzQkRhepUU6rnZ/b0qo2Byq51u/QDM=; b=MUqRpsaWowNkWu2rnkg+zVPZz16T3ZgcTkbDSLpDzI4iuAf1WvP5XNqNbptf80zk2X VM1r6MP5InTX/nVi6QQkrAGr1MszpwgwteL1emIImL4NIIVj+yJWuwxGYtmvBmEaCcOg 4iVXuSqBnT+LIqAXgzLH0cfuYQZBxFN7t6gwI= X-Google-DKIM-Signature: v=1; a=rsa-sha256; c=relaxed/relaxed; d=1e100.net; s=20230601; t=1753135318; x=1753740118; h=references:in-reply-to:cc:to:from:subject:message-id:date :x-gm-message-state:from:to:cc:subject:date:message-id:reply-to; bh=n+JeLN1ncPA7crzQkRhepUU6rnZ/b0qo2Byq51u/QDM=; b=L/I+KwttXxz1vYY9SmFW2W3AzCa0mDCNlhUeykiSpuavDwIQE3S30NWgTpjChTieyS qGnkejvzgHt5JxpKGqPRwZxPLgB7wptYr/h9MbZEqIClGzq5Gh1QGc/PvXByOhhWuJQ/ iol3j0mfgq6tT62ekq3uRbdREMkHYupq65rzU/f8HQbs1jqwxRW1pjJHae/SfKdent8F Z7+CzhrUhvz+ur2sj4f5sZyBYCLUO2EVKZAk0YHmnJ2Cr+kO9Jmry5LCleraX+w2H2GJ EGAjA2ESsXEE/GyiHK5H/LoUNClQBclYXv4NStsMEECP+i3lNVHXvRGzQWiiV3jSOmRj lTCw== X-Gm-Message-State: AOJu0YwtZunP0ZSrVFbjMkjhQoHuVhYSB/+5znbYq8lXmZsHBhj3yySG 1895AAgOdWeaLPCySXiJ9XWCX0NQW2+T/FHUrxlPajsPX78Fn+pKv94rf9WVU4PlcEy1yMD+9H7 ATwspwft6MRz6hYjpVdZ532NQwopSMmP2J+L0ZKTOspwXy+c4aW1+8dFEdw8U X-Gm-Gg: ASbGnctymzdXiLkjlmnOXXELK/MAIZLMw5WztmDacKZVIB4hpZVFjzDwIiR6o6vyqJm fcBQ7E37ZXlCuog/+hZbgSYXp0Gr71GmN0f9hfb0xeM68KKo1J8XelKTByYyHkWoglUkATMgEzj AdehQWV87mnZd9meFzZCfjDwYOQyPn5JcNk1Dljk9m+Rung1UhImgi/gXNcxUUL3DTx+Fql5izk zgdTp3btPL9m+gawlFQSbWaw427Yl6AFN0/rmXCr/zX8Qi51fcz2iVCg1lym2W9Ivtfbyoi2vVj 7nOSPnQcxRBJcg2NEay3UoYP6qPD9ycOs9rMD04pWx2eGb71hQ== X-Google-Smtp-Source: AGHT+IH0Uoqa71LaXEDEYD7ZuDZ89HtFfdPePtePChHeTAg+UGxdBYoHy7S1TWXJZAEP2nZRxtsTg9HuZ7Bu X-Received: by 2002:a05:6122:1d54:b0:531:394a:23f3 with SMTP id 71dfb90a1353d-5373fcb904cmr9301354e0c.10.1753135316444; Mon, 21 Jul 2025 15:01:56 -0700 (PDT) Received: from postal.iol.unh.edu (postal.iol.unh.edu. [2606:4100:3880:1234::84]) by smtp-relay.gmail.com with ESMTPS id 71dfb90a1353d-53764da9b5csm434095e0c.5.2025.07.21.15.01.56 (version=TLS1_2 cipher=ECDHE-ECDSA-AES128-GCM-SHA256 bits=128/128); Mon, 21 Jul 2025 15:01:56 -0700 (PDT) X-Relaying-Domain: iol.unh.edu Date: Mon, 21 Jul 2025 15:01:56 -0700 (PDT) Message-ID: <687eb8d4.050a0220.a4e80.5a10SMTPIN_ADDED_MISSING@mx.google.com> Received: from [172.21.0.3] (unknown [172.18.0.240]) by postal.iol.unh.edu (Postfix) with ESMTP id 195FC604D420; Mon, 21 Jul 2025 18:01:56 -0400 (EDT) Subject: |SUCCESS| pw155399-155400 [PATCH] [v2,2/2] test/strsep: add tests fo From: dpdklab@iol.unh.edu To: Test Report Cc: dpdk-test-reports@iol.unh.edu In-Reply-To: <1753130343-29500-2-git-send-email-andremue@linux.microsoft.com> References: <1753130343-29500-2-git-send-email-andremue@linux.microsoft.com> Content-Type: text/plain X-BeenThere: test-report@dpdk.org X-Mailman-Version: 2.1.29 Precedence: list List-Id: automatic DPDK test reports List-Unsubscribe: , List-Archive: List-Post: List-Help: List-Subscribe: , Errors-To: test-report-bounces@dpdk.org Test-Label: iol-unit-amd64-testing Test-Status: SUCCESS http://dpdk.org/patch/155400 _Testing PASS_ Submitter: Andre Muezerie Date: Monday, July 21 2025 20:39:03 DPDK git baseline: Repo:dpdk Branch: master CommitID:b222395561638f89562e4ef42e1eabf2d6db43dd 155399-155400 --> testing pass Upstream job id: Generic-Unit-Test-DPDK#357018 Test environment and result as below: +-------------------------------+----------------+ | Environment | dpdk_unit_test | +===============================+================+ | CentOS Stream 9 | PASS | +-------------------------------+----------------+ | Debian GNU/Linux 12 | PASS | +-------------------------------+----------------+ | Fedora Linux 40 | PASS | +-------------------------------+----------------+ | Fedora Linux 41 | PASS | +-------------------------------+----------------+ | CentOS Stream 10 | PASS | +-------------------------------+----------------+ | Ubuntu 22.04 | PASS | +-------------------------------+----------------+ | Ubuntu 20.04 | PASS | +-------------------------------+----------------+ | Red Hat Enterprise Linux 8.10 | PASS | +-------------------------------+----------------+ | Ubuntu 24.04 | PASS | +-------------------------------+----------------+ | Red Hat Enterprise Linux 9.5 | PASS | +-------------------------------+----------------+ | Windows Server 2022 | PASS | +-------------------------------+----------------+ CentOS Stream 9 Kernel: 5.15 Compiler: gcc gcc (GCC) 11.5.0 20240719 (Red Hat 11.5.0-7) Debian GNU/Linux 12 Kernel: 5.15 Compiler: gcc gcc (Debian 12.2.0-14+deb12u1) 12.2.0 Fedora Linux 40 Kernel: 5.15 Compiler: gcc gcc (GCC) 14.2.1 20240912 (Red Hat 14.2.1-3) Fedora Linux 41 Kernel: 5.15 Compiler: gcc gcc (GCC) 14.3.1 20250523 (Red Hat 14.3.1-1) CentOS Stream 10 Kernel: 5.15 Compiler: gcc gcc (GCC) 14.2.1 20250110 (Red Hat 14.2.1-8) Ubuntu 22.04 Kernel: 5.15 Compiler: gcc gcc (Ubuntu 11.4.0-1ubuntu1~22.04) 11.4.0 Ubuntu 20.04 Kernel: 5.15 Compiler: gcc gcc (Ubuntu 9.4.0-1ubuntu1~20.04.2) 9.4.0 Red Hat Enterprise Linux 8.10 Kernel: 5.15 Compiler: gcc gcc (GCC) 8.5.0 20210514 (Red Hat 8.5.0-22) Ubuntu 24.04 Kernel: 5.15 Compiler: gcc gcc (Ubuntu 13.3.0-6ubuntu2~24.04) 13.3.0 Red Hat Enterprise Linux 9.5 Kernel: 5.15 Compiler: gcc gcc (GCC) 11.5.0 20240719 (Red Hat 11.5.0-2) Windows Server 2022 Kernel: 10.0.20348.2031 Compiler: clang 15.0.7, gcc 14.1.0 (MinGW), and MSVC VS 19.39.33521 To view detailed results, visit: https://lab.dpdk.org/results/dashboard/patchsets/33716/ UNH-IOL DPDK Community Lab To manage your email subscriptions, visit: https://lab.dpdk.org/results/dashboard/preferences/subscriptions/