From mboxrd@z Thu Jan 1 00:00:00 1970 Return-Path: Received: from mails.dpdk.org (mails.dpdk.org [217.70.189.124]) by inbox.dpdk.org (Postfix) with ESMTP id 19DBF46BDA for ; Tue, 22 Jul 2025 00:23:07 +0200 (CEST) Received: from mails.dpdk.org (localhost [127.0.0.1]) by mails.dpdk.org (Postfix) with ESMTP id 12C9E4026C; Tue, 22 Jul 2025 00:23:07 +0200 (CEST) Received: from mail-pf1-f228.google.com (mail-pf1-f228.google.com [209.85.210.228]) by mails.dpdk.org (Postfix) with ESMTP id 12ED74026C for ; Tue, 22 Jul 2025 00:23:06 +0200 (CEST) Received: by mail-pf1-f228.google.com with SMTP id d2e1a72fcca58-7425bd5a83aso4155496b3a.0 for ; Mon, 21 Jul 2025 15:23:06 -0700 (PDT) DKIM-Signature: v=1; a=rsa-sha256; c=relaxed/relaxed; d=iol.unh.edu; s=unh-iol; t=1753136585; x=1753741385; darn=dpdk.org; h=references:in-reply-to:cc:to:from:subject:message-id:date:from:to :cc:subject:date:message-id:reply-to; bh=i3ccOdJQqvak/Int0dQLIrpQP3xg9N6J/bq0j7EV3GI=; b=Zm259IiuoNSm1QAw/JI7js9mh2L7Lh4MmXb1oex1KHxvcrzmMVJitUXdLhJToFalB6 NeWxrj0t1UxoWXi/i+JOEpZH0Q1nD6ypLNfKHtrYjy1Ql/VGltxJZcVrRzWEB43K1891 tI4fAadvSMVRWc551oG1JPuTo6EzP2R8jWcGM= X-Google-DKIM-Signature: v=1; a=rsa-sha256; c=relaxed/relaxed; d=1e100.net; s=20230601; t=1753136585; x=1753741385; h=references:in-reply-to:cc:to:from:subject:message-id:date :x-gm-message-state:from:to:cc:subject:date:message-id:reply-to; bh=i3ccOdJQqvak/Int0dQLIrpQP3xg9N6J/bq0j7EV3GI=; b=PgTXD2Ds7HhDma7+azyL/zkcaPnOa/StZ7GhzavxrE5iFEMu0+ZeveuJQbCG9BLeM9 a5wsMWSqR4JgP5FxZAbjjB8DD+UH/QeBDF4H0rDOyWEDvi4mrsHeC75dhW+h6vX9XoGQ kMc+tV5rX8aTRvv1qw/D44D+Kyg4mLrenkc9dbSMKwwNAw4CXkAVu3sJqLLfJQ1zJR4W X0i/kau5EEUi1Brz3YaOFXU3p3FFWgCjG/hgtKCcUjV/+P8WjgmCG2oh12R64ex8V5JM mFIILWBrGN1dSdBPsm3jUPCnAa8Lm2zs/SPRtBaXqQaLb1Ql6znO44BsEn451Iu+/bYI NFMw== X-Gm-Message-State: AOJu0Yxlo+ihH6Q7iNoFBl3NN5i0+iPrHmhbihL+bkpt3RO/y3s9dsnd bZpQc+76iIdJXpBkNdCKJHTASobUFP78w8fOuDbEjqS2geR/TU7iCGLXBAazZE62eJjHQu+6mrA 7N7q3rE0FPOXCe82VfKr6FbWiUR5kZGkl3W7xeKxQ5PiSCxiV4NZDx4uRhxGZ X-Gm-Gg: ASbGncs5PcprawBAnWotXwzwPFpP/5fo5G31BkbPUvg/BcMQH9/GWZAwPXe+0Nn7Czo D9mHhuG4591UiXXqu8w2QgdHivhZNzarP0OUK5d6q7FXJgv88KhDqmv/7iugZ82QmDEQxFumY52 lNbPXa6A8ow9mSuZPFMrVaekmCwIyA3UsRBOc7cGG0mrldsiqHuJVbqNR56rp3AKDhe41wVZYmg dlhKO45ZWl6SDRDHzB3SOsv5MnUEQokB7yd0AuZCzNNq1Pwtl6ljz+KpGsrCuGZIMj2+/RQ6TJp mWdAdx1r8HM2LeY0BY1f9f0/2naMT/E083YEUFyqWK49CUERnQ== X-Google-Smtp-Source: AGHT+IGMS+MScpvK8ebAOD342OTFGfpK55sewS3o50g9em3Y9IGVzMktaJrSMzU8iHIrJoIeLKzCVOQe2EdV X-Received: by 2002:a05:6a20:3ca2:b0:218:17c4:248c with SMTP id adf61e73a8af0-23813c6dc56mr37687289637.22.1753136585118; Mon, 21 Jul 2025 15:23:05 -0700 (PDT) Received: from postal.iol.unh.edu (postal.iol.unh.edu. [2606:4100:3880:1234::84]) by smtp-relay.gmail.com with ESMTPS id 41be03b00d2f7-b3f2fd2d7e6sm510094a12.0.2025.07.21.15.23.05 (version=TLS1_2 cipher=ECDHE-ECDSA-AES128-GCM-SHA256 bits=128/128); Mon, 21 Jul 2025 15:23:05 -0700 (PDT) X-Relaying-Domain: iol.unh.edu Date: Mon, 21 Jul 2025 15:23:05 -0700 (PDT) Message-ID: <687ebdc9.050a0220.bf9cf.9050SMTPIN_ADDED_MISSING@mx.google.com> Received: from [172.21.0.2] (unknown [172.18.0.240]) by postal.iol.unh.edu (Postfix) with ESMTP id 5FB956051830; Mon, 21 Jul 2025 18:23:04 -0400 (EDT) Subject: |SUCCESS| pw155399-155400 [PATCH] [v2,2/2] test/strsep: add tests fo From: dpdklab@iol.unh.edu To: Test Report Cc: dpdk-test-reports@iol.unh.edu In-Reply-To: <1753130343-29500-2-git-send-email-andremue@linux.microsoft.com> References: <1753130343-29500-2-git-send-email-andremue@linux.microsoft.com> Content-Type: text/plain X-BeenThere: test-report@dpdk.org X-Mailman-Version: 2.1.29 Precedence: list List-Id: automatic DPDK test reports List-Unsubscribe: , List-Archive: List-Post: List-Help: List-Subscribe: , Errors-To: test-report-bounces@dpdk.org Test-Label: iol-abi-testing Test-Status: SUCCESS http://dpdk.org/patch/155400 _Testing PASS_ Submitter: Andre Muezerie Date: Monday, July 21 2025 20:39:03 DPDK git baseline: Repo:dpdk Branch: master CommitID:b222395561638f89562e4ef42e1eabf2d6db43dd 155399-155400 --> testing pass Upstream job id: Generic-DPDK-Compile-ABI#135152 Test environment and result as below: +-------------------------------+----------+ | Environment | abi_test | +===============================+==========+ | Debian GNU/Linux 12 | PASS | +-------------------------------+----------+ | Fedora Linux 41 | PASS | +-------------------------------+----------+ | Fedora Linux 40 | PASS | +-------------------------------+----------+ | CentOS Stream 9 | PASS | +-------------------------------+----------+ | openSUSE Leap 15.6 | PASS | +-------------------------------+----------+ | Red Hat Enterprise Linux 8.10 | PASS | +-------------------------------+----------+ | Ubuntu 24.04 | PASS | +-------------------------------+----------+ | Ubuntu 22.04 | PASS | +-------------------------------+----------+ | Red Hat Enterprise Linux 9.5 | PASS | +-------------------------------+----------+ | CentOS Stream 10 | PASS | +-------------------------------+----------+ Debian GNU/Linux 12 Kernel: 5.15 Compiler: gcc gcc (Debian 12.2.0-14+deb12u1) 12.2.0 Fedora Linux 41 Kernel: 5.15 Compiler: clang gcc (GCC) 14.3.1 20250523 (Red Hat 14.3.1-1) Fedora Linux 40 Kernel: 5.15 Compiler: gcc gcc (GCC) 14.2.1 20240912 (Red Hat 14.2.1-3) CentOS Stream 9 Kernel: 5.15 Compiler: gcc gcc (GCC) 11.5.0 20240719 (Red Hat 11.5.0-7) openSUSE Leap 15.6 Kernel: 5.15 Compiler: gcc gcc (SUSE Linux) 7.5.0 Red Hat Enterprise Linux 8.10 Kernel: 5.15 Compiler: gcc gcc (GCC) 8.5.0 20210514 (Red Hat 8.5.0-22) Ubuntu 24.04 Kernel: 5.15 Compiler: gcc gcc (Ubuntu 13.3.0-6ubuntu2~24.04) 13.3.0 Ubuntu 22.04 Kernel: 5.15 Compiler: gcc gcc (Ubuntu 11.4.0-1ubuntu1~22.04) 11.4.0 Red Hat Enterprise Linux 9.5 Kernel: 5.15 Compiler: gcc gcc (GCC) 11.5.0 20240719 (Red Hat 11.5.0-2) CentOS Stream 10 Kernel: 5.15 Compiler: gcc gcc (GCC) 14.2.1 20250110 (Red Hat 14.2.1-8) To view detailed results, visit: https://lab.dpdk.org/results/dashboard/patchsets/33716/ UNH-IOL DPDK Community Lab To manage your email subscriptions, visit: https://lab.dpdk.org/results/dashboard/preferences/subscriptions/