From mboxrd@z Thu Jan 1 00:00:00 1970 Return-Path: Received: from mails.dpdk.org (mails.dpdk.org [217.70.189.124]) by inbox.dpdk.org (Postfix) with ESMTP id B5E0146BDA for ; Tue, 22 Jul 2025 00:27:12 +0200 (CEST) Received: from mails.dpdk.org (localhost [127.0.0.1]) by mails.dpdk.org (Postfix) with ESMTP id 943954026C; Tue, 22 Jul 2025 00:27:12 +0200 (CEST) Received: from mail-pf1-f227.google.com (mail-pf1-f227.google.com [209.85.210.227]) by mails.dpdk.org (Postfix) with ESMTP id 211664026C for ; Tue, 22 Jul 2025 00:27:11 +0200 (CEST) Received: by mail-pf1-f227.google.com with SMTP id d2e1a72fcca58-75bd436d970so1042962b3a.3 for ; Mon, 21 Jul 2025 15:27:11 -0700 (PDT) DKIM-Signature: v=1; a=rsa-sha256; c=relaxed/relaxed; d=iol.unh.edu; s=unh-iol; t=1753136830; x=1753741630; darn=dpdk.org; h=references:in-reply-to:cc:to:from:subject:message-id:date:from:to :cc:subject:date:message-id:reply-to; bh=fwqem+4Qnpm1p0di2dhQR8CE1skJNCU4CS4qms72KEg=; b=I+awMMHnLw0Sk+D5i6KTf8GCk2q3XBPPBjEYgwBcPEEB2EvKwsDEbN5SIAYhGwc/HA FXMVbxATfCH/VDG77JS2dsXhSvqAEOkwTMkVnw1C0I6i0tctF6Hu0zsToIJJK5EWfj0O atTdCkxnYhLOs1dqnN901TvyI3aF0oS8FTgbY= X-Google-DKIM-Signature: v=1; a=rsa-sha256; c=relaxed/relaxed; d=1e100.net; s=20230601; t=1753136830; x=1753741630; h=references:in-reply-to:cc:to:from:subject:message-id:date :x-gm-message-state:from:to:cc:subject:date:message-id:reply-to; bh=fwqem+4Qnpm1p0di2dhQR8CE1skJNCU4CS4qms72KEg=; b=lxImTIIwTObKMIZXANrVvavv+Fti2dBo3V5kBgMxqJxTZBmtvsUD9aQEHgbyolE0Ev WKkhTw3dziAXC9fESTBZ16fZvuo9lq0l08l7i1mtm4R6nGXXsBQwZWkts+PZ5unrsz4t gp1+y4RHZ+ZIYZcUcTlxPaUTE/qS6FzEU3FjEgxGwFEoI1/O96oofKrixyYnxqwsoUzS WQp5so37vjrt+3DL1zdJoXjJRcDyp7y1iYIMnotWi1/Z/NdNXtDlM5w54gWDQS/yj0h3 kCk/ARHKuF7lst34j0RmyCDEVT4pNEjzW55gYu+Pjgab5sMFYtl6J+mG6QVjifxRuDXR Y0RA== X-Gm-Message-State: AOJu0Yypl5Rc4ITBrQqXVLPAA904/hNWsEn3wmM/CXLGTcTPAYdGY2cB BXnE1o4WoPRZGr4HSgbLxvATVAH6slUWSBpWT12T2ywNbMN0iMrZywrLAMDS6MlNQ43z3qGbMEc c0YYjvrNSMggSguRoGbOBHS3Q9uhCefpchtoTk2zPxQchSHZi4aKpFLEAkhSF X-Gm-Gg: ASbGncvZQks7xc1pxo4XFIPYXKctRUg3hB7GZEolBUprSq+xfmEYodruaXh+BDwwW2x 5AOEdy42XVXRYiwVeQZglsyFhZh/H9C4TRYHMPhsC2hOjaYJZhiRZCUdltibxsNrpDE1M25zuHC v5gUlQ0WrS4E45P3764dju9CSpmnRx10eGcFIOBdjDjf8l46J4+2aGsRuB/IX6BBo71zOcyIM2B YnOJ2uWtYL6hg/vhR7JDpV//Co0T4n9ndtFEmbLRcMVf7Fl15aI+5MKiYErwQaEYph/1T3PGMiV i+FqmFBueUxuk8XRmPoexez/eT0ezypSi3mVYcoGOWhQEhvt3A== X-Google-Smtp-Source: AGHT+IGvhsbFCzLg8glSMVZKCTUmyR9A8gN8Dd3NxhvYZwpuFBy9uK6JRs1YuYvQIYj9Yz+dJ9to79gTwC6T X-Received: by 2002:a05:6a00:188f:b0:739:50c0:b3fe with SMTP id d2e1a72fcca58-7572315d7bbmr35784284b3a.8.1753136830148; Mon, 21 Jul 2025 15:27:10 -0700 (PDT) Received: from postal.iol.unh.edu (postal.iol.unh.edu. [2606:4100:3880:1234::84]) by smtp-relay.gmail.com with ESMTPS id d2e1a72fcca58-759ca92b1e4sm498137b3a.15.2025.07.21.15.27.10 (version=TLS1_2 cipher=ECDHE-ECDSA-AES128-GCM-SHA256 bits=128/128); Mon, 21 Jul 2025 15:27:10 -0700 (PDT) X-Relaying-Domain: iol.unh.edu Date: Mon, 21 Jul 2025 15:27:10 -0700 (PDT) Message-ID: <687ebebe.050a0220.2c5062.98bbSMTPIN_ADDED_MISSING@mx.google.com> Received: from [172.21.0.2] (unknown [172.18.0.240]) by postal.iol.unh.edu (Postfix) with ESMTP id 685E96051830; Mon, 21 Jul 2025 18:27:09 -0400 (EDT) Subject: |SUCCESS| pw155399-155400 [PATCH] [v2,2/2] test/strsep: add tests fo From: dpdklab@iol.unh.edu To: Test Report Cc: dpdk-test-reports@iol.unh.edu In-Reply-To: <1753130343-29500-2-git-send-email-andremue@linux.microsoft.com> References: <1753130343-29500-2-git-send-email-andremue@linux.microsoft.com> Content-Type: text/plain X-BeenThere: test-report@dpdk.org X-Mailman-Version: 2.1.29 Precedence: list List-Id: automatic DPDK test reports List-Unsubscribe: , List-Archive: List-Post: List-Help: List-Subscribe: , Errors-To: test-report-bounces@dpdk.org Test-Label: iol-compile-amd64-testing Test-Status: SUCCESS http://dpdk.org/patch/155400 _Testing PASS_ Submitter: Andre Muezerie Date: Monday, July 21 2025 20:39:03 DPDK git baseline: Repo:dpdk Branch: master CommitID:b222395561638f89562e4ef42e1eabf2d6db43dd 155399-155400 --> testing pass Upstream job id: Generic-DPDK-Compile-Meson#410682 Test environment and result as below: +-------------------------------+--------------------+-------------------+------------------+-------------------+-------------------------+----------------------+ | Environment | dpdk_meson_compile | dpdk_compile_spdk | dpdk_compile_ovs | dpdk_msvc_compile | dpdk_llvm_clang_compile | dpdk_mingw64_compile | +===============================+====================+===================+==================+===================+=========================+======================+ | CentOS Stream 9 | PASS | PASS | SKIPPED | SKIPPED | SKIPPED | SKIPPED | +-------------------------------+--------------------+-------------------+------------------+-------------------+-------------------------+----------------------+ | CentOS Stream 10 | PASS | SKIPPED | SKIPPED | SKIPPED | SKIPPED | SKIPPED | +-------------------------------+--------------------+-------------------+------------------+-------------------+-------------------------+----------------------+ | Debian GNU/Linux 12 | PASS | PASS | SKIPPED | SKIPPED | SKIPPED | SKIPPED | +-------------------------------+--------------------+-------------------+------------------+-------------------+-------------------------+----------------------+ | Ubuntu 20.04 | PASS | SKIPPED | SKIPPED | SKIPPED | SKIPPED | SKIPPED | +-------------------------------+--------------------+-------------------+------------------+-------------------+-------------------------+----------------------+ | Fedora Linux 41 | PASS | PASS | PASS | SKIPPED | SKIPPED | SKIPPED | +-------------------------------+--------------------+-------------------+------------------+-------------------+-------------------------+----------------------+ | Fedora Linux 40 | PASS | PASS | SKIPPED | SKIPPED | SKIPPED | SKIPPED | +-------------------------------+--------------------+-------------------+------------------+-------------------+-------------------------+----------------------+ | openSUSE Leap 15.6 | PASS | SKIPPED | SKIPPED | SKIPPED | SKIPPED | SKIPPED | +-------------------------------+--------------------+-------------------+------------------+-------------------+-------------------------+----------------------+ | Red Hat Enterprise Linux 9.5 | PASS | SKIPPED | SKIPPED | SKIPPED | SKIPPED | SKIPPED | +-------------------------------+--------------------+-------------------+------------------+-------------------+-------------------------+----------------------+ | Red Hat Enterprise Linux 8.10 | PASS | SKIPPED | SKIPPED | SKIPPED | SKIPPED | SKIPPED | +-------------------------------+--------------------+-------------------+------------------+-------------------+-------------------------+----------------------+ | Ubuntu 22.04 | PASS | PASS | SKIPPED | SKIPPED | SKIPPED | SKIPPED | +-------------------------------+--------------------+-------------------+------------------+-------------------+-------------------------+----------------------+ | Ubuntu 24.04 | PASS | PASS | PASS | SKIPPED | SKIPPED | SKIPPED | +-------------------------------+--------------------+-------------------+------------------+-------------------+-------------------------+----------------------+ | FreeBSD 14.2 | PASS | SKIPPED | SKIPPED | SKIPPED | SKIPPED | SKIPPED | +-------------------------------+--------------------+-------------------+------------------+-------------------+-------------------------+----------------------+ | Alpine Linux 3.22.0 | PASS | SKIPPED | SKIPPED | SKIPPED | SKIPPED | SKIPPED | +-------------------------------+--------------------+-------------------+------------------+-------------------+-------------------------+----------------------+ | Windows Server 2022 | SKIPPED | SKIPPED | SKIPPED | PASS | PASS | PASS | +-------------------------------+--------------------+-------------------+------------------+-------------------+-------------------------+----------------------+ CentOS Stream 9 Kernel: 5.15 Compiler: gcc gcc (GCC) 11.5.0 20240719 (Red Hat 11.5.0-7) CentOS Stream 10 Kernel: 5.15 Compiler: gcc gcc (GCC) 14.2.1 20250110 (Red Hat 14.2.1-8) Debian GNU/Linux 12 Kernel: 5.15 Compiler: gcc gcc (Debian 12.2.0-14+deb12u1) 12.2.0 Ubuntu 20.04 Kernel: 5.15 Compiler: gcc gcc (Ubuntu 9.4.0-1ubuntu1~20.04.2) 9.4.0 Fedora Linux 41 Kernel: 5.15 Compiler: gcc gcc (GCC) 14.3.1 20250523 (Red Hat 14.3.1-1) Fedora Linux 40 Kernel: 5.15 Compiler: clang gcc (GCC) 14.2.1 20240912 (Red Hat 14.2.1-3) openSUSE Leap 15.6 Kernel: 5.15 Compiler: gcc gcc (SUSE Linux) 7.5.0 Red Hat Enterprise Linux 9.5 Kernel: 5.15 Compiler: gcc gcc (GCC) 11.5.0 20240719 (Red Hat 11.5.0-2) Red Hat Enterprise Linux 8.10 Kernel: 5.15 Compiler: gcc gcc (GCC) 8.5.0 20210514 (Red Hat 8.5.0-22) Ubuntu 22.04 Kernel: 5.15 Compiler: gcc gcc (Ubuntu 11.4.0-1ubuntu1~22.04) 11.4.0 Ubuntu 24.04 Kernel: 5.15 Compiler: gcc gcc (Ubuntu 13.3.0-6ubuntu2~24.04) 13.3.0 FreeBSD 14.2 Kernel: 14.2-RELEASE Compiler: clang 18.1.6 Alpine Linux 3.22.0 Kernel: 5.15 Compiler: gcc gcc (Alpine 14.2.0) 14.2.0 Windows Server 2022 Kernel: 10.0.20348.2031 Compiler: clang 15.0.7, gcc 14.1.0 (MinGW), and MSVC VS 19.39.33521 To view detailed results, visit: https://lab.dpdk.org/results/dashboard/patchsets/33716/ UNH-IOL DPDK Community Lab To manage your email subscriptions, visit: https://lab.dpdk.org/results/dashboard/preferences/subscriptions/