From mboxrd@z Thu Jan 1 00:00:00 1970 Return-Path: Received: from mails.dpdk.org (mails.dpdk.org [217.70.189.124]) by inbox.dpdk.org (Postfix) with ESMTP id 05AD046BDA for ; Tue, 22 Jul 2025 00:29:57 +0200 (CEST) Received: from mails.dpdk.org (localhost [127.0.0.1]) by mails.dpdk.org (Postfix) with ESMTP id D92604026C; Tue, 22 Jul 2025 00:29:57 +0200 (CEST) Received: from mail-oa1-f99.google.com (mail-oa1-f99.google.com [209.85.160.99]) by mails.dpdk.org (Postfix) with ESMTP id 9A83B4026C for ; Tue, 22 Jul 2025 00:29:56 +0200 (CEST) Received: by mail-oa1-f99.google.com with SMTP id 586e51a60fabf-303058a8649so698494fac.3 for ; Mon, 21 Jul 2025 15:29:56 -0700 (PDT) DKIM-Signature: v=1; a=rsa-sha256; c=relaxed/relaxed; d=iol.unh.edu; s=unh-iol; t=1753136996; x=1753741796; darn=dpdk.org; h=references:in-reply-to:cc:to:from:subject:message-id:date:from:to :cc:subject:date:message-id:reply-to; bh=lJ8W+Q9JXQ44zCzDNUcWMUrsMneOBUWDNLI0cirjFxk=; b=BX12ppNY1JCYrhR+k7S+HQL47yvXyjoI7JBpY00uysyS/hdDfgyot8s4DZzc3HbrDI c5rE34XDv5NeC1ZEQ5UCwGXBiP2G8DZghlNv3xymjTCMqPw+Gq5227q/WC59ySBdvI7g okJzNJTtpHZ+AgkgLo1FYUZ7hLdJdOWGNLTOE= X-Google-DKIM-Signature: v=1; a=rsa-sha256; c=relaxed/relaxed; d=1e100.net; s=20230601; t=1753136996; x=1753741796; h=references:in-reply-to:cc:to:from:subject:message-id:date :x-gm-message-state:from:to:cc:subject:date:message-id:reply-to; bh=lJ8W+Q9JXQ44zCzDNUcWMUrsMneOBUWDNLI0cirjFxk=; b=N41qaPsSgpWW2FnhDJNuxDdAbBqTrfu7W+31vZK8zBb3Hte4ronLzCqFeLxo77RwPF KKvVZ8xVKR9SNJaYOlS/aBJtN+jIGmiL5n76rC6eqvpXXOrw7ibe4qXFJDrcW9MQpBKZ xSUPges9ORDKe8+2umLFL+k0TAm/T7h9WxVW3BiGn3ZaFCbY+/Apx57bEBHbdD77wkHw rRCneBMzDCSC53bO3ZntGn4AEgzFehhBXL1qkRn8FViAfWqGwSHiSUw8evJtxbryB6ZI gMpXZ8KtnQ+6NWYp89/Ob+DlRyhZxMwSHglP9HOnV+YCqQAs6e6N0XZLYYLcTPo3DX4h sYLQ== X-Gm-Message-State: AOJu0YwJfBxnRM2vzAfRnFoV5BS7WFS2zDNBzGYVOLtTP1P3EbW00OzV CnaaqXAEb9bRAqk4v1FHiE0BWebAx+k4TPibzCrECMCkiB0T683qPC1+a4bvxZs5zeIEGWruvQp VdDTkZQ38YtavuuyuMsYBdZA38nce/gWNuUXo1m2ewTloB0AummQTkJe92QWA X-Gm-Gg: ASbGncs/Sbv6pASzarkKkTvrW3WnmZt24IVOqPnCO4+OmE01aQlJiIwBPDK7hy1IvDb 6iVyhvgPiP4MObWVfwEkaiNF4cZaRBRB+lcqgv7omMrz1pKHKbrMGAbwBogL6xZfXEYpJEXU0qZ Suzvaq+QdSvnOEeglpmiO5m6NtBNNtRwRTrMeSrPP1S56GP8dFQv/uoslyHvldwVlDfc7uOh2l/ pXRJk9DIEXSYR5vucRIO1ZVI9IUSE6GiVoADOXGaX7MPV/3kgS2JAsJdmVn0r4eZJjekkDyK1ui FE++cq2wKqyrTdGzu2yIObzpjLfzcsvLlmTUvFrNCEDVCedAug== X-Google-Smtp-Source: AGHT+IERF8R4KTiByWGnqE2JDQ2+mVcJTjR+SrdNmPzGCmhUIjnqs4KUHps/ku+bHhDRm+4aJdt2FY3fTZbi X-Received: by 2002:a05:6870:9626:b0:2ff:a985:820b with SMTP id 586e51a60fabf-2ffb2443949mr14426320fac.21.1753136995663; Mon, 21 Jul 2025 15:29:55 -0700 (PDT) Received: from postal.iol.unh.edu (postal.iol.unh.edu. [2606:4100:3880:1234::84]) by smtp-relay.gmail.com with ESMTPS id 586e51a60fabf-30105f166cbsm659692fac.18.2025.07.21.15.29.55 (version=TLS1_2 cipher=ECDHE-ECDSA-AES128-GCM-SHA256 bits=128/128); Mon, 21 Jul 2025 15:29:55 -0700 (PDT) X-Relaying-Domain: iol.unh.edu Date: Mon, 21 Jul 2025 15:29:55 -0700 (PDT) Message-ID: <687ebf63.050a0220.266d95.23c2SMTPIN_ADDED_MISSING@mx.google.com> Received: from [172.21.0.2] (unknown [172.18.0.240]) by postal.iol.unh.edu (Postfix) with ESMTP id 30C546051830; Mon, 21 Jul 2025 18:29:55 -0400 (EDT) Subject: |SUCCESS| pw155393-155394 [PATCH] [v4,3/3] drivers: enable drivers t From: dpdklab@iol.unh.edu To: Test Report Cc: dpdk-test-reports@iol.unh.edu In-Reply-To: <1753111484-27021-4-git-send-email-andremue@linux.microsoft.com> References: <1753111484-27021-4-git-send-email-andremue@linux.microsoft.com> Content-Type: text/plain X-BeenThere: test-report@dpdk.org X-Mailman-Version: 2.1.29 Precedence: list List-Id: automatic DPDK test reports List-Unsubscribe: , List-Archive: List-Post: List-Help: List-Subscribe: , Errors-To: test-report-bounces@dpdk.org Test-Label: iol-compile-arm64-testing Test-Status: SUCCESS http://dpdk.org/patch/155394 _Testing PASS_ Submitter: Andre Muezerie Date: Monday, July 21 2025 15:24:44 DPDK git baseline: Repo:dpdk Branch: master CommitID:2f4cd1b4dbaec6633da510da67c2213cfd2bd359 155393-155394 --> testing pass Upstream job id: Generic-DPDK-Compile-Meson#410571 Test environment and result as below: +------------------------------+--------------------+ | Environment | dpdk_meson_compile | +==============================+====================+ | Red Hat Enterprise Linux 9.5 | PASS | +------------------------------+--------------------+ | Fedora Linux 40 | PASS | +------------------------------+--------------------+ | Ubuntu 20.04 | PASS | +------------------------------+--------------------+ | Fedora Linux 41 | PASS | +------------------------------+--------------------+ | Debian GNU/Linux 12 | PASS | +------------------------------+--------------------+ | CentOS Stream 10 | PASS | +------------------------------+--------------------+ | Ubuntu 22.04 | PASS | +------------------------------+--------------------+ | Ubuntu 24.04 | PASS | +------------------------------+--------------------+ | CentOS Stream 9 | PASS | +------------------------------+--------------------+ Red Hat Enterprise Linux 9.5 Kernel: 5.4 Compiler: gcc gcc (GCC) 11.5.0 20240719 (Red Hat 11.5.0-2) Fedora Linux 40 Kernel: 5.4 Compiler: gcc gcc (GCC) 14.2.1 20240912 (Red Hat 14.2.1-3) Ubuntu 20.04 Kernel: 5.4 Compiler: gcc gcc (Ubuntu 9.4.0-1ubuntu1~20.04.2) 9.4.0 Fedora Linux 41 Kernel: 5.4 Compiler: gcc gcc (GCC) 14.3.1 20250523 (Red Hat 14.3.1-1) Debian GNU/Linux 12 Kernel: 5.4 Compiler: gcc gcc (Debian 12.2.0-14+deb12u1) 12.2.0 CentOS Stream 10 Kernel: 5.4 Compiler: gcc gcc (GCC) 14.2.1 20250110 (Red Hat 14.2.1-8) Ubuntu 22.04 Kernel: 5.4 Compiler: gcc gcc (Ubuntu 11.4.0-1ubuntu1~22.04) 11.4.0 Ubuntu 24.04 Kernel: 5.4 Compiler: gcc gcc (Ubuntu 13.3.0-6ubuntu2~24.04) 13.3.0 CentOS Stream 9 Kernel: 5.4 Compiler: gcc gcc (GCC) 11.5.0 20240719 (Red Hat 11.5.0-7) To view detailed results, visit: https://lab.dpdk.org/results/dashboard/patchsets/33712/ UNH-IOL DPDK Community Lab To manage your email subscriptions, visit: https://lab.dpdk.org/results/dashboard/preferences/subscriptions/