From mboxrd@z Thu Jan 1 00:00:00 1970 Return-Path: Received: from mails.dpdk.org (mails.dpdk.org [217.70.189.124]) by inbox.dpdk.org (Postfix) with ESMTP id 2FAB946BDA for ; Tue, 22 Jul 2025 00:42:54 +0200 (CEST) Received: from mails.dpdk.org (localhost [127.0.0.1]) by mails.dpdk.org (Postfix) with ESMTP id 28E4D4026C; Tue, 22 Jul 2025 00:42:54 +0200 (CEST) Received: from mail-yw1-f225.google.com (mail-yw1-f225.google.com [209.85.128.225]) by mails.dpdk.org (Postfix) with ESMTP id 1FA174026C for ; Tue, 22 Jul 2025 00:42:53 +0200 (CEST) Received: by mail-yw1-f225.google.com with SMTP id 00721157ae682-71967cd1072so23308417b3.3 for ; Mon, 21 Jul 2025 15:42:53 -0700 (PDT) DKIM-Signature: v=1; a=rsa-sha256; c=relaxed/relaxed; d=iol.unh.edu; s=unh-iol; t=1753137772; x=1753742572; darn=dpdk.org; h=references:in-reply-to:cc:to:from:subject:message-id:date:from:to :cc:subject:date:message-id:reply-to; bh=UXPhULn6Ddi1NxY+J8eoBJ7e6rfwss2J8ujM5EvlWJM=; b=V2CZmh4N3yUCkaGI6DSvYWjGnYm98yMhr9XRh3Gb5TyC8py/3q696J7V//fpPNz3Pd NpG5c8l7yVr5UGaLlyLY+bbZd7gzP1fwBLf2gYgTnsIXPUGlSqZeIiwCWbarrZ7PNLFV WGmgsszSfxKS9c3zE/Tbku/68dRdJKJ8TW8E8= X-Google-DKIM-Signature: v=1; a=rsa-sha256; c=relaxed/relaxed; d=1e100.net; s=20230601; t=1753137772; x=1753742572; h=references:in-reply-to:cc:to:from:subject:message-id:date :x-gm-message-state:from:to:cc:subject:date:message-id:reply-to; bh=UXPhULn6Ddi1NxY+J8eoBJ7e6rfwss2J8ujM5EvlWJM=; b=EILeFrDpIkejq0c2JigPlr3W7Gh16BD3ttKFhDTdQQ5rbEn3oJdjiuqYi4DgwFObhz bOoEsLG6MDg+hNmyq202vEpiVHu2y74dXGmY18mVrojjZnFbYY8G/fcLOFZT4VTzpssH Z5Zoph9A9CKGZjJ4cG7IX8TdJaftIFy0lQZ3yBW4pUm38oN2lSdkITEuiip1XlcQ9Avq pMgThFXnLc+EC5lb0nHGqX+zsJlKM6mnhAMeRRkiTeUd4LdYlswizM8yow0uNTq7O2Tv 0W1tRN6f0UvrSelQefxOO//HnaYHFtk7DYNdIzWPz3+fh/d5nQgzySlY7uXMIpPJ3DQ+ 4m6w== X-Gm-Message-State: AOJu0Yw+bLy4f/EHSxnR8ucgihv3q74lg3X5X3naRPXgtsS7c2NFv2JI YEgjuHTIx4RAV121PRpxDF0ExsRmrbxUIvwI8uw6xRNKlnHpc4S/K1+52PdhRAJQ2af/WOzm/us dXV2LxUYxDW4kh+2V9kFJI99KDl1HjCTo4VAsmoYp5H+zFs3C+QOXno16whuD X-Gm-Gg: ASbGncs93RDp3cFaRVQqqDAsAW1/f4cmXXq1L5dts206ANipBr3qTe+0CPLBHqToxhx /CiSiiOGs5Sb01PyFksVjlAmKI5o/TC/nKMJMLDsTF8pbOvbeZbpBlaniAjc78XjJFUATczQ+Tr T3QyGtBb6CEH+QI+QPpiOZHlzNPiT/PoU+98itUaCwj5eCF2Ou+PxiIATheKQZAZ1KtQhIW6KxA x58IgEosL/jm37753uk2+lRJ8BcAFgEql1oPi2CUQaHbwP0IjHbLYwnAJgX+gQN+3qiVvXdzA9K mDo8TPe1dqzmLz7fzbjUeygj6kzZeZeBXD2B6CsOQoJ5ww57jQ== X-Google-Smtp-Source: AGHT+IFzN94UrWLQWGh9+qUsIQ2vNQ3Q1eVSttwxBXacA3Xj8yq8/LHamkVLW19I2XoIS3ftddyQxJKQRzgT X-Received: by 2002:a05:690c:6f08:b0:70e:87d2:c2cb with SMTP id 00721157ae682-7183518a63fmr301106707b3.31.1753137772410; Mon, 21 Jul 2025 15:42:52 -0700 (PDT) Received: from postal.iol.unh.edu (postal.iol.unh.edu. [2606:4100:3880:1234::84]) by smtp-relay.gmail.com with ESMTPS id 00721157ae682-7195f9cc2cdsm4123167b3.51.2025.07.21.15.42.52 (version=TLS1_2 cipher=ECDHE-ECDSA-AES128-GCM-SHA256 bits=128/128); Mon, 21 Jul 2025 15:42:52 -0700 (PDT) X-Relaying-Domain: iol.unh.edu Date: Mon, 21 Jul 2025 15:42:52 -0700 (PDT) Message-ID: <687ec26c.050a0220.123c10.78fdSMTPIN_ADDED_MISSING@mx.google.com> Received: from [172.21.0.2] (unknown [172.18.0.240]) by postal.iol.unh.edu (Postfix) with ESMTP id 1D1956051830; Mon, 21 Jul 2025 18:42:52 -0400 (EDT) Subject: |SUCCESS| pw155397 [PATCH] [v2] app/test-cmdline: add test to Window From: dpdklab@iol.unh.edu To: Test Report Cc: dpdk-test-reports@iol.unh.edu In-Reply-To: <1753121912-31321-1-git-send-email-andremue@linux.microsoft.com> References: <1753121912-31321-1-git-send-email-andremue@linux.microsoft.com> Content-Type: text/plain X-BeenThere: test-report@dpdk.org X-Mailman-Version: 2.1.29 Precedence: list List-Id: automatic DPDK test reports List-Unsubscribe: , List-Archive: List-Post: List-Help: List-Subscribe: , Errors-To: test-report-bounces@dpdk.org Test-Label: iol-compile-arm64-testing Test-Status: SUCCESS http://dpdk.org/patch/155397 _Testing PASS_ Submitter: Andre Muezerie Date: Monday, July 21 2025 18:18:32 DPDK git baseline: Repo:dpdk Branch: master CommitID:3795e96fc862e2b65aa8951f6661420510c87328 155397 --> testing pass Upstream job id: Generic-DPDK-Compile-Meson#410621 Test environment and result as below: +------------------------------+--------------------+ | Environment | dpdk_meson_compile | +==============================+====================+ | Red Hat Enterprise Linux 9.5 | PASS | +------------------------------+--------------------+ | Ubuntu 20.04 | PASS | +------------------------------+--------------------+ | Debian GNU/Linux 12 | PASS | +------------------------------+--------------------+ | Fedora Linux 40 | PASS | +------------------------------+--------------------+ | Ubuntu 24.04 | PASS | +------------------------------+--------------------+ | CentOS Stream 9 | PASS | +------------------------------+--------------------+ | Fedora Linux 41 | PASS | +------------------------------+--------------------+ | Ubuntu 22.04 | PASS | +------------------------------+--------------------+ | CentOS Stream 10 | PASS | +------------------------------+--------------------+ Red Hat Enterprise Linux 9.5 Kernel: 5.4 Compiler: gcc gcc (GCC) 11.5.0 20240719 (Red Hat 11.5.0-2) Ubuntu 20.04 Kernel: 5.15 Compiler: aarch64-linux-gnu-gcc gcc (Ubuntu 9.4.0-1ubuntu1~20.04.2) 9.4.0 Debian GNU/Linux 12 Kernel: 5.4 Compiler: gcc gcc (Debian 12.2.0-14+deb12u1) 12.2.0 Fedora Linux 40 Kernel: 5.4 Compiler: clang gcc (GCC) 14.2.1 20240912 (Red Hat 14.2.1-3) Ubuntu 24.04 Kernel: 5.4 Compiler: gcc gcc (Ubuntu 13.3.0-6ubuntu2~24.04) 13.3.0 CentOS Stream 9 Kernel: 5.4 Compiler: gcc gcc (GCC) 11.5.0 20240719 (Red Hat 11.5.0-7) Fedora Linux 41 Kernel: 5.4 Compiler: clang gcc (GCC) 14.3.1 20250523 (Red Hat 14.3.1-1) Ubuntu 22.04 Kernel: 5.4 Compiler: gcc gcc (Ubuntu 11.4.0-1ubuntu1~22.04) 11.4.0 CentOS Stream 10 Kernel: 5.4 Compiler: gcc gcc (GCC) 14.2.1 20250110 (Red Hat 14.2.1-8) To view detailed results, visit: https://lab.dpdk.org/results/dashboard/patchsets/33714/ UNH-IOL DPDK Community Lab To manage your email subscriptions, visit: https://lab.dpdk.org/results/dashboard/preferences/subscriptions/