From mboxrd@z Thu Jan 1 00:00:00 1970 Return-Path: Received: from mails.dpdk.org (mails.dpdk.org [217.70.189.124]) by inbox.dpdk.org (Postfix) with ESMTP id CDB3946BDA for ; Tue, 22 Jul 2025 00:48:55 +0200 (CEST) Received: from mails.dpdk.org (localhost [127.0.0.1]) by mails.dpdk.org (Postfix) with ESMTP id A7DD74026C; Tue, 22 Jul 2025 00:48:55 +0200 (CEST) Received: from mail-pl1-f226.google.com (mail-pl1-f226.google.com [209.85.214.226]) by mails.dpdk.org (Postfix) with ESMTP id 0632A4026C for ; Tue, 22 Jul 2025 00:48:53 +0200 (CEST) Received: by mail-pl1-f226.google.com with SMTP id d9443c01a7336-2350b1b9129so33363425ad.0 for ; Mon, 21 Jul 2025 15:48:53 -0700 (PDT) DKIM-Signature: v=1; a=rsa-sha256; c=relaxed/relaxed; d=iol.unh.edu; s=unh-iol; t=1753138133; x=1753742933; darn=dpdk.org; h=references:in-reply-to:cc:to:from:subject:message-id:date:from:to :cc:subject:date:message-id:reply-to; bh=yNyvQ6/7cN4WpN3XVU2Es7eUC5xin67K4otU8/EP3KA=; b=XIePPZLoyorovPEbsxWQRPzWEzYH1SDX3VrOVUty9zPXJP8XWTAHLBenieCymULS7J H7c5iFHDIcAGMGaMEWL755tOAqwTCCwhRWiGVWAvXPb5hDj2/BufubHs24AKUzn0h/ou u81r25k3p6YKHCtSDh2XxrN/Feigxfofcz1nQ= X-Google-DKIM-Signature: v=1; a=rsa-sha256; c=relaxed/relaxed; d=1e100.net; s=20230601; t=1753138133; x=1753742933; h=references:in-reply-to:cc:to:from:subject:message-id:date :x-gm-message-state:from:to:cc:subject:date:message-id:reply-to; bh=yNyvQ6/7cN4WpN3XVU2Es7eUC5xin67K4otU8/EP3KA=; b=SJmZgbbdAP40ATQCoF7Ce5gg+woFELoLLYyllK87lvmC3rWoovZQcWoEZIMegZTWdg SCmxD2qaMp+nF3WOU2TPFH1ZY93A51P2QI5C16GeCJubBs9yLwFRdedqouNthaNfppqR yQZJNlgpYhpz1jULALJbspDB/Hwu0TYuo7hEia976EF4lzA/I1LweWQEcea612TUIdYR Fy80RP9BURL4VAL4FspPN/0k6PhprFnQjlluN+aLVer/MAe1QFw62y5nvi87x/Ghbdc7 zzoGu9HUq+NJk9xFj19IywNJYPfRwv4ntUB62pPFRuWwzjyQVMbZTPmVYBUtST8/UNf7 9v5A== X-Gm-Message-State: AOJu0YzVXrgyKGulWzie8uZKuMgHjqQEh9if76fh4x+TYsF1Ril6nqg7 V031XXjcMaZIErKvwMU1AcH4fCTBnGEZL1ZArn6+Syh/CXk0hJKuSntrzYLsz0B2lrL6FpZoXf4 N+KPRMVroUbNEg69pNYTEYVzdnWLoDg1RnYTEM+vCU+e9p4prk7xjRyOIFgh0 X-Gm-Gg: ASbGncsxtAxmGC1kyvBqA2kCllRYua99b8SOZOTjriDH7Oocvf55SfCRlnQSo8l5xhw hqP2g3MarLTBbW5ITZbzz1jg7ZZiO+wtpF29oZmm3pgadqVDkTaqVDbx6HoYkBYv6yM85tvT3KH qzJFmEeNlSGC3ctpilDcnIckWHbhz/55lPBCnY386H4LL17i2n8Q+vslL7BHb+dl8YIo6hCT5Dy qOgZYjf+br+NUAL7c/oYrB+TZO1t53+NiTC9wMHd1drXiJlWSHbfD4h/R0M2ZS8jPcMzXwLZoL6 bX+gQiT+bWAl0nL5hk/x7I7wxTWECrxe3Wrzx2Mu0nw2HvwaqQ== X-Google-Smtp-Source: AGHT+IEV6tZmUfpGXDOK2MK5VHMd6ltJYqDUzFmTL0HnJazYDGDl+o63uS7RRJ3UgW9Q2T+Flp/LR+zGTdqs X-Received: by 2002:a17:902:fb8b:b0:23d:e2fc:6fe5 with SMTP id d9443c01a7336-23e2b445108mr220126045ad.49.1753138133042; Mon, 21 Jul 2025 15:48:53 -0700 (PDT) Received: from postal.iol.unh.edu (postal.iol.unh.edu. [2606:4100:3880:1234::84]) by smtp-relay.gmail.com with ESMTPS id d9443c01a7336-23e3b6bb078sm4449225ad.67.2025.07.21.15.48.52 (version=TLS1_2 cipher=ECDHE-ECDSA-AES128-GCM-SHA256 bits=128/128); Mon, 21 Jul 2025 15:48:53 -0700 (PDT) X-Relaying-Domain: iol.unh.edu Date: Mon, 21 Jul 2025 15:48:53 -0700 (PDT) Message-ID: <687ec3d5.170a0220.37787d.797aSMTPIN_ADDED_MISSING@mx.google.com> Received: from [172.21.0.2] (unknown [172.18.0.240]) by postal.iol.unh.edu (Postfix) with ESMTP id 49C586051830; Mon, 21 Jul 2025 18:48:52 -0400 (EDT) Subject: |SUCCESS| pw155399-155400 [PATCH] [v2,2/2] test/strsep: add tests fo From: dpdklab@iol.unh.edu To: Test Report Cc: dpdk-test-reports@iol.unh.edu In-Reply-To: <1753130343-29500-2-git-send-email-andremue@linux.microsoft.com> References: <1753130343-29500-2-git-send-email-andremue@linux.microsoft.com> Content-Type: text/plain X-BeenThere: test-report@dpdk.org X-Mailman-Version: 2.1.29 Precedence: list List-Id: automatic DPDK test reports List-Unsubscribe: , List-Archive: List-Post: List-Help: List-Subscribe: , Errors-To: test-report-bounces@dpdk.org Test-Label: iol-unit-arm64-testing Test-Status: SUCCESS http://dpdk.org/patch/155400 _Testing PASS_ Submitter: Andre Muezerie Date: Monday, July 21 2025 20:39:03 DPDK git baseline: Repo:dpdk Branch: master CommitID:b222395561638f89562e4ef42e1eabf2d6db43dd 155399-155400 --> testing pass Upstream job id: Generic-Unit-Test-DPDK#357019 Test environment and result as below: +------------------------------+----------------+--------------+---------------------------+------------------------------+ | Environment | dpdk_unit_test | lpm_autotest | cryptodev_sw_zuc_autotest | cryptodev_sw_snow3g_autotest | +==============================+================+==============+===========================+==============================+ | CentOS Stream 9 | PASS | SKIPPED | SKIPPED | SKIPPED | +------------------------------+----------------+--------------+---------------------------+------------------------------+ | Fedora Linux 40 | PASS | SKIPPED | SKIPPED | SKIPPED | +------------------------------+----------------+--------------+---------------------------+------------------------------+ | Debian GNU/Linux 12 | PASS | SKIPPED | SKIPPED | SKIPPED | +------------------------------+----------------+--------------+---------------------------+------------------------------+ | CentOS Stream 10 | PASS | SKIPPED | SKIPPED | SKIPPED | +------------------------------+----------------+--------------+---------------------------+------------------------------+ | Fedora Linux 41 | PASS | SKIPPED | SKIPPED | SKIPPED | +------------------------------+----------------+--------------+---------------------------+------------------------------+ | Ubuntu 22.04 | PASS | SKIPPED | SKIPPED | SKIPPED | +------------------------------+----------------+--------------+---------------------------+------------------------------+ | Red Hat Enterprise Linux 9.5 | PASS | SKIPPED | SKIPPED | SKIPPED | +------------------------------+----------------+--------------+---------------------------+------------------------------+ | Ubuntu 20.04 | PASS | PASS | SKIPPED | SKIPPED | +------------------------------+----------------+--------------+---------------------------+------------------------------+ | Ubuntu 24.04 | PASS | SKIPPED | SKIPPED | SKIPPED | +------------------------------+----------------+--------------+---------------------------+------------------------------+ | Debian 12 (arm) | SKIPPED | SKIPPED | PASS | PASS | +------------------------------+----------------+--------------+---------------------------+------------------------------+ CentOS Stream 9 Kernel: 5.4 Compiler: gcc gcc (GCC) 11.5.0 20240719 (Red Hat 11.5.0-7) Fedora Linux 40 Kernel: 5.4 Compiler: gcc gcc (GCC) 14.2.1 20240912 (Red Hat 14.2.1-3) Debian GNU/Linux 12 Kernel: 5.4 Compiler: gcc gcc (Debian 12.2.0-14+deb12u1) 12.2.0 CentOS Stream 10 Kernel: 5.4 Compiler: gcc gcc (GCC) 14.2.1 20250110 (Red Hat 14.2.1-8) Fedora Linux 41 Kernel: 5.4 Compiler: gcc gcc (GCC) 14.3.1 20250523 (Red Hat 14.3.1-1) Ubuntu 22.04 Kernel: 5.4 Compiler: gcc gcc (Ubuntu 11.4.0-1ubuntu1~22.04) 11.4.0 Red Hat Enterprise Linux 9.5 Kernel: 5.4 Compiler: gcc gcc (GCC) 11.5.0 20240719 (Red Hat 11.5.0-2) Ubuntu 20.04 Kernel: 5.4 Compiler: gcc gcc (Ubuntu 9.4.0-1ubuntu1~20.04.2) 9.4.0 Ubuntu 24.04 Kernel: 5.4 Compiler: gcc gcc (Ubuntu 13.3.0-6ubuntu2~24.04) 13.3.0 Debian 12 (arm) Kernel: Depends on container host Compiler: gcc (Debian 12.2.0-14) 12.2.0 To view detailed results, visit: https://lab.dpdk.org/results/dashboard/patchsets/33716/ UNH-IOL DPDK Community Lab To manage your email subscriptions, visit: https://lab.dpdk.org/results/dashboard/preferences/subscriptions/