From mboxrd@z Thu Jan 1 00:00:00 1970 Return-Path: Received: from mails.dpdk.org (mails.dpdk.org [217.70.189.124]) by inbox.dpdk.org (Postfix) with ESMTP id A2DF046BDC for ; Tue, 22 Jul 2025 03:02:36 +0200 (CEST) Received: from mails.dpdk.org (localhost [127.0.0.1]) by mails.dpdk.org (Postfix) with ESMTP id 7B26A4026C; Tue, 22 Jul 2025 03:02:36 +0200 (CEST) Received: from mail-io1-f99.google.com (mail-io1-f99.google.com [209.85.166.99]) by mails.dpdk.org (Postfix) with ESMTP id 9ED1C4026C for ; Tue, 22 Jul 2025 03:02:35 +0200 (CEST) Received: by mail-io1-f99.google.com with SMTP id ca18e2360f4ac-8733548c627so193694639f.3 for ; Mon, 21 Jul 2025 18:02:35 -0700 (PDT) DKIM-Signature: v=1; a=rsa-sha256; c=relaxed/relaxed; d=iol.unh.edu; s=unh-iol; t=1753146155; x=1753750955; darn=dpdk.org; h=cc:to:from:subject:message-id:date:from:to:cc:subject:date :message-id:reply-to; bh=uGbscyPrlaChsDg2ApnU4R2wIaEndAYvc0ALT2iW7YI=; b=CIwXdlXTL1OFPuUUcRFD37VAxSqL45MHdfKn0ckqevVEX9MLOZpzFwPtGiwcJgRdLq BDW4E4i89OrdQg+RQgtoTlLl/M8d7NqAV5O7lZnFay74GrbSPyCXEKMjLSnah7xX0F9j S1W6HPcMKPqyLr/O0cUwSMCyu4iRwspLR+f98= X-Google-DKIM-Signature: v=1; a=rsa-sha256; c=relaxed/relaxed; d=1e100.net; s=20230601; t=1753146155; x=1753750955; h=cc:to:from:subject:message-id:date:x-gm-message-state:from:to:cc :subject:date:message-id:reply-to; bh=uGbscyPrlaChsDg2ApnU4R2wIaEndAYvc0ALT2iW7YI=; b=Iz32/LxsETgoG65hRhRbpd5oJalpheIUcpsThsd1XjF5ctTocGvzzMI5Ougu7Dd2TH zT5pjg9BboawvUJv6w1ID+OcV8/FePcEHNfmAsRY4Fh5e7PuwUrweljaQMSw+fiaOsTX 0z2qXfZrVEnxVc8Z8cOMmHFtWUPj7nyMmohOQAC5k1+oMi2Hkk2+IcrgcQnOxY9zXAo8 PO1seXuL94g7SXTnvAaPOl9PCKs0GzH3bAD7CYmwZJL0d7RNy1+h/I+/JuPdTcmUFDjZ 7YYQZBYGoiKwkcBBhcfxyWoIPIHeBHMaDB5gZXiNenYhpBIZs/wnDICH7yRnYQCRA7tr QXsg== X-Gm-Message-State: AOJu0Yy8zRFkWzZ6riq9aUjV+8eJ8hR5vHOUqNStV6ZSVCNghnq/Gw81 /dbomENyB5TM5P8xSV1KP8BRr/Jh8wJ1FdfB6xWvpxGgfNrHJSWZiJKX7CUkfUQ1bkH0YRx+vua 6lW5xkTqwT6VneDWnEFSt4tZaEwWAwa6I3clanSja+5a2 X-Gm-Gg: ASbGnctu9sPz4TbzrDP60NPWhE/A1KtKptjeEykoemBkTuKkvbhc6jrcKrdfkuYGnIB 4NSnt+DirIDpioYO9zKnb/TjkJPi23Cukt91DNA7iBPafTO0eW7RPcip92aZytznA0DDudlnUL+ 5HBIVrAZ5BvfWzziprathF6bciT4h6Bz+tICXYPcYqlV7AQZGP39SfrD3EN+JL/pBw3x66gbxLL 7g0TP0t/i6aZaRJ1MHSRyYDc8VT5jSJI9NCSMY+I2HfsBNYqjgVegAQwMsuDaI43QE2/aSFhMTP C0AusiUL6rGTB06ZnCNa+czqnY+7/iulELSwudaGvejBVnF3TXe6hww9s4Ih8YX4Er9iEAvK X-Google-Smtp-Source: AGHT+IFTfS6yY0rgdkIyD8QKp5zN06W29eUWuQDeog9AflUkjShUOmBfMtRS0llrPS88PG4gEB2dy8MwBTIn X-Received: by 2002:a05:6602:6010:b0:876:a8dc:96cc with SMTP id ca18e2360f4ac-87c0136243cmr2599559439f.6.1753146154728; Mon, 21 Jul 2025 18:02:34 -0700 (PDT) Received: from postal.iol.unh.edu (postal.iol.unh.edu. [132.177.123.84]) by smtp-relay.gmail.com with ESMTPS id ca18e2360f4ac-87c0e6d19bbsm46153939f.15.2025.07.21.18.02.34 (version=TLS1_2 cipher=ECDHE-ECDSA-AES128-GCM-SHA256 bits=128/128); Mon, 21 Jul 2025 18:02:34 -0700 (PDT) X-Relaying-Domain: iol.unh.edu Date: Mon, 21 Jul 2025 18:02:34 -0700 (PDT) Message-ID: <687ee32a.050a0220.2b46ad.9221SMTPIN_ADDED_MISSING@mx.google.com> Received: from [172.21.0.3] (unknown [172.18.0.240]) by postal.iol.unh.edu (Postfix) with ESMTP id 437936051830; Mon, 21 Jul 2025 21:02:34 -0400 (EDT) Subject: |SUCCESS| [GIT MASTER] b222395561638f89562e4ef42e1eabf2d6db43dd From: dpdklab@iol.unh.edu To: Test Report Cc: dpdk-test-reports@iol.unh.edu Content-Type: text/plain X-BeenThere: test-report@dpdk.org X-Mailman-Version: 2.1.29 Precedence: list List-Id: automatic DPDK test reports List-Unsubscribe: , List-Archive: List-Post: List-Help: List-Subscribe: , Errors-To: test-report-bounces@dpdk.org _Testing PASS_ Branch: dpdk b222395561638f89562e4ef42e1eabf2d6db43dd --> testing pass Upstream job id: Generic-Unit-Test-DPDK#357048 Test environment and result as below: +-------------------------------+----------------+ | Environment | dpdk_unit_test | +===============================+================+ | Fedora Linux 40 | PASS | +-------------------------------+----------------+ | CentOS Stream 10 | PASS | +-------------------------------+----------------+ | Arch Linux 20250613.0.365270 | PASS | +-------------------------------+----------------+ | Debian GNU/Linux 12 | PASS | +-------------------------------+----------------+ | CentOS Stream 9 | PASS | +-------------------------------+----------------+ | Red Hat Enterprise Linux 9.5 | PASS | +-------------------------------+----------------+ | Ubuntu 22.04 | PASS | +-------------------------------+----------------+ | Fedora Linux 41 | PASS | +-------------------------------+----------------+ | Red Hat Enterprise Linux 8.10 | PASS | +-------------------------------+----------------+ | Ubuntu 20.04 | PASS | +-------------------------------+----------------+ | Ubuntu 24.04 | PASS | +-------------------------------+----------------+ | Windows Server 2022 | PASS | +-------------------------------+----------------+ Fedora Linux 40 Kernel: 5.15 Compiler: gcc gcc (GCC) 14.2.1 20240912 (Red Hat 14.2.1-3) CentOS Stream 10 Kernel: 5.15 Compiler: gcc gcc (GCC) 14.2.1 20250110 (Red Hat 14.2.1-8) Arch Linux 20250613.0.365270 Kernel: 5.15 Compiler: gcc gcc (GCC) 15.1.1 20250425 Debian GNU/Linux 12 Kernel: 5.15 Compiler: gcc gcc (Debian 12.2.0-14+deb12u1) 12.2.0 CentOS Stream 9 Kernel: 5.15 Compiler: gcc gcc (GCC) 11.5.0 20240719 (Red Hat 11.5.0-7) Red Hat Enterprise Linux 9.5 Kernel: 5.15 Compiler: gcc gcc (GCC) 11.5.0 20240719 (Red Hat 11.5.0-2) Ubuntu 22.04 Kernel: 5.15 Compiler: gcc gcc (Ubuntu 11.4.0-1ubuntu1~22.04) 11.4.0 Fedora Linux 41 Kernel: 5.15 Compiler: gcc gcc (GCC) 14.3.1 20250523 (Red Hat 14.3.1-1) Red Hat Enterprise Linux 8.10 Kernel: 5.15 Compiler: gcc gcc (GCC) 8.5.0 20210514 (Red Hat 8.5.0-22) Ubuntu 20.04 Kernel: 5.15 Compiler: gcc gcc (Ubuntu 9.4.0-1ubuntu1~20.04.2) 9.4.0 Ubuntu 24.04 Kernel: 5.15 Compiler: gcc gcc (Ubuntu 13.3.0-6ubuntu2~24.04) 13.3.0 Windows Server 2022 Kernel: 10.0.20348.2031 Compiler: clang 15.0.7, gcc 14.1.0 (MinGW), and MSVC VS 19.39.33521 To view detailed results, visit: https://lab.dpdk.org/results/dashboard/tarballs/34346/ UNH-IOL DPDK Community Lab To manage your email subscriptions, visit: https://lab.dpdk.org/results/dashboard/preferences/subscriptions/