From mboxrd@z Thu Jan 1 00:00:00 1970 Return-Path: Received: from mails.dpdk.org (mails.dpdk.org [217.70.189.124]) by inbox.dpdk.org (Postfix) with ESMTP id 90C4646BDC for ; Tue, 22 Jul 2025 03:11:55 +0200 (CEST) Received: from mails.dpdk.org (localhost [127.0.0.1]) by mails.dpdk.org (Postfix) with ESMTP id 816694026C; Tue, 22 Jul 2025 03:11:55 +0200 (CEST) Received: from mail-il1-f228.google.com (mail-il1-f228.google.com [209.85.166.228]) by mails.dpdk.org (Postfix) with ESMTP id 0C0A74026C for ; Tue, 22 Jul 2025 03:11:54 +0200 (CEST) Received: by mail-il1-f228.google.com with SMTP id e9e14a558f8ab-3df2ddd39c6so21978705ab.0 for ; Mon, 21 Jul 2025 18:11:53 -0700 (PDT) DKIM-Signature: v=1; a=rsa-sha256; c=relaxed/relaxed; d=iol.unh.edu; s=unh-iol; t=1753146713; x=1753751513; darn=dpdk.org; h=references:in-reply-to:cc:to:from:subject:message-id:date:from:to :cc:subject:date:message-id:reply-to; bh=QaxJIp7Qdbxjl5abJGe5zFUPkrWgMOcNR9hTDRaA1X0=; b=Qg2AVDwFG0Tp6d/4egE0n3EnHe4OmEqPv8z+V9FCKzSN4aduhcP+5Mer4nHv86RG7w hPO15WBrwi30SfHHXC2QNUS/Nel/7TxIkEKSQIqeMa1yzsCMoqDfJLQSe9r/qvyq3x8y xTbBPTif+SceLzlQ2DjGwafUxf7EyY80nCu1U= X-Google-DKIM-Signature: v=1; a=rsa-sha256; c=relaxed/relaxed; d=1e100.net; s=20230601; t=1753146713; x=1753751513; h=references:in-reply-to:cc:to:from:subject:message-id:date :x-gm-message-state:from:to:cc:subject:date:message-id:reply-to; bh=QaxJIp7Qdbxjl5abJGe5zFUPkrWgMOcNR9hTDRaA1X0=; b=n9IngsA56EbpA8Wok2OUC92SWdtmsCsuLiYMw9CwfAE/iSg3RPPvIA0ENAvC/cqhQ6 2RUsEoVByG2ynqneOBRNfymxu/bEzCcfOcrbWLxvXVHOVrPUEr6anE/mIk2LpUx9Zbgn /dZ3GnK8cxBdrprt7fkbTj7ysawzpn2JGAG90zFZGdOJ4aGFpResEDita3wDqlarI4rk qNGo0GlqgvpfUYTZIWYQvmPp6FgKGIhuvVkzxfFtg6RByqBTaLXVM1DeRUFvzrwn9P+n y7xIscv91VXDYpiKR8DMo9pNvORnhfuWGAwrXCmjUxz6f3q6K2rTao+/B/MChgVZ/22M C2uw== X-Gm-Message-State: AOJu0YzYFY2Bj1wP1z7f2Ueu9kKcY8TASriYd3gFY2C6yUqSOZrdl4/L kgqL5iTDr93dW24DRoanGrQbhVGWXsmNfD9EKU61nv8cOsbyBO1Bp13lL5JMaudRvylFklPA7G7 PSTs9P7LB/C/jQ8Emk2PDwdU5XpV8aVyZvpXJx3zQ8vu2 X-Gm-Gg: ASbGncs70EaHEH8Kbtb0ivEEmHHXjXb7SlZ1s66bmUvN0bdQBh8S2d0ZoyBjvQZTon1 wRMoxQ3PVVfO3qu8HWhBeh9Y2Ke+U7X6Y0dUoxI6ItnQ+qby3MnUISLRf7LID1k+ctWPu+eK9jK nUjie6eAc1zMwVBq5Z2FJE5eQ0YBPa5W+XdMymcLgXWffDNsI0gpjaSnDXkiVLBg8VvBuWPigUo dJh4dRHLe/WMwVJ5YHv7flbgMZtJEgPmROYURHWrfE7F8/OHnoHuJT9p8OEHySS7bL9hmXWpu5f 44kLpZTQsZMzZGhfP6a7xRtxBdXu3D5pj0bIQdNhI61Cz/Limm+opQsCraPw/3LkA9FnKpwv X-Google-Smtp-Source: AGHT+IGUFU7W918phCfycftSzPrlbJKsdYTjRlVTgJC2nNqRt74/fE7ZOHrSd23ulP87m3YeEs0D7tqpvn8r X-Received: by 2002:a05:6e02:12ed:b0:3dd:f4d5:1c1a with SMTP id e9e14a558f8ab-3e282ecd791mr253358095ab.17.1753146713346; Mon, 21 Jul 2025 18:11:53 -0700 (PDT) Received: from postal.iol.unh.edu (postal.iol.unh.edu. [132.177.123.84]) by smtp-relay.gmail.com with ESMTPS id 8926c6da1cb9f-5084c76ecb7sm415812173.3.2025.07.21.18.11.53 (version=TLS1_2 cipher=ECDHE-ECDSA-AES128-GCM-SHA256 bits=128/128); Mon, 21 Jul 2025 18:11:53 -0700 (PDT) X-Relaying-Domain: iol.unh.edu Date: Mon, 21 Jul 2025 18:11:53 -0700 (PDT) Message-ID: <687ee559.050a0220.761fe.5685SMTPIN_ADDED_MISSING@mx.google.com> Received: from [172.21.0.2] (unknown [172.18.0.240]) by postal.iol.unh.edu (Postfix) with ESMTP id D51CA6051830; Mon, 21 Jul 2025 21:11:52 -0400 (EDT) Subject: |SUCCESS| pw155399-155400 [PATCH] [v2,2/2] test/strsep: add tests fo From: dpdklab@iol.unh.edu To: Test Report Cc: dpdk-test-reports@iol.unh.edu In-Reply-To: <1753130343-29500-2-git-send-email-andremue@linux.microsoft.com> References: <1753130343-29500-2-git-send-email-andremue@linux.microsoft.com> Content-Type: text/plain X-BeenThere: test-report@dpdk.org X-Mailman-Version: 2.1.29 Precedence: list List-Id: automatic DPDK test reports List-Unsubscribe: , List-Archive: List-Post: List-Help: List-Subscribe: , Errors-To: test-report-bounces@dpdk.org Test-Label: iol-compile-arm64-testing Test-Status: SUCCESS http://dpdk.org/patch/155400 _Testing PASS_ Submitter: Andre Muezerie Date: Monday, July 21 2025 20:39:03 DPDK git baseline: Repo:dpdk Branch: master CommitID:b222395561638f89562e4ef42e1eabf2d6db43dd 155399-155400 --> testing pass Upstream job id: Generic-DPDK-Compile-Meson#410698 Test environment and result as below: +------------------------------+--------------------+ | Environment | dpdk_meson_compile | +==============================+====================+ | Red Hat Enterprise Linux 9.5 | PASS | +------------------------------+--------------------+ | Ubuntu 20.04 | PASS | +------------------------------+--------------------+ | Fedora Linux 40 | PASS | +------------------------------+--------------------+ | Debian GNU/Linux 12 | PASS | +------------------------------+--------------------+ | Ubuntu 24.04 | PASS | +------------------------------+--------------------+ | Ubuntu 22.04 | PASS | +------------------------------+--------------------+ | Fedora Linux 41 | PASS | +------------------------------+--------------------+ | CentOS Stream 9 | PASS | +------------------------------+--------------------+ | CentOS Stream 10 | PASS | +------------------------------+--------------------+ Red Hat Enterprise Linux 9.5 Kernel: 5.4 Compiler: gcc gcc (GCC) 11.5.0 20240719 (Red Hat 11.5.0-2) Ubuntu 20.04 Kernel: 5.15 Compiler: aarch64-linux-gnu-gcc gcc (Ubuntu 9.4.0-1ubuntu1~20.04.2) 9.4.0 Fedora Linux 40 Kernel: 5.4 Compiler: clang gcc (GCC) 14.2.1 20240912 (Red Hat 14.2.1-3) Debian GNU/Linux 12 Kernel: 5.4 Compiler: gcc gcc (Debian 12.2.0-14+deb12u1) 12.2.0 Ubuntu 24.04 Kernel: 5.4 Compiler: gcc gcc (Ubuntu 13.3.0-6ubuntu2~24.04) 13.3.0 Ubuntu 22.04 Kernel: 5.4 Compiler: gcc gcc (Ubuntu 11.4.0-1ubuntu1~22.04) 11.4.0 Fedora Linux 41 Kernel: 5.4 Compiler: gcc gcc (GCC) 14.3.1 20250523 (Red Hat 14.3.1-1) CentOS Stream 9 Kernel: 5.4 Compiler: gcc gcc (GCC) 11.5.0 20240719 (Red Hat 11.5.0-7) CentOS Stream 10 Kernel: 5.4 Compiler: gcc gcc (GCC) 14.2.1 20250110 (Red Hat 14.2.1-8) To view detailed results, visit: https://lab.dpdk.org/results/dashboard/patchsets/33716/ UNH-IOL DPDK Community Lab To manage your email subscriptions, visit: https://lab.dpdk.org/results/dashboard/preferences/subscriptions/