From mboxrd@z Thu Jan 1 00:00:00 1970 Return-Path: Received: from mails.dpdk.org (mails.dpdk.org [217.70.189.124]) by inbox.dpdk.org (Postfix) with ESMTP id 0859746BCD for ; Tue, 22 Jul 2025 03:15:35 +0200 (CEST) Received: from mails.dpdk.org (localhost [127.0.0.1]) by mails.dpdk.org (Postfix) with ESMTP id DB61F4026C; Tue, 22 Jul 2025 03:15:34 +0200 (CEST) Received: from mail-yb1-f225.google.com (mail-yb1-f225.google.com [209.85.219.225]) by mails.dpdk.org (Postfix) with ESMTP id 2F0B34026C for ; Tue, 22 Jul 2025 03:15:34 +0200 (CEST) Received: by mail-yb1-f225.google.com with SMTP id 3f1490d57ef6-e8bd171826cso4515567276.3 for ; Mon, 21 Jul 2025 18:15:34 -0700 (PDT) DKIM-Signature: v=1; a=rsa-sha256; c=relaxed/relaxed; d=iol.unh.edu; s=unh-iol; t=1753146933; x=1753751733; darn=dpdk.org; h=cc:to:from:subject:message-id:date:from:to:cc:subject:date :message-id:reply-to; bh=9Zonc4ocCA1L3t909s62UmtEUTDCdCCUFIChlX/zkYE=; b=Slev66UDC5G4JSvgB5LplDuUYVoStB0O6UdF5c61yl5sxSQENu81/bPG7hQP6VP+eL zoFhi/QhN+4W0D5xdCUpJbYgNeC0oh3faca5mtOUFcV+HSU1WebBHItrJsGcUtFVXVIF 3ozsPw/2MpjSGhcSK2c7hTQJW49hjjsrs7I8g= X-Google-DKIM-Signature: v=1; a=rsa-sha256; c=relaxed/relaxed; d=1e100.net; s=20230601; t=1753146933; x=1753751733; h=cc:to:from:subject:message-id:date:x-gm-message-state:from:to:cc :subject:date:message-id:reply-to; bh=9Zonc4ocCA1L3t909s62UmtEUTDCdCCUFIChlX/zkYE=; b=JUw1KNOJ/vyg430AHD/Uq3nHVk6vPiKN6bKlAMcFkWcscyz7hzXHz0Bi8SmCitF/jW 9/kIiBh8NcfoZh+7U3cdS9Fl9UKoAge8PYrEczPFyv9YtcjBGp/aejLPtU1Zh7nzVA5J wekr8S939U/pCR/UMzc35W6GSvyY0jMcyr0BmJMTNrjcyw27WoLT8E1t+WREsFn75h76 aisJ1iMgexAnA38UO5xEHCLI56tfwZsk+eCfFcw51KwOyYI949gJWki4GhehdpLYP5Zm 6YiZdniB1XG5bMDnuPxhpqHIvP50KeLyJG4BnXHPNteTakvmz5gxksp7g0rlBEV/Kgjc 225w== X-Gm-Message-State: AOJu0YyuE3Au5PwCoSk1cNGNBLfO3ensNP8hvhFKKq0sOJ4s7QE69O5T I9krgrvtUNxWh7iU7tvspLWbUbGj2qSsCSJ6zohfDbhOEYnhGCEeYwqw4PQldfhjESh5eka4Ukg OCB07VW24mOCfLhzKQtWqKMzLhFHP7rEsRjEl1aMrwC5J2PjUZXNc8o9sHrA6 X-Gm-Gg: ASbGncsqsnUy3XtJaKjh2vADRBJ1cXLeGKO+eT7STAXrhvTRsjlArQ6+R0+sL+Rk/3M 7cIOHLEYi23Sbs2FMF/hNdPgg2+YcR/irkRfm+TGbhKyxFDMZga5+7Gv3SFTS8ygniNvFI23GR3 HbZ2QOkj5filU84ka1LNRJ12sx+9sl/Q3xm3ou2jbgOVT+8erlOn26v/AOsrAUZJJl1gKAdNbSA /j281GCEiufsKRkmCW04hV2O82P5Is9i57j1A9X9hrlvX6ZsZsYJIKb2Gfa/3jOnNB/zmy8PC6j FjP6TOo3o9lE7SCAZoJYiCBWhrf+PKx12MyFb5U4r75+AheMWA== X-Google-Smtp-Source: AGHT+IGyLkkG77sMapHlY3tldvDQmSS/knwk3Xu+dCNOXEsEjz7muujXidg8KNg492N3NcQ35BAR6NQCX2Gm X-Received: by 2002:a05:690c:b15:b0:70e:2d17:84b5 with SMTP id 00721157ae682-71836980800mr285469857b3.0.1753146933326; Mon, 21 Jul 2025 18:15:33 -0700 (PDT) Received: from postal.iol.unh.edu (postal.iol.unh.edu. [2606:4100:3880:1234::84]) by smtp-relay.gmail.com with ESMTPS id 00721157ae682-71953105e35sm4719607b3.11.2025.07.21.18.15.33 (version=TLS1_2 cipher=ECDHE-ECDSA-AES128-GCM-SHA256 bits=128/128); Mon, 21 Jul 2025 18:15:33 -0700 (PDT) X-Relaying-Domain: iol.unh.edu Date: Mon, 21 Jul 2025 18:15:33 -0700 (PDT) Message-ID: <687ee635.050a0220.1017c7.9c39SMTPIN_ADDED_MISSING@mx.google.com> Received: from [172.21.0.2] (unknown [172.18.0.240]) by postal.iol.unh.edu (Postfix) with ESMTP id 037EE6051830; Mon, 21 Jul 2025 21:15:33 -0400 (EDT) Subject: |SUCCESS| [GIT MASTER] b222395561638f89562e4ef42e1eabf2d6db43dd From: dpdklab@iol.unh.edu To: Test Report Cc: dpdk-test-reports@iol.unh.edu Content-Type: text/plain X-BeenThere: test-report@dpdk.org X-Mailman-Version: 2.1.29 Precedence: list List-Id: automatic DPDK test reports List-Unsubscribe: , List-Archive: List-Post: List-Help: List-Subscribe: , Errors-To: test-report-bounces@dpdk.org _Testing PASS_ Branch: dpdk b222395561638f89562e4ef42e1eabf2d6db43dd --> testing pass Upstream job id: Generic-DPDK-Compile-ABI#135167 Test environment and result as below: +-------------------------------+----------+ | Environment | abi_test | +===============================+==========+ | CentOS Stream 10 | PASS | +-------------------------------+----------+ | Fedora Linux 40 | PASS | +-------------------------------+----------+ | Arch Linux 20250613.0.365270 | PASS | +-------------------------------+----------+ | Debian GNU/Linux 12 | PASS | +-------------------------------+----------+ | openSUSE Leap 15.6 | PASS | +-------------------------------+----------+ | Fedora Linux 41 | PASS | +-------------------------------+----------+ | Red Hat Enterprise Linux 8.10 | PASS | +-------------------------------+----------+ | Red Hat Enterprise Linux 9.5 | PASS | +-------------------------------+----------+ | Ubuntu 22.04 | PASS | +-------------------------------+----------+ | Ubuntu 24.04 | PASS | +-------------------------------+----------+ | CentOS Stream 9 | PASS | +-------------------------------+----------+ CentOS Stream 10 Kernel: 5.15 Compiler: gcc gcc (GCC) 14.2.1 20250110 (Red Hat 14.2.1-8) Fedora Linux 40 Kernel: 5.15 Compiler: clang gcc (GCC) 14.2.1 20240912 (Red Hat 14.2.1-3) Arch Linux 20250613.0.365270 Kernel: 5.15 Compiler: gcc gcc (GCC) 15.1.1 20250425 Debian GNU/Linux 12 Kernel: 5.15 Compiler: gcc gcc (Debian 12.2.0-14+deb12u1) 12.2.0 openSUSE Leap 15.6 Kernel: 5.15 Compiler: gcc gcc (SUSE Linux) 7.5.0 Fedora Linux 41 Kernel: 5.15 Compiler: gcc gcc (GCC) 14.3.1 20250523 (Red Hat 14.3.1-1) Red Hat Enterprise Linux 8.10 Kernel: 5.15 Compiler: gcc gcc (GCC) 8.5.0 20210514 (Red Hat 8.5.0-22) Red Hat Enterprise Linux 9.5 Kernel: 5.15 Compiler: gcc gcc (GCC) 11.5.0 20240719 (Red Hat 11.5.0-2) Ubuntu 22.04 Kernel: 5.15 Compiler: gcc gcc (Ubuntu 11.4.0-1ubuntu1~22.04) 11.4.0 Ubuntu 24.04 Kernel: 5.15 Compiler: gcc gcc (Ubuntu 13.3.0-6ubuntu2~24.04) 13.3.0 CentOS Stream 9 Kernel: 5.15 Compiler: gcc gcc (GCC) 11.5.0 20240719 (Red Hat 11.5.0-7) To view detailed results, visit: https://lab.dpdk.org/results/dashboard/tarballs/34346/ UNH-IOL DPDK Community Lab To manage your email subscriptions, visit: https://lab.dpdk.org/results/dashboard/preferences/subscriptions/