From mboxrd@z Thu Jan 1 00:00:00 1970 Return-Path: Received: from mails.dpdk.org (mails.dpdk.org [217.70.189.124]) by inbox.dpdk.org (Postfix) with ESMTP id 2AECE46BDC for ; Tue, 22 Jul 2025 03:26:57 +0200 (CEST) Received: from mails.dpdk.org (localhost [127.0.0.1]) by mails.dpdk.org (Postfix) with ESMTP id 03BCE4026C; Tue, 22 Jul 2025 03:26:57 +0200 (CEST) Received: from mail-io1-f99.google.com (mail-io1-f99.google.com [209.85.166.99]) by mails.dpdk.org (Postfix) with ESMTP id 334054026C for ; Tue, 22 Jul 2025 03:26:55 +0200 (CEST) Received: by mail-io1-f99.google.com with SMTP id ca18e2360f4ac-879c49e8ac3so359626939f.1 for ; Mon, 21 Jul 2025 18:26:55 -0700 (PDT) DKIM-Signature: v=1; a=rsa-sha256; c=relaxed/relaxed; d=iol.unh.edu; s=unh-iol; t=1753147614; x=1753752414; darn=dpdk.org; h=cc:to:from:subject:message-id:date:from:to:cc:subject:date :message-id:reply-to; bh=FALI7UH2BamzIhKnPyraEjpElHk62bIt825GHtrh19Q=; b=VKmPBeYTDIjsiVHez4hVQ5/eX3X8Q7MksnNwiUumzkyEDyK7Z1RMzAHPbp/Y+y+Q+T YI9/q0kuUdZhubbJzJRIPJ8Mvq9h7BBIXbvI1SNIklYnX0RBumiBDAAqsupd/T1v5qeN T2MG+cC4CbmMUM7i4ZGihGeL511Q3Xz6GKEOw= X-Google-DKIM-Signature: v=1; a=rsa-sha256; c=relaxed/relaxed; d=1e100.net; s=20230601; t=1753147614; x=1753752414; h=cc:to:from:subject:message-id:date:x-gm-message-state:from:to:cc :subject:date:message-id:reply-to; bh=FALI7UH2BamzIhKnPyraEjpElHk62bIt825GHtrh19Q=; b=AvILxcnEyRydqTzR9VRerwTw6+2FjDUHAyhEC2HTG7JfjVrijcVKxYXrTwXCIkRe5Q pzAxRbirkCX1o5hJ1a1AqsGJozLovdDIhyFr4b3jgI4xrJ35eThiZT6rPAT5y8cMqAHj qwSS2SlT0uZdkw1Nrmw1uvGsmfgJ8Qles/K/ijalMN2ML2NvgFzO1AAB60HiB/V+U2Pf rKiYFDFMjYmWZU+PLWkDMxJAb0zziXjwAVhkNCpUum7/+ea6jsN/FHjlKoZGbNATnPys Okr1QDvgb9jMTFOkUIAsHKpdgY8VgtbGOhRfj1aMwvGKrL0ks3cxdnaWyekey0P96zXb YuSw== X-Gm-Message-State: AOJu0Yw04FWLDvgTuiboz3qY+04n3LnKEGgnOe96OYhcM50ofAahUA0p M9iwX/jw5wX23ZaIQiDEBip1rYtt8KsWdAuc7psL4CCe3V62ZJXI6kucXhGqoqnN10bNa48mUqz izHLD7aDxnogwtdDNByms1GBkdZgDbUAd9UEaJ+BdU5V0 X-Gm-Gg: ASbGnct3EVTcOmoHfxR/6U0cSKDi0Y13zUNPj07cZKUuHWES58nIXrqcGzANpTTPd7k PCTmNzw6xzszpsYNevCt9bP+/J0oTQKHTzJQfQ8dYeaaQfOLAaTCoj1C7cSKyWoIEkiP8KsF0cE BtxdfFxICghffiTtAXYiLuJ/eF1z18pYKJBNDiohMMkyBZOGQ0PofqJbXuUDbvufm8Dv23+QqYE J8LOHyJXwK+y6huI/7A8WQgl9dWupLVmtzgy330ueqj2c++3/vfTWS3g4yqQkTtdlwjVlLOtFw7 Z1bpYj/X8XdoZLlPefKkD7owKkiWzdZTiZVnurPtnXyLZj4i4oD/iod7c++1eblhb1MLDgdN X-Google-Smtp-Source: AGHT+IHaYoUcnpQvIvo0XPJFDqAewG7QpuAhMLJ4x5Ue+9qgnSVaujE7pK8vCjhPZJfjQKSfLo5T3o8jfGLS X-Received: by 2002:a5d:9b0a:0:b0:879:c3bf:b6b with SMTP id ca18e2360f4ac-879c3bf18bfmr2569274339f.6.1753147614474; Mon, 21 Jul 2025 18:26:54 -0700 (PDT) Received: from postal.iol.unh.edu (postal.iol.unh.edu. [132.177.123.84]) by smtp-relay.gmail.com with ESMTPS id ca18e2360f4ac-87c0e7624c1sm45518839f.26.2025.07.21.18.26.54 (version=TLS1_2 cipher=ECDHE-ECDSA-AES128-GCM-SHA256 bits=128/128); Mon, 21 Jul 2025 18:26:54 -0700 (PDT) X-Relaying-Domain: iol.unh.edu Date: Mon, 21 Jul 2025 18:26:54 -0700 (PDT) Message-ID: <687ee8de.050a0220.3847ec.71baSMTPIN_ADDED_MISSING@mx.google.com> Received: from [172.21.0.4] (unknown [172.18.0.240]) by postal.iol.unh.edu (Postfix) with ESMTP id 08A0B6051830; Mon, 21 Jul 2025 21:26:54 -0400 (EDT) Subject: |SUCCESS| [GIT MASTER] b222395561638f89562e4ef42e1eabf2d6db43dd From: dpdklab@iol.unh.edu To: Test Report Cc: dpdk-test-reports@iol.unh.edu Content-Type: text/plain X-BeenThere: test-report@dpdk.org X-Mailman-Version: 2.1.29 Precedence: list List-Id: automatic DPDK test reports List-Unsubscribe: , List-Archive: List-Post: List-Help: List-Subscribe: , Errors-To: test-report-bounces@dpdk.org _Testing PASS_ Branch: dpdk b222395561638f89562e4ef42e1eabf2d6db43dd --> testing pass Upstream job id: Generic-DPDK-Compile-Meson#410721 Test environment and result as below: +-------------------------------+--------------------+-------------------+------------------+-------------------+-------------------------+----------------------+ | Environment | dpdk_meson_compile | dpdk_compile_spdk | dpdk_compile_ovs | dpdk_msvc_compile | dpdk_llvm_clang_compile | dpdk_mingw64_compile | +===============================+====================+===================+==================+===================+=========================+======================+ | CentOS Stream 9 | PASS | PASS | SKIPPED | SKIPPED | SKIPPED | SKIPPED | +-------------------------------+--------------------+-------------------+------------------+-------------------+-------------------------+----------------------+ | CentOS Stream 10 | PASS | SKIPPED | SKIPPED | SKIPPED | SKIPPED | SKIPPED | +-------------------------------+--------------------+-------------------+------------------+-------------------+-------------------------+----------------------+ | Debian GNU/Linux 12 | PASS | PASS | SKIPPED | SKIPPED | SKIPPED | SKIPPED | +-------------------------------+--------------------+-------------------+------------------+-------------------+-------------------------+----------------------+ | Fedora Linux 40 | PASS | PASS | SKIPPED | SKIPPED | SKIPPED | SKIPPED | +-------------------------------+--------------------+-------------------+------------------+-------------------+-------------------------+----------------------+ | Fedora Linux 41 | PASS | PASS | PASS | SKIPPED | SKIPPED | SKIPPED | +-------------------------------+--------------------+-------------------+------------------+-------------------+-------------------------+----------------------+ | Red Hat Enterprise Linux 9.5 | PASS | SKIPPED | SKIPPED | SKIPPED | SKIPPED | SKIPPED | +-------------------------------+--------------------+-------------------+------------------+-------------------+-------------------------+----------------------+ | Red Hat Enterprise Linux 8.10 | PASS | SKIPPED | SKIPPED | SKIPPED | SKIPPED | SKIPPED | +-------------------------------+--------------------+-------------------+------------------+-------------------+-------------------------+----------------------+ | openSUSE Leap 15.6 | PASS | SKIPPED | SKIPPED | SKIPPED | SKIPPED | SKIPPED | +-------------------------------+--------------------+-------------------+------------------+-------------------+-------------------------+----------------------+ | Ubuntu 20.04 | PASS | SKIPPED | SKIPPED | SKIPPED | SKIPPED | SKIPPED | +-------------------------------+--------------------+-------------------+------------------+-------------------+-------------------------+----------------------+ | Ubuntu 22.04 | PASS | PASS | SKIPPED | SKIPPED | SKIPPED | SKIPPED | +-------------------------------+--------------------+-------------------+------------------+-------------------+-------------------------+----------------------+ | Ubuntu 24.04 | PASS | PASS | PASS | SKIPPED | SKIPPED | SKIPPED | +-------------------------------+--------------------+-------------------+------------------+-------------------+-------------------------+----------------------+ | Alpine Linux 3.22.0 | PASS | SKIPPED | SKIPPED | SKIPPED | SKIPPED | SKIPPED | +-------------------------------+--------------------+-------------------+------------------+-------------------+-------------------------+----------------------+ | FreeBSD 14.2 | PASS | SKIPPED | SKIPPED | SKIPPED | SKIPPED | SKIPPED | +-------------------------------+--------------------+-------------------+------------------+-------------------+-------------------------+----------------------+ | Arch Linux 20250613.0.365270 | PASS | SKIPPED | SKIPPED | SKIPPED | SKIPPED | SKIPPED | +-------------------------------+--------------------+-------------------+------------------+-------------------+-------------------------+----------------------+ | Windows Server 2022 | SKIPPED | SKIPPED | SKIPPED | PASS | PASS | PASS | +-------------------------------+--------------------+-------------------+------------------+-------------------+-------------------------+----------------------+ CentOS Stream 9 Kernel: 5.15 Compiler: gcc gcc (GCC) 11.5.0 20240719 (Red Hat 11.5.0-7) CentOS Stream 10 Kernel: 5.15 Compiler: gcc gcc (GCC) 14.2.1 20250110 (Red Hat 14.2.1-8) Debian GNU/Linux 12 Kernel: 5.15 Compiler: gcc gcc (Debian 12.2.0-14+deb12u1) 12.2.0 Fedora Linux 40 Kernel: 5.15 Compiler: clang gcc (GCC) 14.2.1 20240912 (Red Hat 14.2.1-3) Fedora Linux 41 Kernel: 5.15 Compiler: clang gcc (GCC) 14.3.1 20250523 (Red Hat 14.3.1-1) Red Hat Enterprise Linux 9.5 Kernel: 5.15 Compiler: gcc gcc (GCC) 11.5.0 20240719 (Red Hat 11.5.0-2) Red Hat Enterprise Linux 8.10 Kernel: 5.15 Compiler: gcc gcc (GCC) 8.5.0 20210514 (Red Hat 8.5.0-22) openSUSE Leap 15.6 Kernel: 5.15 Compiler: gcc gcc (SUSE Linux) 7.5.0 Ubuntu 20.04 Kernel: 5.15 Compiler: gcc gcc (Ubuntu 9.4.0-1ubuntu1~20.04.2) 9.4.0 Ubuntu 22.04 Kernel: 5.15 Compiler: gcc gcc (Ubuntu 11.4.0-1ubuntu1~22.04) 11.4.0 Ubuntu 24.04 Kernel: 5.15 Compiler: gcc gcc (Ubuntu 13.3.0-6ubuntu2~24.04) 13.3.0 Alpine Linux 3.22.0 Kernel: 5.15 Compiler: gcc gcc (Alpine 14.2.0) 14.2.0 FreeBSD 14.2 Kernel: 14.2-RELEASE Compiler: clang 18.1.6 Arch Linux 20250613.0.365270 Kernel: 5.15 Compiler: gcc gcc (GCC) 15.1.1 20250425 Windows Server 2022 Kernel: 10.0.20348.2031 Compiler: clang 15.0.7, gcc 14.1.0 (MinGW), and MSVC VS 19.39.33521 To view detailed results, visit: https://lab.dpdk.org/results/dashboard/tarballs/34346/ UNH-IOL DPDK Community Lab To manage your email subscriptions, visit: https://lab.dpdk.org/results/dashboard/preferences/subscriptions/