From mboxrd@z Thu Jan 1 00:00:00 1970 Return-Path: Received: from mails.dpdk.org (mails.dpdk.org [217.70.189.124]) by inbox.dpdk.org (Postfix) with ESMTP id 4247346BDC for ; Tue, 22 Jul 2025 03:39:25 +0200 (CEST) Received: from mails.dpdk.org (localhost [127.0.0.1]) by mails.dpdk.org (Postfix) with ESMTP id 236504026C; Tue, 22 Jul 2025 03:39:25 +0200 (CEST) Received: from mail-pf1-f227.google.com (mail-pf1-f227.google.com [209.85.210.227]) by mails.dpdk.org (Postfix) with ESMTP id 3EDC44026C for ; Tue, 22 Jul 2025 03:39:23 +0200 (CEST) Received: by mail-pf1-f227.google.com with SMTP id d2e1a72fcca58-74b54af901bso3231426b3a.2 for ; Mon, 21 Jul 2025 18:39:23 -0700 (PDT) DKIM-Signature: v=1; a=rsa-sha256; c=relaxed/relaxed; d=iol.unh.edu; s=unh-iol; t=1753148362; x=1753753162; darn=dpdk.org; h=cc:to:from:subject:message-id:date:from:to:cc:subject:date :message-id:reply-to; bh=xHmPW46Yo/kvOjBBzhCoZOgZM4g2muuHyGDRbvX4whM=; b=IqjshMjYc92j4fwA+K0ZGYgcHmelDVP1i7VWwyHo9+ogiU97T99sWHKpQFbMMGez2u Fh4z5gWjUXmtiRD4d68Y8eDBRnL+B8fdNBIqRHHGZqCvWeBBS0vGW+VQQVxD+It/e4VK hUqckgWLXPonP10vtanHQZNabW5ggVOzUZ2HE= X-Google-DKIM-Signature: v=1; a=rsa-sha256; c=relaxed/relaxed; d=1e100.net; s=20230601; t=1753148362; x=1753753162; h=cc:to:from:subject:message-id:date:x-gm-message-state:from:to:cc :subject:date:message-id:reply-to; bh=xHmPW46Yo/kvOjBBzhCoZOgZM4g2muuHyGDRbvX4whM=; b=IDfb1tFJNxtrCAMsMsuSv0MDcQi7azKKm/x/0NCj4zCiLiHPyXuZL/n+UYJZyzExao iYM36k5HRdZ7ZszTRM28mDJdim36pspivS3B7YBsr86OQJBbpeckGEU+T6UaV14WU58h ucQalmShxerfNbqnQwxGvpIjFaowa7aBjMBr5Omxb27gbW+SOTsLAa97K11WPkDpbM+Z DZs/CIDbAaiaUUEjKvUELjDxH4bNqTi6uAr5iJReQtVfAK1WuqqQCtrszizqK/znejv2 qhGQGOOwVSyehDLYB/7+0yJ21vj++EqCxd+9S+0RUPOMZSY0FnzwcXylZ+yCImeTbWBB ZDEg== X-Gm-Message-State: AOJu0Ywwzl2qLIS5GWlDYc2Bjd04nwFIkwhoWdPAv5jN2ccFh+Syhek2 W8b7tnIi8vHCMt3a2OF8IBHMKxLexXPZcy/vFWhCokUV1QobUkVp7g3YU2Ebd8neywDCisyM6IZ aKo5EtnisEbHBUPtvp0vE6XCePK0b7oQ08R5z2B8Duc13J0IpSsvnx7ZSS4nX X-Gm-Gg: ASbGnct5KlPSgpR+h+rWDFnTMLx048Vs0En0VTkfGLdCWD4EUATubPgpEpcQwdWtub5 N3YpfZP8/tQr54H1xJ30Dt4ZwFwSRquU00ekNABCiu/6ZJcZkzRKrjX/Yve09t66392Etg4dOVz S+Hcm1p0Rl4yxPSGJLQqU6vEKE1LS1pfq4yqUc5hvXEyzONLkrFA8HLs393Gjf1GAE1W95OScIv nZUEprwZQMQxXZWvut4pxVr9Y6G6yl4AvWBJwuBxwzndx1loG5fCUMe4ET1VjSXCmYQGNYcekip RvYoF+AwD1Wx7i1i368/fz27xFBtIgpJ+RgzZfmWkF3LQdUiRA== X-Google-Smtp-Source: AGHT+IGdYKDId6jyUUuHYlc/V5IL7pJPZFuamB5gL3XjB+4dsdRWFtu2lBgY4Qhae7zPoG5hWiQaCiKGkQ06 X-Received: by 2002:a05:6a21:1709:b0:232:4a42:dfd1 with SMTP id adf61e73a8af0-237d866f981mr35818245637.36.1753148362136; Mon, 21 Jul 2025 18:39:22 -0700 (PDT) Received: from postal.iol.unh.edu (postal.iol.unh.edu. [2606:4100:3880:1234::84]) by smtp-relay.gmail.com with ESMTPS id 41be03b00d2f7-b3f2ff7e2fesm541159a12.21.2025.07.21.18.39.22 (version=TLS1_2 cipher=ECDHE-ECDSA-AES128-GCM-SHA256 bits=128/128); Mon, 21 Jul 2025 18:39:22 -0700 (PDT) X-Relaying-Domain: iol.unh.edu Date: Mon, 21 Jul 2025 18:39:22 -0700 (PDT) Message-ID: <687eebca.650a0220.10faa0.b3d6SMTPIN_ADDED_MISSING@mx.google.com> Received: from [172.21.0.2] (unknown [172.18.0.240]) by postal.iol.unh.edu (Postfix) with ESMTP id 5E0346050A61; Mon, 21 Jul 2025 21:39:21 -0400 (EDT) Subject: |SUCCESS| [GIT MASTER] b222395561638f89562e4ef42e1eabf2d6db43dd From: dpdklab@iol.unh.edu To: Test Report Cc: dpdk-test-reports@iol.unh.edu Content-Type: text/plain X-BeenThere: test-report@dpdk.org X-Mailman-Version: 2.1.29 Precedence: list List-Id: automatic DPDK test reports List-Unsubscribe: , List-Archive: List-Post: List-Help: List-Subscribe: , Errors-To: test-report-bounces@dpdk.org _Testing PASS_ Branch: dpdk b222395561638f89562e4ef42e1eabf2d6db43dd --> testing pass Upstream job id: Generic-Unit-Test-DPDK#357049 Test environment and result as below: +------------------------------+------------------------------+--------------+---------------------------+----------------+ | Environment | cryptodev_sw_snow3g_autotest | lpm_autotest | cryptodev_sw_zuc_autotest | dpdk_unit_test | +==============================+==============================+==============+===========================+================+ | Debian 12 (arm) | PASS | SKIPPED | PASS | SKIPPED | +------------------------------+------------------------------+--------------+---------------------------+----------------+ | Ubuntu 20.04 | SKIPPED | PASS | SKIPPED | PASS | +------------------------------+------------------------------+--------------+---------------------------+----------------+ | CentOS Stream 10 | SKIPPED | SKIPPED | SKIPPED | PASS | +------------------------------+------------------------------+--------------+---------------------------+----------------+ | CentOS Stream 9 | SKIPPED | SKIPPED | SKIPPED | PASS | +------------------------------+------------------------------+--------------+---------------------------+----------------+ | Debian GNU/Linux 12 | SKIPPED | SKIPPED | SKIPPED | PASS | +------------------------------+------------------------------+--------------+---------------------------+----------------+ | Fedora Linux 40 | SKIPPED | SKIPPED | SKIPPED | PASS | +------------------------------+------------------------------+--------------+---------------------------+----------------+ | Fedora Linux 41 | SKIPPED | SKIPPED | SKIPPED | PASS | +------------------------------+------------------------------+--------------+---------------------------+----------------+ | Ubuntu 22.04 | SKIPPED | SKIPPED | SKIPPED | PASS | +------------------------------+------------------------------+--------------+---------------------------+----------------+ | Red Hat Enterprise Linux 9.5 | SKIPPED | SKIPPED | SKIPPED | PASS | +------------------------------+------------------------------+--------------+---------------------------+----------------+ | Ubuntu 24.04 | SKIPPED | SKIPPED | SKIPPED | PASS | +------------------------------+------------------------------+--------------+---------------------------+----------------+ Debian 12 (arm) Kernel: Depends on container host Compiler: gcc (Debian 12.2.0-14) 12.2.0 Ubuntu 20.04 Kernel: 5.4 Compiler: gcc gcc (Ubuntu 9.4.0-1ubuntu1~20.04.2) 9.4.0 CentOS Stream 10 Kernel: 5.4 Compiler: gcc gcc (GCC) 14.2.1 20250110 (Red Hat 14.2.1-8) CentOS Stream 9 Kernel: 5.4 Compiler: gcc gcc (GCC) 11.5.0 20240719 (Red Hat 11.5.0-7) Debian GNU/Linux 12 Kernel: 5.4 Compiler: gcc gcc (Debian 12.2.0-14+deb12u1) 12.2.0 Fedora Linux 40 Kernel: 5.4 Compiler: gcc gcc (GCC) 14.2.1 20240912 (Red Hat 14.2.1-3) Fedora Linux 41 Kernel: 5.4 Compiler: gcc gcc (GCC) 14.3.1 20250523 (Red Hat 14.3.1-1) Ubuntu 22.04 Kernel: 5.4 Compiler: gcc gcc (Ubuntu 11.4.0-1ubuntu1~22.04) 11.4.0 Red Hat Enterprise Linux 9.5 Kernel: 5.4 Compiler: gcc gcc (GCC) 11.5.0 20240719 (Red Hat 11.5.0-2) Ubuntu 24.04 Kernel: 5.4 Compiler: gcc gcc (Ubuntu 13.3.0-6ubuntu2~24.04) 13.3.0 To view detailed results, visit: https://lab.dpdk.org/results/dashboard/tarballs/34346/ UNH-IOL DPDK Community Lab To manage your email subscriptions, visit: https://lab.dpdk.org/results/dashboard/preferences/subscriptions/