From mboxrd@z Thu Jan 1 00:00:00 1970 Return-Path: Received: from mails.dpdk.org (mails.dpdk.org [217.70.189.124]) by inbox.dpdk.org (Postfix) with ESMTP id D985C46B8C for ; Tue, 22 Jul 2025 04:14:55 +0200 (CEST) Received: from mails.dpdk.org (localhost [127.0.0.1]) by mails.dpdk.org (Postfix) with ESMTP id B8F724026C; Tue, 22 Jul 2025 04:14:55 +0200 (CEST) Received: from mail-yb1-f226.google.com (mail-yb1-f226.google.com [209.85.219.226]) by mails.dpdk.org (Postfix) with ESMTP id 861944026C for ; Tue, 22 Jul 2025 04:14:54 +0200 (CEST) Received: by mail-yb1-f226.google.com with SMTP id 3f1490d57ef6-e8dbdb68923so11705276.1 for ; Mon, 21 Jul 2025 19:14:54 -0700 (PDT) DKIM-Signature: v=1; a=rsa-sha256; c=relaxed/relaxed; d=iol.unh.edu; s=unh-iol; t=1753150494; x=1753755294; darn=dpdk.org; h=references:in-reply-to:cc:to:from:subject:message-id:date:from:to :cc:subject:date:message-id:reply-to; bh=4TDO8+G00qj8OVo6zlhFbTJ4CocM1l4CLpFXi+sao2w=; b=FHaholPYMZ8uH8/7vzJPJLpxuP4D7oZ4o3Y67zO+DnmXJtlFeXKoECPTcB0vTxgddR 2PxVLP9H4qLKJCorc8zleCigFx+IfM21Ih+I4GPCNdnN8LUU53KmFoFlIHW33Xz5y/jz nWW1IR0OGA0pZI9G/Im4xKz2qqW+TEayWXAtE= X-Google-DKIM-Signature: v=1; a=rsa-sha256; c=relaxed/relaxed; d=1e100.net; s=20230601; t=1753150494; x=1753755294; h=references:in-reply-to:cc:to:from:subject:message-id:date :x-gm-message-state:from:to:cc:subject:date:message-id:reply-to; bh=4TDO8+G00qj8OVo6zlhFbTJ4CocM1l4CLpFXi+sao2w=; b=ZD2CcJgDLBDf6WeuikYA8G//qebdI92CDXOTqt1i69DT1x39Q9phEXtc+FOYBdomIK 1nIA7RasT+BOTMz0xqLLeFIHlLHhiFzH431kWj4b4yGOom/12FlPCMfvRWoYuG6V4pNG ylAXcOOwLQ4pH/6drAiN0aZjkpaTGYcmGirkPY90DCRjSls0DLPTgZSPK0ElbxSU7LCN McnWtGMT1slqYafNsRk/kpXirkTsashCbsmoMxIG27oJL0ZpMvbnVfXDsz+n6cSvkP7Q UiksDOw7qogeaVWtPuNAXJx3TT+wMxNnf1SXe6yyQ2jliYLo4G78aWFYWJhbpb1trqDA OC5w== X-Gm-Message-State: AOJu0Yx/5P+d9HVNGqOSEX8Q30H9EFm7t4vZUG/gK3jmqzJTcwjagWub JauCLtNd3dHJJxz50n3147cpkmpyH0ylOzEwO7XSCHkipcaI+Izb5B5Fb6JuqKSHSacWmrhoC40 5fvY6dxXA1qHIbQMQrXnRx0e6ABivrR7EgJEzgO7t5iAn X-Gm-Gg: ASbGncv4ULZstTfSFDJGAww5eSx6FFHP2Ww3nOHn8BhYOipVtNvaUljWPzjIM5Bn2E6 JDS98hPx0C/AfO7DPJbSIFWIbhE+lxAGo3SI5tmqbmVg/zZReR11J1qupnF4pmb1Jl0QvIPOHe2 uMwsYih/+uiEfproZXEY2NOyAfwrp88lcPr/WgmNVugWgviTowVMZK3JFlhIQ7NbLwJWJ6jz6Qi NM1BvBsdn5P32cyfD9iHuV0j9JAeyDPC7GpSUBwhYRYr8B8V3aXoFV/E4PWcpR0ogk8XRkqjfkn N94syRMprqbyedC44aA2Gd6/qpwiTsdxlI9EU19qRROfFm+ZGuI4BOa8H8InXPpLxPP1xW9c X-Google-Smtp-Source: AGHT+IE7nYpMWN17GrdYbfwc3XW2A7wButMbNRrluzAyGeJmxaKMfoGKCF6TYozQ16Ba3SR+mpMBT0ZhQDhP X-Received: by 2002:a05:6902:200d:b0:e85:fe0c:df12 with SMTP id 3f1490d57ef6-e8bc2680b68mr15470490276.49.1753150493838; Mon, 21 Jul 2025 19:14:53 -0700 (PDT) Received: from postal.iol.unh.edu (postal.iol.unh.edu. [132.177.123.84]) by smtp-relay.gmail.com with ESMTPS id 3f1490d57ef6-e8d7c9fa0b4sm523774276.0.2025.07.21.19.14.53 (version=TLS1_2 cipher=ECDHE-ECDSA-AES128-GCM-SHA256 bits=128/128); Mon, 21 Jul 2025 19:14:53 -0700 (PDT) X-Relaying-Domain: iol.unh.edu Date: Mon, 21 Jul 2025 19:14:53 -0700 (PDT) Message-ID: <687ef41d.050a0220.2945ca.e9feSMTPIN_ADDED_MISSING@mx.google.com> Received: from [172.21.0.3] (unknown [172.18.0.240]) by postal.iol.unh.edu (Postfix) with ESMTP id 6284B6050A61; Mon, 21 Jul 2025 22:14:53 -0400 (EDT) Subject: |SUCCESS| pw155401 [PATCH] [v3] ethdev: Align enable logic handling From: dpdklab@iol.unh.edu To: Test Report Cc: dpdk-test-reports@iol.unh.edu In-Reply-To: <20250722010916.33536-1-sunyang.wu@jaguarmicro.com> References: <20250722010916.33536-1-sunyang.wu@jaguarmicro.com> Content-Type: text/plain X-BeenThere: test-report@dpdk.org X-Mailman-Version: 2.1.29 Precedence: list List-Id: automatic DPDK test reports List-Unsubscribe: , List-Archive: List-Post: List-Help: List-Subscribe: , Errors-To: test-report-bounces@dpdk.org Test-Label: iol-unit-amd64-testing Test-Status: SUCCESS http://dpdk.org/patch/155401 _Testing PASS_ Submitter: Sunyang Wu Date: Tuesday, July 22 2025 01:09:16 DPDK git baseline: Repo:dpdk Branch: master CommitID:9fe9c0b231c8da5435bfccb1963121b4277f961c 155401 --> testing pass Upstream job id: Generic-VM-Unit-Test-DPDK#30081 Test environment and result as below: +-------------------------------+----------------+ | Environment | dpdk_unit_test | +===============================+================+ | CentOS Stream 9 | PASS | +-------------------------------+----------------+ | CentOS Stream 10 | PASS | +-------------------------------+----------------+ | Fedora Linux 40 | PASS | +-------------------------------+----------------+ | Debian GNU/Linux 12 | PASS | +-------------------------------+----------------+ | Fedora Linux 41 | PASS | +-------------------------------+----------------+ | Red Hat Enterprise Linux 9.5 | PASS | +-------------------------------+----------------+ | Ubuntu 20.04 | PASS | +-------------------------------+----------------+ | Red Hat Enterprise Linux 8.10 | PASS | +-------------------------------+----------------+ | Ubuntu 22.04 | PASS | +-------------------------------+----------------+ | Ubuntu 24.04 | PASS | +-------------------------------+----------------+ | Windows Server 2022 | PASS | +-------------------------------+----------------+ CentOS Stream 9 Kernel: 5.15 Compiler: gcc gcc (GCC) 11.5.0 20240719 (Red Hat 11.5.0-7) CentOS Stream 10 Kernel: 5.15 Compiler: gcc gcc (GCC) 14.2.1 20250110 (Red Hat 14.2.1-8) Fedora Linux 40 Kernel: 5.15 Compiler: gcc gcc (GCC) 14.2.1 20240912 (Red Hat 14.2.1-3) Debian GNU/Linux 12 Kernel: 5.15 Compiler: gcc gcc (Debian 12.2.0-14+deb12u1) 12.2.0 Fedora Linux 41 Kernel: 5.15 Compiler: gcc gcc (GCC) 14.3.1 20250523 (Red Hat 14.3.1-1) Red Hat Enterprise Linux 9.5 Kernel: 5.15 Compiler: gcc gcc (GCC) 11.5.0 20240719 (Red Hat 11.5.0-2) Ubuntu 20.04 Kernel: 5.15 Compiler: gcc gcc (Ubuntu 9.4.0-1ubuntu1~20.04.2) 9.4.0 Red Hat Enterprise Linux 8.10 Kernel: 5.15 Compiler: gcc gcc (GCC) 8.5.0 20210514 (Red Hat 8.5.0-22) Ubuntu 22.04 Kernel: 5.15 Compiler: gcc gcc (Ubuntu 11.4.0-1ubuntu1~22.04) 11.4.0 Ubuntu 24.04 Kernel: 5.15 Compiler: gcc gcc (Ubuntu 13.3.0-6ubuntu2~24.04) 13.3.0 Windows Server 2022 Kernel: 10.0.20348.2031 Compiler: clang 15.0.7, gcc 14.1.0 (MinGW), and MSVC VS 19.39.33521 To view detailed results, visit: https://lab.dpdk.org/results/dashboard/patchsets/33717/ UNH-IOL DPDK Community Lab To manage your email subscriptions, visit: https://lab.dpdk.org/results/dashboard/preferences/subscriptions/