From mboxrd@z Thu Jan 1 00:00:00 1970 Return-Path: Received: from mails.dpdk.org (mails.dpdk.org [217.70.189.124]) by inbox.dpdk.org (Postfix) with ESMTP id 296CF46B8C for ; Tue, 22 Jul 2025 04:24:52 +0200 (CEST) Received: from mails.dpdk.org (localhost [127.0.0.1]) by mails.dpdk.org (Postfix) with ESMTP id 215EF4026C; Tue, 22 Jul 2025 04:24:52 +0200 (CEST) Received: from mail-qv1-f97.google.com (mail-qv1-f97.google.com [209.85.219.97]) by mails.dpdk.org (Postfix) with ESMTP id D86604026C for ; Tue, 22 Jul 2025 04:24:50 +0200 (CEST) Received: by mail-qv1-f97.google.com with SMTP id 6a1803df08f44-6fafb6899c2so58073986d6.0 for ; Mon, 21 Jul 2025 19:24:50 -0700 (PDT) DKIM-Signature: v=1; a=rsa-sha256; c=relaxed/relaxed; d=iol.unh.edu; s=unh-iol; t=1753151090; x=1753755890; darn=dpdk.org; h=references:in-reply-to:cc:to:from:subject:message-id:date:from:to :cc:subject:date:message-id:reply-to; bh=e68/9AX9WmjsGS0rxch5I3OofbraMXGsIlAu3YQgeiU=; b=MGGNQ2I+5s2qh0p9oSGkxo9dmi17BnxB1aQNx5ub70BmBybNVAITBSrrwh31aGBsZb 0hn3WK/z4viulCZL6DX3qdBXBQMBAvBoEJlHkQtJYk15nr2Ms5vOuQEr1HFts0HYtd0J 6tTq1nabC8AltIyKUR9HBQ10/J8X7uoOmBGwk= X-Google-DKIM-Signature: v=1; a=rsa-sha256; c=relaxed/relaxed; d=1e100.net; s=20230601; t=1753151090; x=1753755890; h=references:in-reply-to:cc:to:from:subject:message-id:date :x-gm-message-state:from:to:cc:subject:date:message-id:reply-to; bh=e68/9AX9WmjsGS0rxch5I3OofbraMXGsIlAu3YQgeiU=; b=rGiAjKUIyX3M950sld4ui/bNhibbSivYz6+4dQK50bJ1jLCFNBrc3p0LI/AF9nRjdC BXrHPfBmVEnp4nJgFiMu9Ksdlm/SxKL87GAK6HSZ8FY8xRwy1eYjnSUB8aaM/zH/wwcw j4jS3MZNA4+kFSqVzL5Zlr3ZOUHCd9uDEPWChPvkFtg9pfr+2XlhqhV6XtzC6M3k9dwt rSE5q04t6sh3YjoX8Aj8L4sNeGslMTLz0EpBldg6k0XEqfyNUhXRfCK7gC4pCXqObc61 otn0+WXu8sSGuN2R2NidHLmxpOYbGjd/uBAYibHRFa/PiB04Ee/HZ2HnlXfUoxb4EUg4 MtjQ== X-Gm-Message-State: AOJu0Yxbv7Fookr4SNo2xnJ9m8+y+BQHf703YNuQTe++17+CwCR43XTW UeR4KtwY5ulDXqzztjyZQDmbC37xri6zFn9emAaDNqin81dtKuohs5Mt6ypBHMU9x/ngUS/+umq e6/L3NnsVuwNoYQVGtZLHxjbLQ5TG9pv3Ww4uaRN9Z/3SI0giTrVhkGHnrBwM X-Gm-Gg: ASbGncuMGsl1D3o5rvNl/CfSuVAOVsv1D6Ib4bKLMrohTUlkCIvLE+0m56C+rJGEqOj cLcPkv0rkZZBhELP9tbHLwwOdDdp7oH2jkNuGmvsx9LwazojsR3WqVNVcF/pKKagzy/qoJ5v8NA aX8gdKeFAYEK509P9v33+Os8jovPaQy+W9hDKKPFArPpmKuw07DFEpR0jjNxPEIdEdPLrjUynmQ SkRPIK5tHXtdrG17xjvthQWZcC7cpU+hfDprZaB/Z2iYZa3lvH2+yFhZRLY1G1Ttllmyv9W4aYg G0cWbKmwwqvw0aNvrINFcJSm7G+XHrX2PewwcIrvPh69kFjt+w== X-Google-Smtp-Source: AGHT+IGh9/bHPV/8I4QT9NGhLXxXJZAkPh/aKjomubcXC2WqC3fagVJnO1yR/24koHR+WqOaKl9/ljwBzVGB X-Received: by 2002:a05:6214:238a:b0:704:85af:1973 with SMTP id 6a1803df08f44-706eb6f4589mr23276716d6.12.1753151090128; Mon, 21 Jul 2025 19:24:50 -0700 (PDT) Received: from postal.iol.unh.edu (postal.iol.unh.edu. [2606:4100:3880:1234::84]) by smtp-relay.gmail.com with ESMTPS id 6a1803df08f44-7051ba7e321sm4711376d6.28.2025.07.21.19.24.50 (version=TLS1_2 cipher=ECDHE-ECDSA-AES128-GCM-SHA256 bits=128/128); Mon, 21 Jul 2025 19:24:50 -0700 (PDT) X-Relaying-Domain: iol.unh.edu Date: Mon, 21 Jul 2025 19:24:50 -0700 (PDT) Message-ID: <687ef672.050a0220.17c7ff.7549SMTPIN_ADDED_MISSING@mx.google.com> Received: from [172.21.0.2] (unknown [172.18.0.240]) by postal.iol.unh.edu (Postfix) with ESMTP id D6F0C6051835; Mon, 21 Jul 2025 22:24:49 -0400 (EDT) Subject: |SUCCESS| pw155398 [PATCH] [v3] test_bbdev: enable to be compiled on From: dpdklab@iol.unh.edu To: Test Report Cc: dpdk-test-reports@iol.unh.edu In-Reply-To: <1753122671-2645-1-git-send-email-andremue@linux.microsoft.com> References: <1753122671-2645-1-git-send-email-andremue@linux.microsoft.com> Content-Type: text/plain X-BeenThere: test-report@dpdk.org X-Mailman-Version: 2.1.29 Precedence: list List-Id: automatic DPDK test reports List-Unsubscribe: , List-Archive: List-Post: List-Help: List-Subscribe: , Errors-To: test-report-bounces@dpdk.org Test-Label: iol-compile-arm64-testing Test-Status: SUCCESS http://dpdk.org/patch/155398 _Testing PASS_ Submitter: Andre Muezerie Date: Monday, July 21 2025 18:31:11 DPDK git baseline: Repo:dpdk Branch: master CommitID:3795e96fc862e2b65aa8951f6661420510c87328 155398 --> testing pass Upstream job id: Generic-DPDK-Compile-Meson#410657 Test environment and result as below: +------------------------------+--------------------+ | Environment | dpdk_meson_compile | +==============================+====================+ | Red Hat Enterprise Linux 9.5 | PASS | +------------------------------+--------------------+ | Ubuntu 20.04 | PASS | +------------------------------+--------------------+ | Fedora Linux 40 | PASS | +------------------------------+--------------------+ | Debian GNU/Linux 12 | PASS | +------------------------------+--------------------+ | Fedora Linux 41 | PASS | +------------------------------+--------------------+ | Ubuntu 22.04 | PASS | +------------------------------+--------------------+ | Ubuntu 24.04 | PASS | +------------------------------+--------------------+ | CentOS Stream 9 | PASS | +------------------------------+--------------------+ | CentOS Stream 10 | PASS | +------------------------------+--------------------+ Red Hat Enterprise Linux 9.5 Kernel: 5.4 Compiler: gcc gcc (GCC) 11.5.0 20240719 (Red Hat 11.5.0-2) Ubuntu 20.04 Kernel: 5.15 Compiler: aarch64-linux-gnu-gcc gcc (Ubuntu 9.4.0-1ubuntu1~20.04.2) 9.4.0 Fedora Linux 40 Kernel: 5.4 Compiler: gcc gcc (GCC) 14.2.1 20240912 (Red Hat 14.2.1-3) Debian GNU/Linux 12 Kernel: 5.4 Compiler: gcc gcc (Debian 12.2.0-14+deb12u1) 12.2.0 Fedora Linux 41 Kernel: 5.4 Compiler: gcc gcc (GCC) 14.3.1 20250523 (Red Hat 14.3.1-1) Ubuntu 22.04 Kernel: 5.4 Compiler: gcc gcc (Ubuntu 11.4.0-1ubuntu1~22.04) 11.4.0 Ubuntu 24.04 Kernel: 5.4 Compiler: gcc gcc (Ubuntu 13.3.0-6ubuntu2~24.04) 13.3.0 CentOS Stream 9 Kernel: 5.4 Compiler: gcc gcc (GCC) 11.5.0 20240719 (Red Hat 11.5.0-7) CentOS Stream 10 Kernel: 5.4 Compiler: gcc gcc (GCC) 14.2.1 20250110 (Red Hat 14.2.1-8) To view detailed results, visit: https://lab.dpdk.org/results/dashboard/patchsets/33715/ UNH-IOL DPDK Community Lab To manage your email subscriptions, visit: https://lab.dpdk.org/results/dashboard/preferences/subscriptions/