From mboxrd@z Thu Jan 1 00:00:00 1970 Return-Path: Received: from mails.dpdk.org (mails.dpdk.org [217.70.189.124]) by inbox.dpdk.org (Postfix) with ESMTP id 8911946B92 for ; Tue, 22 Jul 2025 04:39:59 +0200 (CEST) Received: from mails.dpdk.org (localhost [127.0.0.1]) by mails.dpdk.org (Postfix) with ESMTP id 64CA94021F; Tue, 22 Jul 2025 04:39:59 +0200 (CEST) Received: from mail-il1-f227.google.com (mail-il1-f227.google.com [209.85.166.227]) by mails.dpdk.org (Postfix) with ESMTP id 5C2244021F for ; Tue, 22 Jul 2025 04:39:57 +0200 (CEST) Received: by mail-il1-f227.google.com with SMTP id e9e14a558f8ab-3de252f75d7so47825735ab.3 for ; Mon, 21 Jul 2025 19:39:57 -0700 (PDT) DKIM-Signature: v=1; a=rsa-sha256; c=relaxed/relaxed; d=iol.unh.edu; s=unh-iol; t=1753151996; x=1753756796; darn=dpdk.org; h=references:in-reply-to:cc:to:from:subject:message-id:date:from:to :cc:subject:date:message-id:reply-to; bh=2I/OGSiID2NSg78QCc1DISKTpVAvdpUg3SPrfpa2j+Y=; b=g3WqaNX7N/wxfUVldpCAnPG2EbYImeVgz5cMj02yxSh80XpEc+1KbnUNzP+C1rKCvV LC03vAPWDDgqaTggqWBlQOt23JHkYUlVUGWkr1v9zau1m8Fonxl3l/Bz6eLe6Myv6n2s XEYvXiIj619dwRHTyw/V+n57XXwlj+ycGmZs4= X-Google-DKIM-Signature: v=1; a=rsa-sha256; c=relaxed/relaxed; d=1e100.net; s=20230601; t=1753151996; x=1753756796; h=references:in-reply-to:cc:to:from:subject:message-id:date :x-gm-message-state:from:to:cc:subject:date:message-id:reply-to; bh=2I/OGSiID2NSg78QCc1DISKTpVAvdpUg3SPrfpa2j+Y=; b=MCZtMEDuerF0EMTQa/J6S6kotIThTD+m1LiUWrfRSndyR/Lvnqh9E4/n4Co4ifrbnG Cv9gcN8ZK/stOaX5DDSl0s4xOCkZjZpb7u1+7kaDLCoWsL4Iw6yo0Vw0sfhOB+ObRra7 v/mD40DoM5z0ZhGuJ+Of145gcPJEdPoCd+JfeMEUqnK9BSKo3KGOSZpvOIqF/RSUDaxV ywJ/lmoCOBRQNyhET5SL1g/HZ0buMVtANQyxiOI48fVYbJI1oOwvBsfE4alz6LG4DdKB lHOCdEOPO01vU9l6I/oTT/tL7VxG/5QjSIOxDbahUHlHheHiRklwjCOjAgemGz82jEdj o9mg== X-Gm-Message-State: AOJu0YxtJ1N2WzTeFA3g3D1VQJZz+18WP4n2AANYJkeKD/i8tZovOqjn oh3Rp5TPhthOsUi/zDCFxDB9DmZp8ym7ekPAz1wt/Xdo4ow8ngu0bS8lOi5s+4Owkhx/tjHy4M/ FbYwgMqcmRNi6Xvg3+AkcOp+vLcHV/jnwR8FZSVQ/QeH1 X-Gm-Gg: ASbGncsyFJBWhbTh97/2I1Di1rFteoFU4KV5tnpzz4zV+Zgf6nKmtckawOEGx41NNuM Tu7n1O/bi+CuIZG75PTk957zGkTlbnwFQf/ZBoGBg0+7sqNk8gNq8A0bvpLIJdZrEOdZTx+yd8T NihHfjyUM18u6nQSJFgBtnGKMQVXknet71kKM4RZFV+sw21yW6T/k3AU9IBaD6ztA4os9PRh09+ YMZb9fKjuzTsE5Qcv3/nlgF0hpToXhYAlXZOqpZ7QeVyKPv5SrIRGMiqAY1PlIfZyxnKnkXEqV1 YcU/DHmGK7Eyst4B26pmMV7T6GsB0N7NTJQW16zJBUd0Tx9X0LyKtabR9kl6KKKnsxquTj8T X-Google-Smtp-Source: AGHT+IFd54/TrwbPAkzbIla9B6HJkGumP9oo3BpXRXjPTpZ5HlOz8fANrer3AevbOXX8XLzmiGgq+FCgfxwn X-Received: by 2002:a05:6e02:2587:b0:3e2:9f78:3783 with SMTP id e9e14a558f8ab-3e29f783956mr163153185ab.21.1753151996607; Mon, 21 Jul 2025 19:39:56 -0700 (PDT) Received: from postal.iol.unh.edu (postal.iol.unh.edu. [132.177.123.84]) by smtp-relay.gmail.com with ESMTPS id e9e14a558f8ab-3e29836f8e0sm5753075ab.44.2025.07.21.19.39.56 (version=TLS1_2 cipher=ECDHE-ECDSA-AES128-GCM-SHA256 bits=128/128); Mon, 21 Jul 2025 19:39:56 -0700 (PDT) X-Relaying-Domain: iol.unh.edu Date: Mon, 21 Jul 2025 19:39:56 -0700 (PDT) Message-ID: <687ef9fc.050a0220.3343d9.d01fSMTPIN_ADDED_MISSING@mx.google.com> Received: from [172.21.0.2] (unknown [172.18.0.240]) by postal.iol.unh.edu (Postfix) with ESMTP id 36B906051830; Mon, 21 Jul 2025 22:39:56 -0400 (EDT) Subject: |SUCCESS| pw155401 [PATCH] [v3] ethdev: Align enable logic handling From: dpdklab@iol.unh.edu To: Test Report Cc: dpdk-test-reports@iol.unh.edu In-Reply-To: <20250722010916.33536-1-sunyang.wu@jaguarmicro.com> References: <20250722010916.33536-1-sunyang.wu@jaguarmicro.com> Content-Type: text/plain X-BeenThere: test-report@dpdk.org X-Mailman-Version: 2.1.29 Precedence: list List-Id: automatic DPDK test reports List-Unsubscribe: , List-Archive: List-Post: List-Help: List-Subscribe: , Errors-To: test-report-bounces@dpdk.org Test-Label: iol-abi-testing Test-Status: SUCCESS http://dpdk.org/patch/155401 _Testing PASS_ Submitter: Sunyang Wu Date: Tuesday, July 22 2025 01:09:16 DPDK git baseline: Repo:dpdk Branch: master CommitID:9fe9c0b231c8da5435bfccb1963121b4277f961c 155401 --> testing pass Upstream job id: Generic-DPDK-Compile-ABI#135185 Test environment and result as below: +-------------------------------+----------+ | Environment | abi_test | +===============================+==========+ | CentOS Stream 9 | PASS | +-------------------------------+----------+ | CentOS Stream 10 | PASS | +-------------------------------+----------+ | Debian GNU/Linux 12 | PASS | +-------------------------------+----------+ | Fedora Linux 40 | PASS | +-------------------------------+----------+ | Fedora Linux 41 | PASS | +-------------------------------+----------+ | openSUSE Leap 15.6 | PASS | +-------------------------------+----------+ | Ubuntu 24.04 | PASS | +-------------------------------+----------+ | Red Hat Enterprise Linux 8.10 | PASS | +-------------------------------+----------+ | Ubuntu 22.04 | PASS | +-------------------------------+----------+ | Red Hat Enterprise Linux 9.5 | PASS | +-------------------------------+----------+ CentOS Stream 9 Kernel: 5.15 Compiler: gcc gcc (GCC) 11.5.0 20240719 (Red Hat 11.5.0-7) CentOS Stream 10 Kernel: 5.15 Compiler: gcc gcc (GCC) 14.2.1 20250110 (Red Hat 14.2.1-8) Debian GNU/Linux 12 Kernel: 5.15 Compiler: gcc gcc (Debian 12.2.0-14+deb12u1) 12.2.0 Fedora Linux 40 Kernel: 5.15 Compiler: clang gcc (GCC) 14.2.1 20240912 (Red Hat 14.2.1-3) Fedora Linux 41 Kernel: 5.15 Compiler: clang gcc (GCC) 14.3.1 20250523 (Red Hat 14.3.1-1) openSUSE Leap 15.6 Kernel: 5.15 Compiler: gcc gcc (SUSE Linux) 7.5.0 Ubuntu 24.04 Kernel: 5.15 Compiler: gcc gcc (Ubuntu 13.3.0-6ubuntu2~24.04) 13.3.0 Red Hat Enterprise Linux 8.10 Kernel: 5.15 Compiler: gcc gcc (GCC) 8.5.0 20210514 (Red Hat 8.5.0-22) Ubuntu 22.04 Kernel: 5.15 Compiler: gcc gcc (Ubuntu 11.4.0-1ubuntu1~22.04) 11.4.0 Red Hat Enterprise Linux 9.5 Kernel: 5.15 Compiler: gcc gcc (GCC) 11.5.0 20240719 (Red Hat 11.5.0-2) To view detailed results, visit: https://lab.dpdk.org/results/dashboard/patchsets/33717/ UNH-IOL DPDK Community Lab To manage your email subscriptions, visit: https://lab.dpdk.org/results/dashboard/preferences/subscriptions/