From mboxrd@z Thu Jan 1 00:00:00 1970 Return-Path: Received: from mails.dpdk.org (mails.dpdk.org [217.70.189.124]) by inbox.dpdk.org (Postfix) with ESMTP id D75BC46B92 for ; Tue, 22 Jul 2025 05:08:00 +0200 (CEST) Received: from mails.dpdk.org (localhost [127.0.0.1]) by mails.dpdk.org (Postfix) with ESMTP id B0FEB402CA; Tue, 22 Jul 2025 05:08:00 +0200 (CEST) Received: from mail-pl1-f228.google.com (mail-pl1-f228.google.com [209.85.214.228]) by mails.dpdk.org (Postfix) with ESMTP id 91DDC402CA for ; Tue, 22 Jul 2025 05:07:59 +0200 (CEST) Received: by mail-pl1-f228.google.com with SMTP id d9443c01a7336-234b9dfb842so41672815ad.1 for ; Mon, 21 Jul 2025 20:07:59 -0700 (PDT) DKIM-Signature: v=1; a=rsa-sha256; c=relaxed/relaxed; d=iol.unh.edu; s=unh-iol; t=1753153679; x=1753758479; darn=dpdk.org; h=references:in-reply-to:cc:to:from:subject:message-id:date:from:to :cc:subject:date:message-id:reply-to; bh=3vAWCmQp5T+3VO/kbdlif8+aj3uJHPJUgBTtSIvzqPg=; b=FGtsTAgE9ykFpPf/wGIZOlODZ9btaqPPypW3F6foe+nzlgHBsm0qnhlALYqx9DN655 D2jxUrQlyoh9Djt6H8+I9EeWPc2NUwv2xKMeIJQkmnO3Zf7oYlIgtnjipZJWjIUMIv5K z8CFmrplMI4V/rYORGtRWsB2GPPrtB/Fycjfk= X-Google-DKIM-Signature: v=1; a=rsa-sha256; c=relaxed/relaxed; d=1e100.net; s=20230601; t=1753153679; x=1753758479; h=references:in-reply-to:cc:to:from:subject:message-id:date :x-gm-message-state:from:to:cc:subject:date:message-id:reply-to; bh=3vAWCmQp5T+3VO/kbdlif8+aj3uJHPJUgBTtSIvzqPg=; b=RxSEO8RpEevHJ0f+RfSFz2INPlgRsthKQyv7IHjfUKmZpODyYnaTHMIthxYDKxhtvh I8ZRA+cHbHhRUftJujMUVcChcOpsI3keatpVjzR4q13nnk1JqpcQZDv4Bsoq1bZgorCs mQphjdxFnPQdpWhEvvPYp+yYu51mkA+laqcUkzr09ngg7bq/6L7MLdyuY0VHLXPy195D Js3HJlqjiM8KQ7yEzIzdPD77Ql/bU47ulncvh89yZRBPcq8ivPx7snQ1ynlsC86GjFE5 MQWjsOhCTBbo141aUDbxfMKrse4GLvt1j+1mLQYg+zwBoRr1gwx575nqUpU4RLlOXvqO li8w== X-Gm-Message-State: AOJu0YzPsLUGLaiK0g+K7rqTtvP04MBXXbeRx//HuKANfTeDoYLQinnv nupzFS8v/oZSjevI8cAEzl2r+KG0U6hPekCfF6p9ZNyslFuE/agQ2caYOoWCbJagh/VoHcNogpe ZCAw5pp3DpbjtyZBM/BkZahaaVQoQtREtbcZzN+ubyhQH X-Gm-Gg: ASbGncsCrOnBeuZLzN8Oh8SXy0OXKoZi63uHFPoiPEnzFyPI9hGLfaR8W1SoWK3OZM6 p5nwKfuPB7PY8OizfgynwFUy4Fd9Xy9bqA17gsW9I0ey6lZT5vLzKAxXspRrUbEWSvcV7IgQfTk iyO8ZK9VPbv8sXZcNSae76/jFNHweEomhyhI+MdL0RxoTlQidI+YG2jQcsH32D57ANljU+xfYFg lc4bSYOzIer2P44iQiJMlKjPfW++UopIxYgdBVD+THdXgS4oRY+g4Y3J3IAlheipgTmY4kRNQQ6 iJzeiOLFB7MCyTRw6kpw0kcbyLcj7X2lCquGW5YjdFL5aeEyKn5ks2Yza41Z6mPKzviXfj2O X-Google-Smtp-Source: AGHT+IHqLQz4zKU0kBS1L6EymZfTxrLK/dYFATb0OeF06fWJeKrDDOktlCW4u4/b4tGG/AhpSNEh4Gzdjowy X-Received: by 2002:a17:903:1a68:b0:237:d192:ac4a with SMTP id d9443c01a7336-23e25788131mr293833375ad.51.1753153678646; Mon, 21 Jul 2025 20:07:58 -0700 (PDT) Received: from postal.iol.unh.edu (postal.iol.unh.edu. [132.177.123.84]) by smtp-relay.gmail.com with ESMTPS id d9443c01a7336-23e3b61e8aesm5285705ad.37.2025.07.21.20.07.58 (version=TLS1_2 cipher=ECDHE-ECDSA-AES128-GCM-SHA256 bits=128/128); Mon, 21 Jul 2025 20:07:58 -0700 (PDT) X-Relaying-Domain: iol.unh.edu Date: Mon, 21 Jul 2025 20:07:58 -0700 (PDT) Message-ID: <687f008e.170a0220.2c1656.abc5SMTPIN_ADDED_MISSING@mx.google.com> Received: from [172.21.0.2] (unknown [172.18.0.240]) by postal.iol.unh.edu (Postfix) with ESMTP id E0FF86051830; Mon, 21 Jul 2025 23:07:57 -0400 (EDT) Subject: |SUCCESS| pw155401 [PATCH] [v3] ethdev: Align enable logic handling From: dpdklab@iol.unh.edu To: Test Report Cc: dpdk-test-reports@iol.unh.edu In-Reply-To: <20250722010916.33536-1-sunyang.wu@jaguarmicro.com> References: <20250722010916.33536-1-sunyang.wu@jaguarmicro.com> Content-Type: text/plain X-BeenThere: test-report@dpdk.org X-Mailman-Version: 2.1.29 Precedence: list List-Id: automatic DPDK test reports List-Unsubscribe: , List-Archive: List-Post: List-Help: List-Subscribe: , Errors-To: test-report-bounces@dpdk.org Test-Label: iol-unit-arm64-testing Test-Status: SUCCESS http://dpdk.org/patch/155401 _Testing PASS_ Submitter: Sunyang Wu Date: Tuesday, July 22 2025 01:09:16 DPDK git baseline: Repo:dpdk Branch: master CommitID:9fe9c0b231c8da5435bfccb1963121b4277f961c 155401 --> testing pass Upstream job id: Generic-Unit-Test-DPDK#357080 Test environment and result as below: +------------------------------+------------------------------+--------------+---------------------------+----------------+ | Environment | cryptodev_sw_snow3g_autotest | lpm_autotest | cryptodev_sw_zuc_autotest | dpdk_unit_test | +==============================+==============================+==============+===========================+================+ | Debian 12 (arm) | PASS | SKIPPED | PASS | SKIPPED | +------------------------------+------------------------------+--------------+---------------------------+----------------+ | Ubuntu 20.04 | SKIPPED | PASS | SKIPPED | PASS | +------------------------------+------------------------------+--------------+---------------------------+----------------+ | CentOS Stream 9 | SKIPPED | SKIPPED | SKIPPED | PASS | +------------------------------+------------------------------+--------------+---------------------------+----------------+ | CentOS Stream 10 | SKIPPED | SKIPPED | SKIPPED | PASS | +------------------------------+------------------------------+--------------+---------------------------+----------------+ | Debian GNU/Linux 12 | SKIPPED | SKIPPED | SKIPPED | PASS | +------------------------------+------------------------------+--------------+---------------------------+----------------+ | Fedora Linux 40 | SKIPPED | SKIPPED | SKIPPED | PASS | +------------------------------+------------------------------+--------------+---------------------------+----------------+ | Fedora Linux 41 | SKIPPED | SKIPPED | SKIPPED | PASS | +------------------------------+------------------------------+--------------+---------------------------+----------------+ | Red Hat Enterprise Linux 9.5 | SKIPPED | SKIPPED | SKIPPED | PASS | +------------------------------+------------------------------+--------------+---------------------------+----------------+ | Ubuntu 22.04 | SKIPPED | SKIPPED | SKIPPED | PASS | +------------------------------+------------------------------+--------------+---------------------------+----------------+ | Ubuntu 24.04 | SKIPPED | SKIPPED | SKIPPED | PASS | +------------------------------+------------------------------+--------------+---------------------------+----------------+ Debian 12 (arm) Kernel: Depends on container host Compiler: gcc (Debian 12.2.0-14) 12.2.0 Ubuntu 20.04 Kernel: 5.4 Compiler: gcc gcc (Ubuntu 9.4.0-1ubuntu1~20.04.2) 9.4.0 CentOS Stream 9 Kernel: 5.4 Compiler: gcc gcc (GCC) 11.5.0 20240719 (Red Hat 11.5.0-7) CentOS Stream 10 Kernel: 5.4 Compiler: gcc gcc (GCC) 14.2.1 20250110 (Red Hat 14.2.1-8) Debian GNU/Linux 12 Kernel: 5.4 Compiler: gcc gcc (Debian 12.2.0-14+deb12u1) 12.2.0 Fedora Linux 40 Kernel: 5.4 Compiler: gcc gcc (GCC) 14.2.1 20240912 (Red Hat 14.2.1-3) Fedora Linux 41 Kernel: 5.4 Compiler: gcc gcc (GCC) 14.3.1 20250523 (Red Hat 14.3.1-1) Red Hat Enterprise Linux 9.5 Kernel: 5.4 Compiler: gcc gcc (GCC) 11.5.0 20240719 (Red Hat 11.5.0-2) Ubuntu 22.04 Kernel: 5.4 Compiler: gcc gcc (Ubuntu 11.4.0-1ubuntu1~22.04) 11.4.0 Ubuntu 24.04 Kernel: 5.4 Compiler: gcc gcc (Ubuntu 13.3.0-6ubuntu2~24.04) 13.3.0 To view detailed results, visit: https://lab.dpdk.org/results/dashboard/patchsets/33717/ UNH-IOL DPDK Community Lab To manage your email subscriptions, visit: https://lab.dpdk.org/results/dashboard/preferences/subscriptions/