From mboxrd@z Thu Jan 1 00:00:00 1970 Return-Path: Received: from mails.dpdk.org (mails.dpdk.org [217.70.189.124]) by inbox.dpdk.org (Postfix) with ESMTP id CA9B346B92 for ; Tue, 22 Jul 2025 05:48:56 +0200 (CEST) Received: from mails.dpdk.org (localhost [127.0.0.1]) by mails.dpdk.org (Postfix) with ESMTP id B5DDE402CA; Tue, 22 Jul 2025 05:48:56 +0200 (CEST) Received: from mail-pg1-f227.google.com (mail-pg1-f227.google.com [209.85.215.227]) by mails.dpdk.org (Postfix) with ESMTP id A6DC8402CA for ; Tue, 22 Jul 2025 05:48:55 +0200 (CEST) Received: by mail-pg1-f227.google.com with SMTP id 41be03b00d2f7-b34a71d9208so3418393a12.3 for ; Mon, 21 Jul 2025 20:48:55 -0700 (PDT) DKIM-Signature: v=1; a=rsa-sha256; c=relaxed/relaxed; d=iol.unh.edu; s=unh-iol; t=1753156135; x=1753760935; darn=dpdk.org; h=cc:to:from:subject:message-id:date:from:to:cc:subject:date :message-id:reply-to; bh=DIN41tW1n0kPMmSvAb0eOZiQLoyeo8Z4wB2eG46KENs=; b=bHkrXiAqTPhTukNjd5twWCqNzX0+Dtq7e0ObHlM/Tmbti8HacD7idx2EsfJy3oFfP3 6G11d0RLxLWIXCrVxf1e+q1oNrbPPtSrg/tMWPG1kfeZrmeufxOkXtcbivYEqMnRTXCY VBa6Qohe4k2g5AnedJUcFBvJXpbBN1PUI++6s= X-Google-DKIM-Signature: v=1; a=rsa-sha256; c=relaxed/relaxed; d=1e100.net; s=20230601; t=1753156135; x=1753760935; h=cc:to:from:subject:message-id:date:x-gm-message-state:from:to:cc :subject:date:message-id:reply-to; bh=DIN41tW1n0kPMmSvAb0eOZiQLoyeo8Z4wB2eG46KENs=; b=S80Jv6H/n7f6vlIH9FozX6vXBbD3z3NvgpY+8KXT8bUVLh5nKhqfxb7m+x+9xlPoIi grzDN64o+FpyVUERtUmQGzv+Tfq4GvXC1GeBN9ACiUtN6LMfhfXUUaBPEIUe5dygJtjm B7EjdFpEEJGgVflGWAbJF2R+bqixGABybrghpf1kjtEUGX7zFJo3YrIyJZUoorEWrie1 8LXBHNAJi30gkwfXwlKjROXmP875fe9Olp/MVMgvdXhlxpHKq27mgWtMrn7lZwoiY4sJ hW4jClAdYUboewDe1EuYW4zVzmNAvBFjL8J6dvhz9IX7nK6NBM3ElGvtxx5RCzOxa3Ok yKZg== X-Gm-Message-State: AOJu0YxmJX8IqmMEd7rR8tCdpNG1wY5kyIIkzFJewD2dEIZQ/+A/OeSH 2BtG5ymqtGnnSa/x57XA/cyv1qwLa6snv6kxXpx/B+X8OIV4oe/Bv3kd9hwpjjeA89c47oKG7eB EL4tJMqgfRVBPNDSq4b9Z/Pt1h+syq7eHxDAm46BAG/lA X-Gm-Gg: ASbGncv1bc3WsaLQUBljN3JztmEQHrlfGA1pZAz1RU6NdvJ7JEplYF/WlKgNZsKfBE4 6UZ58tWF35faqpCQXGDymOZVIWqtVbtjdArzrUT20hLcOFLXpF7sD3URCjKIfw+4/ijw4jD/+Hg Keagiwtl4BGyt+MBEoe6jCkAEWlfJcjbF4jFdnUTjL9PnZXM2FeJh0gqWFUdFwEZabR7cH4VSgA mSjU0w5iQftlNLDuAG6aysI6sn8R5c27rNEVq3scOicYU5Jl0Z4PryOJerzLZXevgZMP82Iu1G/ vajYD7SckTZXkhvapWk8LGQHcUAynNV4myFyah16H6I+oarGfIYnjMio1QoB08mOaz2JzwXi X-Google-Smtp-Source: AGHT+IEz+WYGKQVtI+81/v5uhVtQgJ0LMd7h9AHynIVgblle4c2Ls9inoqmkAgxi+hmhTKqYxMc08APZvN0R X-Received: by 2002:a17:90a:ec8b:b0:311:b3e7:fb31 with SMTP id 98e67ed59e1d1-31c9f39a466mr37361731a91.0.1753156134643; Mon, 21 Jul 2025 20:48:54 -0700 (PDT) Received: from postal.iol.unh.edu (postal.iol.unh.edu. [132.177.123.84]) by smtp-relay.gmail.com with ESMTPS id 98e67ed59e1d1-31cc3f44aa4sm540162a91.12.2025.07.21.20.48.54 (version=TLS1_2 cipher=ECDHE-ECDSA-AES128-GCM-SHA256 bits=128/128); Mon, 21 Jul 2025 20:48:54 -0700 (PDT) X-Relaying-Domain: iol.unh.edu Date: Mon, 21 Jul 2025 20:48:54 -0700 (PDT) Message-ID: <687f0a26.170a0220.17fe24.b3f0SMTPIN_ADDED_MISSING@mx.google.com> Received: from [172.21.0.2] (unknown [172.18.0.240]) by postal.iol.unh.edu (Postfix) with ESMTP id E5FB06051830; Mon, 21 Jul 2025 23:48:53 -0400 (EDT) Subject: |SUCCESS| [GIT MASTER] b222395561638f89562e4ef42e1eabf2d6db43dd From: dpdklab@iol.unh.edu To: Test Report Cc: dpdk-test-reports@iol.unh.edu Content-Type: text/plain X-BeenThere: test-report@dpdk.org X-Mailman-Version: 2.1.29 Precedence: list List-Id: automatic DPDK test reports List-Unsubscribe: , List-Archive: List-Post: List-Help: List-Subscribe: , Errors-To: test-report-bounces@dpdk.org _Testing PASS_ Branch: dpdk b222395561638f89562e4ef42e1eabf2d6db43dd --> testing pass Upstream job id: Generic-DPDK-Compile-Meson#410730 Test environment and result as below: +------------------------------+--------------------+ | Environment | dpdk_meson_compile | +==============================+====================+ | Red Hat Enterprise Linux 9.5 | PASS | +------------------------------+--------------------+ | Ubuntu 20.04 | PASS | +------------------------------+--------------------+ | Debian GNU/Linux 12 | PASS | +------------------------------+--------------------+ | Fedora Linux 40 | PASS | +------------------------------+--------------------+ | Fedora Linux 41 | PASS | +------------------------------+--------------------+ | Ubuntu 22.04 | PASS | +------------------------------+--------------------+ | Ubuntu 24.04 | PASS | +------------------------------+--------------------+ | CentOS Stream 9 | PASS | +------------------------------+--------------------+ | CentOS Stream 10 | PASS | +------------------------------+--------------------+ Red Hat Enterprise Linux 9.5 Kernel: 5.4 Compiler: gcc gcc (GCC) 11.5.0 20240719 (Red Hat 11.5.0-2) Ubuntu 20.04 Kernel: 5.4 Compiler: gcc gcc (Ubuntu 9.4.0-1ubuntu1~20.04.2) 9.4.0 Debian GNU/Linux 12 Kernel: 5.4 Compiler: gcc gcc (Debian 12.2.0-14+deb12u1) 12.2.0 Fedora Linux 40 Kernel: 5.4 Compiler: clang gcc (GCC) 14.2.1 20240912 (Red Hat 14.2.1-3) Fedora Linux 41 Kernel: 5.4 Compiler: gcc gcc (GCC) 14.3.1 20250523 (Red Hat 14.3.1-1) Ubuntu 22.04 Kernel: 5.4 Compiler: gcc gcc (Ubuntu 11.4.0-1ubuntu1~22.04) 11.4.0 Ubuntu 24.04 Kernel: 5.4 Compiler: gcc gcc (Ubuntu 13.3.0-6ubuntu2~24.04) 13.3.0 CentOS Stream 9 Kernel: 5.4 Compiler: gcc gcc (GCC) 11.5.0 20240719 (Red Hat 11.5.0-7) CentOS Stream 10 Kernel: 5.4 Compiler: gcc gcc (GCC) 14.2.1 20250110 (Red Hat 14.2.1-8) To view detailed results, visit: https://lab.dpdk.org/results/dashboard/tarballs/34346/ UNH-IOL DPDK Community Lab To manage your email subscriptions, visit: https://lab.dpdk.org/results/dashboard/preferences/subscriptions/