From mboxrd@z Thu Jan 1 00:00:00 1970 Return-Path: Received: from mails.dpdk.org (mails.dpdk.org [217.70.189.124]) by inbox.dpdk.org (Postfix) with ESMTP id 3798446BDD for ; Tue, 22 Jul 2025 08:43:26 +0200 (CEST) Received: from mails.dpdk.org (localhost [127.0.0.1]) by mails.dpdk.org (Postfix) with ESMTP id 1AA8040265; Tue, 22 Jul 2025 08:43:26 +0200 (CEST) Received: from mail-pl1-f228.google.com (mail-pl1-f228.google.com [209.85.214.228]) by mails.dpdk.org (Postfix) with ESMTP id 3703940265 for ; Tue, 22 Jul 2025 08:43:25 +0200 (CEST) Received: by mail-pl1-f228.google.com with SMTP id d9443c01a7336-2350fc2591dso49135555ad.1 for ; Mon, 21 Jul 2025 23:43:25 -0700 (PDT) DKIM-Signature: v=1; a=rsa-sha256; c=relaxed/relaxed; d=iol.unh.edu; s=unh-iol; t=1753166604; x=1753771404; darn=dpdk.org; h=references:in-reply-to:cc:to:from:subject:message-id:date:from:to :cc:subject:date:message-id:reply-to; bh=bw/QpaoWqhOPDtHNwSZ9pqpWPkjJKdm17bSeIisInZ0=; b=Ln7vB6kix2vzeTHICDRVfmF7zWzOUDonCuRzScWKIIdhjAwkicq0dLxVaNj/kZxuj5 Zu62vk4X6GOmV9denX6zhhqplazH5Mq3m2mDiDwIYRRdPIsB3iyFkW0XHr18gYZ1qeWB 0oBeZZadDiO7eIm+LR06KKCYM3jc/+Nfi4s4M= X-Google-DKIM-Signature: v=1; a=rsa-sha256; c=relaxed/relaxed; d=1e100.net; s=20230601; t=1753166604; x=1753771404; h=references:in-reply-to:cc:to:from:subject:message-id:date :x-gm-message-state:from:to:cc:subject:date:message-id:reply-to; bh=bw/QpaoWqhOPDtHNwSZ9pqpWPkjJKdm17bSeIisInZ0=; b=blVtR8CgqnmtrAEoPq8zcK4+NMK+L/NPKRR8+teA4tQgUfwM6OVFtgF8XgWSdED7BK ncQP3HNojDPfM1DaFapTeBCDGCslx4InHln3d0cEaeuLa9ZwEaI7lUppYWuZi6YOhT/P fA7UDEyr7SyLyPbjx3G7dVU7BGqodkFTT2U/sC9YgQe837AHTZDY4Xy6yMUSuWdAmZbF WqnJFsbi6/f79xosDdcKnoa7vC65kVl2QMBVuFZyoDr6TSlm8q1YVa1je3oK47cV/4dD pG1FSrPtl34W7eiAoa5lHtFBjIdrh/AoAfuA1UD5edDhfi6DG8ygiS8TqbE24qMQc1UW hNLg== X-Gm-Message-State: AOJu0YxK3tpk/ImB9+I2DWWS2zsxItqpulq5tCN0agefgBsjVZ4h9ogW 2xBiyf46bsq062wPPkXZJguh7M/eFk3qlQejvs23uyZ3aqYdkZDlsTCFPbOJAb08lOAo3zBlHLu 8dAD+IbDPOzBbI4Fd1VP7+f54qJ4j+RsUXEdj6E55rfhA X-Gm-Gg: ASbGncs20MN21vW0PMvc9W17QZ3/s8+ngFbzo6hqqQXQpzWIWcu7AdpDLM+TDpR5mxN TQGAPmURXnhkK9MEJo6ORbTD7rwFyIl2TSreKVETEgaNT1w69Rq6lkACTwHrGEXSEBdKl+iBi7F YOVMoIVhEZL5XBehwmTeK/2P7JgDekx6fYqHVOd9oul1eGAVBe75Sc/puFdxKkCWFHgg3/hi2YW JxT/QIZtsoesvJVI/6gYj7/fjw60t+3ox837Cqr6qssOWSFpBflrrcILL+SuAem0MeC5BzCu1Ql WtbzQYdHXJKXRdPcQj/iT33CI1pzegjGgHlywTkp74UAJqRfKwG4HmxwVd3aciIKF9ra9fMx X-Google-Smtp-Source: AGHT+IFlsvQK8wHlRXU8DY5mB+6xHizL50Klhp7bcHTKu8n3DQTZEitAJqPSaBFfXJk6bljM8YqFROvGg+DC X-Received: by 2002:a17:902:ebcb:b0:237:e753:1808 with SMTP id d9443c01a7336-23f8accd820mr33669465ad.20.1753166604146; Mon, 21 Jul 2025 23:43:24 -0700 (PDT) Received: from postal.iol.unh.edu (postal.iol.unh.edu. [132.177.123.84]) by smtp-relay.gmail.com with ESMTPS id d9443c01a7336-23e3b6bb02fsm5184295ad.70.2025.07.21.23.43.24 (version=TLS1_2 cipher=ECDHE-ECDSA-AES128-GCM-SHA256 bits=128/128); Mon, 21 Jul 2025 23:43:24 -0700 (PDT) X-Relaying-Domain: iol.unh.edu Date: Mon, 21 Jul 2025 23:43:24 -0700 (PDT) Message-ID: <687f330c.170a0220.376ff.9d19SMTPIN_ADDED_MISSING@mx.google.com> Received: from [172.21.0.3] (unknown [172.18.0.240]) by postal.iol.unh.edu (Postfix) with ESMTP id 6C9E46051830; Tue, 22 Jul 2025 02:43:23 -0400 (EDT) Subject: |SUCCESS| pw155401 [PATCH] [v3] ethdev: Align enable logic handling From: dpdklab@iol.unh.edu To: Test Report Cc: dpdk-test-reports@iol.unh.edu In-Reply-To: <20250722010916.33536-1-sunyang.wu@jaguarmicro.com> References: <20250722010916.33536-1-sunyang.wu@jaguarmicro.com> Content-Type: text/plain X-BeenThere: test-report@dpdk.org X-Mailman-Version: 2.1.29 Precedence: list List-Id: automatic DPDK test reports List-Unsubscribe: , List-Archive: List-Post: List-Help: List-Subscribe: , Errors-To: test-report-bounces@dpdk.org Test-Label: iol-compile-arm64-testing Test-Status: SUCCESS http://dpdk.org/patch/155401 _Testing PASS_ Submitter: Sunyang Wu Date: Tuesday, July 22 2025 01:09:16 DPDK git baseline: Repo:dpdk Branch: master CommitID:9fe9c0b231c8da5435bfccb1963121b4277f961c 155401 --> testing pass Upstream job id: Generic-DPDK-Compile-Meson#410761 Test environment and result as below: +------------------------------+--------------------+ | Environment | dpdk_meson_compile | +==============================+====================+ | Red Hat Enterprise Linux 9.5 | PASS | +------------------------------+--------------------+ | Ubuntu 20.04 | PASS | +------------------------------+--------------------+ | Debian GNU/Linux 12 | PASS | +------------------------------+--------------------+ | Fedora Linux 40 | PASS | +------------------------------+--------------------+ | Fedora Linux 41 | PASS | +------------------------------+--------------------+ | Ubuntu 22.04 | PASS | +------------------------------+--------------------+ | CentOS Stream 10 | PASS | +------------------------------+--------------------+ | Ubuntu 24.04 | PASS | +------------------------------+--------------------+ | CentOS Stream 9 | PASS | +------------------------------+--------------------+ Red Hat Enterprise Linux 9.5 Kernel: 5.4 Compiler: gcc gcc (GCC) 11.5.0 20240719 (Red Hat 11.5.0-2) Ubuntu 20.04 Kernel: 5.4 Compiler: gcc gcc (Ubuntu 9.4.0-1ubuntu1~20.04.2) 9.4.0 Debian GNU/Linux 12 Kernel: 5.4 Compiler: gcc gcc (Debian 12.2.0-14+deb12u1) 12.2.0 Fedora Linux 40 Kernel: 5.4 Compiler: gcc gcc (GCC) 14.2.1 20240912 (Red Hat 14.2.1-3) Fedora Linux 41 Kernel: 5.4 Compiler: gcc gcc (GCC) 14.3.1 20250523 (Red Hat 14.3.1-1) Ubuntu 22.04 Kernel: 5.4 Compiler: gcc gcc (Ubuntu 11.4.0-1ubuntu1~22.04) 11.4.0 CentOS Stream 10 Kernel: 5.4 Compiler: gcc gcc (GCC) 14.2.1 20250110 (Red Hat 14.2.1-8) Ubuntu 24.04 Kernel: 5.4 Compiler: gcc gcc (Ubuntu 13.3.0-6ubuntu2~24.04) 13.3.0 CentOS Stream 9 Kernel: 5.4 Compiler: gcc gcc (GCC) 11.5.0 20240719 (Red Hat 11.5.0-7) To view detailed results, visit: https://lab.dpdk.org/results/dashboard/patchsets/33717/ UNH-IOL DPDK Community Lab To manage your email subscriptions, visit: https://lab.dpdk.org/results/dashboard/preferences/subscriptions/