From mboxrd@z Thu Jan 1 00:00:00 1970 Return-Path: Received: from mails.dpdk.org (mails.dpdk.org [217.70.189.124]) by inbox.dpdk.org (Postfix) with ESMTP id 0740346BE2 for ; Tue, 22 Jul 2025 12:45:26 +0200 (CEST) Received: from mails.dpdk.org (localhost [127.0.0.1]) by mails.dpdk.org (Postfix) with ESMTP id DA39B40265; Tue, 22 Jul 2025 12:45:25 +0200 (CEST) Received: from mail-pl1-f228.google.com (mail-pl1-f228.google.com [209.85.214.228]) by mails.dpdk.org (Postfix) with ESMTP id 1B3BF40265 for ; Tue, 22 Jul 2025 12:45:24 +0200 (CEST) Received: by mail-pl1-f228.google.com with SMTP id d9443c01a7336-234fcadde3eso60854985ad.0 for ; Tue, 22 Jul 2025 03:45:24 -0700 (PDT) DKIM-Signature: v=1; a=rsa-sha256; c=relaxed/relaxed; d=iol.unh.edu; s=unh-iol; t=1753181123; x=1753785923; darn=dpdk.org; h=references:in-reply-to:cc:to:from:subject:message-id:date:from:to :cc:subject:date:message-id:reply-to; bh=Y530JtwVE7b/cQIwbYpowGWASBeBZWm3vz0tPjZSqnM=; b=MPXOd8yISeMYhqrlpuOxBmG0mVfUbAtG7n3JlcPQWjqQztc98fkXK5VwHTtmQlT624 Ogn1Lwj/F2L0aDFNpLm7zdTXUcrbjVrv8FTtBDhScWaYaFSYkcQ54ErPG7qTaBGB8JrW LvzjE6bz/fgS/fnYTSzN2GirUyzRwvUDpLV2E= X-Google-DKIM-Signature: v=1; a=rsa-sha256; c=relaxed/relaxed; d=1e100.net; s=20230601; t=1753181123; x=1753785923; h=references:in-reply-to:cc:to:from:subject:message-id:date :x-gm-message-state:from:to:cc:subject:date:message-id:reply-to; bh=Y530JtwVE7b/cQIwbYpowGWASBeBZWm3vz0tPjZSqnM=; b=bb0nkB7ZMpDE9JNR30kO0fAwm28dc2sVjGSCC59gnY2P9cL2AgqQiZkTXuVUhVU/7A y+9aq/+sTdIFMRiMLQFDUtYfbTIKggqbmGz8K2UQGOcCjVAO5BuJtrQi5G2K1/0ATG8L 6N0cicRDlXQjY9A9+2/573ysLOLJzJPuPO8iICRJtYl6cj7gaO28gxBGLXNNaVkXtj0f mECyAuN3zZ7sNPm8E1dh16x6+32LWoF/mgNcKeVrLjXnmWfhu3vRB3ix4Zmb/C61ld2l gsj0ddp0JyCmf3EhL174O5yUEEF1EQK/1kaRiDjCWc1Teu4BhXtul2sj+ST+Tsr18VJf 7ocQ== X-Gm-Message-State: AOJu0Yx3yQFFsCwdVST3g0lORjhxK9mbjxOJo6geiJRUOCrjkWdOZVab JdOiRU1okMU018kgPQhdjR3EasaMmLaabkqosuT/vpwuRH5KxBtdvAz5Foml49efCkrFqMVx935 Ia4SVzjaS3zIoJxFIFXCrnm5kBfMgtEXN3+3QEgfsgVoO X-Gm-Gg: ASbGnctuoRboCTL5HSIrSd4474jTBJiwucL6IBOocbIIkQG2nmzRBuXI1xUOxVIvf6p xiWJUt35420lN0oT1HMd96iJUHIMKaUO+9s6i0snEiLZPhtwzgK3892SpSFuP15Y0Y/COKEnWz2 GfY3KABR47MgDt6noA+I0RlT/82mlMYcXT9GSL56PlOwmgg1f5oSj2IIEbaEFT1VM773GCblx9U CEzFEJRVGuMJq0AbqrFRsMypB/FAOjQblhAXuwYn8izrHFBLKRj4AkFv+lqJcYiYoj+8CGmd5uM ECEg1GcSx4xl7/3sooCZ5u6mQRxldUnrfmBtAxfmCybNnqd55iZ0BTmfj0CXN0wHegkZribH X-Google-Smtp-Source: AGHT+IEVHOONE/S+QIBy4ycZN4hsTcF9XkZ6mKU3+9hX9z1ugRWYm82FfUhgglMv6wL+c8DDysIZIi0Dhibn X-Received: by 2002:a17:903:1aec:b0:235:efbb:953c with SMTP id d9443c01a7336-23e256b745bmr278483195ad.13.1753181123236; Tue, 22 Jul 2025 03:45:23 -0700 (PDT) Received: from postal.iol.unh.edu (postal.iol.unh.edu. [132.177.123.84]) by smtp-relay.gmail.com with ESMTPS id d9443c01a7336-23e3b6b6f4csm5139065ad.56.2025.07.22.03.45.23 (version=TLS1_2 cipher=ECDHE-ECDSA-AES128-GCM-SHA256 bits=128/128); Tue, 22 Jul 2025 03:45:23 -0700 (PDT) X-Relaying-Domain: iol.unh.edu Date: Tue, 22 Jul 2025 03:45:23 -0700 (PDT) Message-ID: <687f6bc3.170a0220.38fd4d.ac81SMTPIN_ADDED_MISSING@mx.google.com> Received: from [172.21.0.3] (unknown [172.18.0.240]) by postal.iol.unh.edu (Postfix) with ESMTP id 7B7816051830; Tue, 22 Jul 2025 06:45:22 -0400 (EDT) Subject: |SUCCESS| pw155402 [PATCH] bitops: improve power of 2 alignment func From: dpdklab@iol.unh.edu To: Test Report Cc: dpdk-test-reports@iol.unh.edu In-Reply-To: <20250722075321.121254-1-mattias.ronnblom@ericsson.com> References: <20250722075321.121254-1-mattias.ronnblom@ericsson.com> Content-Type: text/plain X-BeenThere: test-report@dpdk.org X-Mailman-Version: 2.1.29 Precedence: list List-Id: automatic DPDK test reports List-Unsubscribe: , List-Archive: List-Post: List-Help: List-Subscribe: , Errors-To: test-report-bounces@dpdk.org Test-Label: iol-unit-amd64-testing Test-Status: SUCCESS http://dpdk.org/patch/155402 _Testing PASS_ Submitter: Mattias Ronnblom Date: Tuesday, July 22 2025 07:53:21 DPDK git baseline: Repo:dpdk Branch: master CommitID:b222395561638f89562e4ef42e1eabf2d6db43dd 155402 --> testing pass Upstream job id: Generic-Unit-Test-DPDK#357187 Test environment and result as below: +-------------------------------+----------------+ | Environment | dpdk_unit_test | +===============================+================+ | Fedora Linux 41 | PASS | +-------------------------------+----------------+ | CentOS Stream 9 | PASS | +-------------------------------+----------------+ | Debian GNU/Linux 12 | PASS | +-------------------------------+----------------+ | Fedora Linux 40 | PASS | +-------------------------------+----------------+ | Red Hat Enterprise Linux 8.10 | PASS | +-------------------------------+----------------+ | CentOS Stream 10 | PASS | +-------------------------------+----------------+ | Ubuntu 24.04 | PASS | +-------------------------------+----------------+ | Red Hat Enterprise Linux 9.5 | PASS | +-------------------------------+----------------+ | Ubuntu 20.04 | PASS | +-------------------------------+----------------+ | Ubuntu 22.04 | PASS | +-------------------------------+----------------+ | Windows Server 2022 | PASS | +-------------------------------+----------------+ Fedora Linux 41 Kernel: 5.15 Compiler: gcc gcc (GCC) 14.3.1 20250523 (Red Hat 14.3.1-1) CentOS Stream 9 Kernel: 5.15 Compiler: gcc gcc (GCC) 11.5.0 20240719 (Red Hat 11.5.0-7) Debian GNU/Linux 12 Kernel: 5.15 Compiler: gcc gcc (Debian 12.2.0-14+deb12u1) 12.2.0 Fedora Linux 40 Kernel: 5.15 Compiler: clang gcc (GCC) 14.2.1 20240912 (Red Hat 14.2.1-3) Red Hat Enterprise Linux 8.10 Kernel: 5.15 Compiler: gcc gcc (GCC) 8.5.0 20210514 (Red Hat 8.5.0-22) CentOS Stream 10 Kernel: 5.15 Compiler: gcc gcc (GCC) 14.2.1 20250110 (Red Hat 14.2.1-8) Ubuntu 24.04 Kernel: 5.15 Compiler: gcc gcc (Ubuntu 13.3.0-6ubuntu2~24.04) 13.3.0 Red Hat Enterprise Linux 9.5 Kernel: 5.15 Compiler: gcc gcc (GCC) 11.5.0 20240719 (Red Hat 11.5.0-2) Ubuntu 20.04 Kernel: 5.15 Compiler: gcc gcc (Ubuntu 9.4.0-1ubuntu1~20.04.2) 9.4.0 Ubuntu 22.04 Kernel: 5.15 Compiler: gcc gcc (Ubuntu 11.4.0-1ubuntu1~22.04) 11.4.0 Windows Server 2022 Kernel: 10.0.20348.2031 Compiler: clang 15.0.7, gcc 14.1.0 (MinGW), and MSVC VS 19.39.33521 To view detailed results, visit: https://lab.dpdk.org/results/dashboard/patchsets/33718/ UNH-IOL DPDK Community Lab To manage your email subscriptions, visit: https://lab.dpdk.org/results/dashboard/preferences/subscriptions/