From mboxrd@z Thu Jan 1 00:00:00 1970 Return-Path: Received: from mails.dpdk.org (mails.dpdk.org [217.70.189.124]) by inbox.dpdk.org (Postfix) with ESMTP id 4206946BE2 for ; Tue, 22 Jul 2025 12:47:53 +0200 (CEST) Received: from mails.dpdk.org (localhost [127.0.0.1]) by mails.dpdk.org (Postfix) with ESMTP id 1EA9C40265; Tue, 22 Jul 2025 12:47:53 +0200 (CEST) Received: from mail-oo1-f100.google.com (mail-oo1-f100.google.com [209.85.161.100]) by mails.dpdk.org (Postfix) with ESMTP id 32D1840265 for ; Tue, 22 Jul 2025 12:47:51 +0200 (CEST) Received: by mail-oo1-f100.google.com with SMTP id 006d021491bc7-60402c94319so2613498eaf.1 for ; Tue, 22 Jul 2025 03:47:51 -0700 (PDT) DKIM-Signature: v=1; a=rsa-sha256; c=relaxed/relaxed; d=iol.unh.edu; s=unh-iol; t=1753181270; x=1753786070; darn=dpdk.org; h=references:in-reply-to:cc:to:from:subject:message-id:date:from:to :cc:subject:date:message-id:reply-to; bh=5bX9pvuyLwJA1+Iny0IMuPGZFL+2zKkUsq/pb7sF1qI=; b=HA6t++Jk3L7RcySAl1AKhk2Y4/eWuKX8/7BJIvr4tUAl+K9oQSkhfi9zcaEEXC0Oy+ tDQcSX2CiJ1r6vWvUrX16rvEcfulWnEhqexrOvVEf6mT4oQAQWfVRtohR0YryN1jBPwR vTAPXu9J+r9e5MTMGxrpbeaHAj957zw7OHiBY= X-Google-DKIM-Signature: v=1; a=rsa-sha256; c=relaxed/relaxed; d=1e100.net; s=20230601; t=1753181270; x=1753786070; h=references:in-reply-to:cc:to:from:subject:message-id:date :x-gm-message-state:from:to:cc:subject:date:message-id:reply-to; bh=5bX9pvuyLwJA1+Iny0IMuPGZFL+2zKkUsq/pb7sF1qI=; b=EBoU6DyjuS8PU0WpVZ1krS2TjguY4S/mhazlM8iGshH7b8gm91yGseJCUdKs/PSXSj DpSjobKpUArkfeBGyEhjvOrU1mVR/nDI04yjIm86iO25fZqfIylxUbphBa2/gZyqm6IF 08AfyaCkh/o/8+GEhpik6rfT4q4aW0wrmnVNL+RDK6dPx4lybdhtQeCp9hb+/cCi1C6b 401zH7GqDADI6CrWyLIo/HkdjUjVyWaL1txgJveaeYnE3+HnEm/opz0a0IKacvT7y5n3 VXXl4XL9F0AObOjjBn1w79m5oRZVUwcINzD3z1g1wXZSZmwb6dYzQJs7TW04GCqAFYq+ NCwQ== X-Gm-Message-State: AOJu0YyrDmOUP+3F8u4saUcVjncFtBAS6WNPezxRC7RtYtvpPn5593R+ eI8wBVSv3LKZ9I6Qwfphf/jnvraL+DCkdWhOIFsQSm1GE/8gdHFwFGsvhqyM6A/A2HD3/PZYCsZ MdlweT695UXWgUd0CS1f736Mg7yNDIBs3CXb1Ewg7he+b0L4gj7Fq13JGmZT4 X-Gm-Gg: ASbGncsyPcy5Vn0zWyFOZSPDa+WFh7T7kBfpNos4OTQULyQ7mvUhoopM13mzLvuYKIb FBUKeI1NH3xfGOGxS91KfsNII4B7+NuVP5YJIypRC/JSh2FGs94lgkROHPdkkMAZ3vmkD6uYye0 S5dJFfZ1C9fe3kFnFevUqXl2OqNKsrqVDdWPbUIpLTyZ8cAC3oEe3z2clxT4wyv7KZxOLvZRUyP nyM+jKjBL9sEVr2c3pDC+57cbtE9wK3rqkXdV71P5hMSNN8nMsyhy8fm11jtBCbWJ8bqTztgyNP 4lchCK4bRHC6uf7hQHWIh7ZwX3JU7xOeRip3vUBpH7qusfHlIA== X-Google-Smtp-Source: AGHT+IFNGZ7rFpTbQzrixfctuUEBKAaTVVxQh9hA3OkSxk5S3m5lDZXnpIdZ5A682p2FTOgijx7gZWq5syWS X-Received: by 2002:a05:6870:82a7:b0:2f5:2bb1:e85e with SMTP id 586e51a60fabf-2ffaf4db12amr16188995fac.24.1753181270345; Tue, 22 Jul 2025 03:47:50 -0700 (PDT) Received: from postal.iol.unh.edu (postal.iol.unh.edu. [2606:4100:3880:1234::84]) by smtp-relay.gmail.com with ESMTPS id 586e51a60fabf-30105f10e70sm730211fac.21.2025.07.22.03.47.50 (version=TLS1_2 cipher=ECDHE-ECDSA-AES128-GCM-SHA256 bits=128/128); Tue, 22 Jul 2025 03:47:50 -0700 (PDT) X-Relaying-Domain: iol.unh.edu Date: Tue, 22 Jul 2025 03:47:50 -0700 (PDT) Message-ID: <687f6c56.050a0220.342bc.615dSMTPIN_ADDED_MISSING@mx.google.com> Received: from [172.21.0.7] (unknown [172.18.0.240]) by postal.iol.unh.edu (Postfix) with ESMTP id D72B36051830; Tue, 22 Jul 2025 06:47:49 -0400 (EDT) Subject: |SUCCESS| pw155402 [PATCH] bitops: improve power of 2 alignment func From: dpdklab@iol.unh.edu To: Test Report Cc: dpdk-test-reports@iol.unh.edu In-Reply-To: <20250722075321.121254-1-mattias.ronnblom@ericsson.com> References: <20250722075321.121254-1-mattias.ronnblom@ericsson.com> Content-Type: text/plain X-BeenThere: test-report@dpdk.org X-Mailman-Version: 2.1.29 Precedence: list List-Id: automatic DPDK test reports List-Unsubscribe: , List-Archive: List-Post: List-Help: List-Subscribe: , Errors-To: test-report-bounces@dpdk.org Test-Label: iol-unit-arm64-testing Test-Status: SUCCESS http://dpdk.org/patch/155402 _Testing PASS_ Submitter: Mattias Ronnblom Date: Tuesday, July 22 2025 07:53:21 DPDK git baseline: Repo:dpdk Branch: master CommitID:b222395561638f89562e4ef42e1eabf2d6db43dd 155402 --> testing pass Upstream job id: Generic-Unit-Test-DPDK#357203 Test environment and result as below: +------------------------------+---------------------------+--------------+------------------------------+----------------+ | Environment | cryptodev_sw_zuc_autotest | lpm_autotest | cryptodev_sw_snow3g_autotest | dpdk_unit_test | +==============================+===========================+==============+==============================+================+ | Debian 12 (arm) | PASS | SKIPPED | PASS | SKIPPED | +------------------------------+---------------------------+--------------+------------------------------+----------------+ | Ubuntu 20.04 | SKIPPED | PASS | SKIPPED | PASS | +------------------------------+---------------------------+--------------+------------------------------+----------------+ | CentOS Stream 10 | SKIPPED | SKIPPED | SKIPPED | PASS | +------------------------------+---------------------------+--------------+------------------------------+----------------+ | Fedora Linux 40 | SKIPPED | SKIPPED | SKIPPED | PASS | +------------------------------+---------------------------+--------------+------------------------------+----------------+ | Fedora Linux 41 | SKIPPED | SKIPPED | SKIPPED | PASS | +------------------------------+---------------------------+--------------+------------------------------+----------------+ | Red Hat Enterprise Linux 9.5 | SKIPPED | SKIPPED | SKIPPED | PASS | +------------------------------+---------------------------+--------------+------------------------------+----------------+ | CentOS Stream 9 | SKIPPED | SKIPPED | SKIPPED | PASS | +------------------------------+---------------------------+--------------+------------------------------+----------------+ | Debian GNU/Linux 12 | SKIPPED | SKIPPED | SKIPPED | PASS | +------------------------------+---------------------------+--------------+------------------------------+----------------+ | Ubuntu 22.04 | SKIPPED | SKIPPED | SKIPPED | PASS | +------------------------------+---------------------------+--------------+------------------------------+----------------+ | Ubuntu 24.04 | SKIPPED | SKIPPED | SKIPPED | PASS | +------------------------------+---------------------------+--------------+------------------------------+----------------+ Debian 12 (arm) Kernel: Depends on container host Compiler: gcc (Debian 12.2.0-14) 12.2.0 Ubuntu 20.04 Kernel: 5.4 Compiler: gcc gcc (Ubuntu 9.4.0-1ubuntu1~20.04.2) 9.4.0 CentOS Stream 10 Kernel: 5.4 Compiler: gcc gcc (GCC) 14.2.1 20250110 (Red Hat 14.2.1-8) Fedora Linux 40 Kernel: 5.4 Compiler: clang gcc (GCC) 14.2.1 20240912 (Red Hat 14.2.1-3) Fedora Linux 41 Kernel: 5.4 Compiler: gcc gcc (GCC) 14.3.1 20250523 (Red Hat 14.3.1-1) Red Hat Enterprise Linux 9.5 Kernel: 5.4 Compiler: gcc gcc (GCC) 11.5.0 20240719 (Red Hat 11.5.0-2) CentOS Stream 9 Kernel: 5.4 Compiler: gcc gcc (GCC) 11.5.0 20240719 (Red Hat 11.5.0-7) Debian GNU/Linux 12 Kernel: 5.4 Compiler: gcc gcc (Debian 12.2.0-14+deb12u1) 12.2.0 Ubuntu 22.04 Kernel: 5.4 Compiler: gcc gcc (Ubuntu 11.4.0-1ubuntu1~22.04) 11.4.0 Ubuntu 24.04 Kernel: 5.4 Compiler: gcc gcc (Ubuntu 13.3.0-6ubuntu2~24.04) 13.3.0 To view detailed results, visit: https://lab.dpdk.org/results/dashboard/patchsets/33718/ UNH-IOL DPDK Community Lab To manage your email subscriptions, visit: https://lab.dpdk.org/results/dashboard/preferences/subscriptions/