From mboxrd@z Thu Jan 1 00:00:00 1970 Return-Path: Received: from mails.dpdk.org (mails.dpdk.org [217.70.189.124]) by inbox.dpdk.org (Postfix) with ESMTP id 9F85746BE4 for ; Tue, 22 Jul 2025 13:49:27 +0200 (CEST) Received: from mails.dpdk.org (localhost [127.0.0.1]) by mails.dpdk.org (Postfix) with ESMTP id 9AA6D40265; Tue, 22 Jul 2025 13:49:27 +0200 (CEST) Received: from mail-yw1-f228.google.com (mail-yw1-f228.google.com [209.85.128.228]) by mails.dpdk.org (Postfix) with ESMTP id 6B44E40265 for ; Tue, 22 Jul 2025 13:49:26 +0200 (CEST) Received: by mail-yw1-f228.google.com with SMTP id 00721157ae682-717b580ff2aso47087777b3.0 for ; Tue, 22 Jul 2025 04:49:26 -0700 (PDT) DKIM-Signature: v=1; a=rsa-sha256; c=relaxed/relaxed; d=iol.unh.edu; s=unh-iol; t=1753184966; x=1753789766; darn=dpdk.org; h=references:in-reply-to:cc:to:from:subject:message-id:date:from:to :cc:subject:date:message-id:reply-to; bh=7AuW/h0VXH+5BJHp3AZdxMdcHM6CvZiaTtxUs9gZxDg=; b=IkM8I7S94Mz2o295SVTfK0D5Ak+qsIFySwHSiUV4BRp97agwpSuiJayVw9BIoVK4re sUuAfia8Ova/ICtPnw18NwA4NLnobRi/cIkS0Ci2xigOrslItl0hbI4hNhG0mBJWAFaz AXxDUXfNFICamHEfycy4cflKnTWdl6wJm/nG4= X-Google-DKIM-Signature: v=1; a=rsa-sha256; c=relaxed/relaxed; d=1e100.net; s=20230601; t=1753184966; x=1753789766; h=references:in-reply-to:cc:to:from:subject:message-id:date :x-gm-message-state:from:to:cc:subject:date:message-id:reply-to; bh=7AuW/h0VXH+5BJHp3AZdxMdcHM6CvZiaTtxUs9gZxDg=; b=gUWHkDzPulZxuF980M2nZAxgwwqP0keXAzxpBGMvCGbYUqH2dlpTpYNkeSL2vlvd6X RglSBzESKdwLOeO2W8Qeb3eCyzBmgWc/wiSOWufmV3fASiJ4oDllEl11YSY8UyhBFE3m 14v7BTQ9X78T8uoGgxP4ddOlfLC31ORH6ZaEx+qBBlH1bgAzhnUNep8GNnu8cdn2jMA4 u6VPehuAtxgqTTIICRnN6IdF0DV1ZkbGGkdV0ABR+OiOxcpBKjHHCpzol6r0CAjsnuQX BQ3w/WViQmsDNZNosTv8H/9PIQv5tp4hceh5v6Gsl+W32IXgON8zY22AdhvCBt1HYZsQ ht1Q== X-Gm-Message-State: AOJu0YyUqQmwZ/oDPQxbGFS96XrDn53cZBJRnAcZCQLpaL72n4TGJtsh 6SpELm1CBxx9T9e0LVbcyqQNpQ/ukyPUuounJaroeWY7rQXzIbgnPUr1vfA2mmWa8DR6DHbbeqI 09p4pAEySCkK1gL1ekKjx+IFwKT6WoPof59eobo2ROHirPt/RChpFOlzAQuNu X-Gm-Gg: ASbGnctW03cWvgfUiuYHNx0+mJiO/vQH87NNQTUWmBTHl8nVT/8kKFPDjlC7lWrX8dc sxAEZDsQZ5HORtiYtWNWceo6+VMMmzokbOkpPlJOJLmgxN3eYDFoGcxlUMR6iDTVN5Qx/RDPljf wt+EkUc4GavpW3TmmdZqW0SRHOXcfwssQ+chFAf0/o/PlMlSj3rBKNEF8D/engUE+QCScQEn21I nuppWum2qc2BmL1QAnNE5W4gNm4bWdqpbdVXX1uIzgTqSZGlGj9IMTnn3jGpYm3VrD4xdgHKQ4/ 1fbnQQ8UvntAbUKwpC6AQXJkJTlB8Zyd5vVAbVhReNqr1bpGhg== X-Google-Smtp-Source: AGHT+IFnw8dqRIg8nEi0V9aqhgXlbCflDsMLWAoZKdmkpjSBA4W4JDCxCK/cmUfrUw/nrDdUfFalcH8naYTl X-Received: by 2002:a05:690c:6181:b0:718:38be:b3e4 with SMTP id 00721157ae682-71838bebb4bmr309704207b3.40.1753184965694; Tue, 22 Jul 2025 04:49:25 -0700 (PDT) Received: from postal.iol.unh.edu (postal.iol.unh.edu. [2606:4100:3880:1234::84]) by smtp-relay.gmail.com with ESMTPS id 00721157ae682-719533644d5sm2487887b3.58.2025.07.22.04.49.25 (version=TLS1_2 cipher=ECDHE-ECDSA-AES128-GCM-SHA256 bits=128/128); Tue, 22 Jul 2025 04:49:25 -0700 (PDT) X-Relaying-Domain: iol.unh.edu Date: Tue, 22 Jul 2025 04:49:25 -0700 (PDT) Message-ID: <687f7ac5.050a0220.273e04.b6e3SMTPIN_ADDED_MISSING@mx.google.com> Received: from [172.21.0.2] (unknown [172.18.0.240]) by postal.iol.unh.edu (Postfix) with ESMTP id 5B8826051830; Tue, 22 Jul 2025 07:49:25 -0400 (EDT) Subject: |SUCCESS| pw155402 [PATCH] bitops: improve power of 2 alignment func From: dpdklab@iol.unh.edu To: Test Report Cc: dpdk-test-reports@iol.unh.edu In-Reply-To: <20250722075321.121254-1-mattias.ronnblom@ericsson.com> References: <20250722075321.121254-1-mattias.ronnblom@ericsson.com> Content-Type: text/plain X-BeenThere: test-report@dpdk.org X-Mailman-Version: 2.1.29 Precedence: list List-Id: automatic DPDK test reports List-Unsubscribe: , List-Archive: List-Post: List-Help: List-Subscribe: , Errors-To: test-report-bounces@dpdk.org Test-Label: iol-compile-amd64-testing Test-Status: SUCCESS http://dpdk.org/patch/155402 _Testing PASS_ Submitter: Mattias Ronnblom Date: Tuesday, July 22 2025 07:53:21 DPDK git baseline: Repo:dpdk Branch: master CommitID:b222395561638f89562e4ef42e1eabf2d6db43dd 155402 --> testing pass Upstream job id: Generic-DPDK-Compile-Meson#410904 Test environment and result as below: +-------------------------------+--------------------+-------------------+------------------+-------------------------+-------------------+----------------------+ | Environment | dpdk_meson_compile | dpdk_compile_spdk | dpdk_compile_ovs | dpdk_llvm_clang_compile | dpdk_msvc_compile | dpdk_mingw64_compile | +===============================+====================+===================+==================+=========================+===================+======================+ | CentOS Stream 9 | PASS | PASS | SKIPPED | SKIPPED | SKIPPED | SKIPPED | +-------------------------------+--------------------+-------------------+------------------+-------------------------+-------------------+----------------------+ | CentOS Stream 10 | PASS | SKIPPED | SKIPPED | SKIPPED | SKIPPED | SKIPPED | +-------------------------------+--------------------+-------------------+------------------+-------------------------+-------------------+----------------------+ | Debian GNU/Linux 12 | PASS | PASS | SKIPPED | SKIPPED | SKIPPED | SKIPPED | +-------------------------------+--------------------+-------------------+------------------+-------------------------+-------------------+----------------------+ | Fedora Linux 40 | PASS | PASS | SKIPPED | SKIPPED | SKIPPED | SKIPPED | +-------------------------------+--------------------+-------------------+------------------+-------------------------+-------------------+----------------------+ | Fedora Linux 41 | PASS | PASS | PASS | SKIPPED | SKIPPED | SKIPPED | +-------------------------------+--------------------+-------------------+------------------+-------------------------+-------------------+----------------------+ | openSUSE Leap 15.6 | PASS | SKIPPED | SKIPPED | SKIPPED | SKIPPED | SKIPPED | +-------------------------------+--------------------+-------------------+------------------+-------------------------+-------------------+----------------------+ | Red Hat Enterprise Linux 8.10 | PASS | SKIPPED | SKIPPED | SKIPPED | SKIPPED | SKIPPED | +-------------------------------+--------------------+-------------------+------------------+-------------------------+-------------------+----------------------+ | Red Hat Enterprise Linux 9.5 | PASS | SKIPPED | SKIPPED | SKIPPED | SKIPPED | SKIPPED | +-------------------------------+--------------------+-------------------+------------------+-------------------------+-------------------+----------------------+ | Ubuntu 20.04 | PASS | SKIPPED | SKIPPED | SKIPPED | SKIPPED | SKIPPED | +-------------------------------+--------------------+-------------------+------------------+-------------------------+-------------------+----------------------+ | Ubuntu 24.04 | PASS | PASS | PASS | SKIPPED | SKIPPED | SKIPPED | +-------------------------------+--------------------+-------------------+------------------+-------------------------+-------------------+----------------------+ | Alpine Linux 3.22.0 | PASS | SKIPPED | SKIPPED | SKIPPED | SKIPPED | SKIPPED | +-------------------------------+--------------------+-------------------+------------------+-------------------------+-------------------+----------------------+ | FreeBSD 14.2 | PASS | SKIPPED | SKIPPED | SKIPPED | SKIPPED | SKIPPED | +-------------------------------+--------------------+-------------------+------------------+-------------------------+-------------------+----------------------+ | Ubuntu 22.04 | PASS | PASS | SKIPPED | SKIPPED | SKIPPED | SKIPPED | +-------------------------------+--------------------+-------------------+------------------+-------------------------+-------------------+----------------------+ | Windows Server 2022 | SKIPPED | SKIPPED | SKIPPED | PASS | PASS | PASS | +-------------------------------+--------------------+-------------------+------------------+-------------------------+-------------------+----------------------+ CentOS Stream 9 Kernel: 5.15 Compiler: gcc gcc (GCC) 11.5.0 20240719 (Red Hat 11.5.0-7) CentOS Stream 10 Kernel: 5.15 Compiler: gcc gcc (GCC) 14.2.1 20250110 (Red Hat 14.2.1-8) Debian GNU/Linux 12 Kernel: 5.15 Compiler: gcc gcc (Debian 12.2.0-14+deb12u1) 12.2.0 Fedora Linux 40 Kernel: 5.15 Compiler: clang gcc (GCC) 14.2.1 20240912 (Red Hat 14.2.1-3) Fedora Linux 41 Kernel: 5.15 Compiler: clang gcc (GCC) 14.3.1 20250523 (Red Hat 14.3.1-1) openSUSE Leap 15.6 Kernel: 5.15 Compiler: gcc gcc (SUSE Linux) 7.5.0 Red Hat Enterprise Linux 8.10 Kernel: 5.15 Compiler: gcc gcc (GCC) 8.5.0 20210514 (Red Hat 8.5.0-22) Red Hat Enterprise Linux 9.5 Kernel: 5.15 Compiler: gcc gcc (GCC) 11.5.0 20240719 (Red Hat 11.5.0-2) Ubuntu 20.04 Kernel: 5.15 Compiler: gcc gcc (Ubuntu 9.4.0-1ubuntu1~20.04.2) 9.4.0 Ubuntu 24.04 Kernel: 5.15 Compiler: gcc gcc (Ubuntu 13.3.0-6ubuntu2~24.04) 13.3.0 Alpine Linux 3.22.0 Kernel: 5.15 Compiler: gcc gcc (Alpine 14.2.0) 14.2.0 FreeBSD 14.2 Kernel: 14.2-RELEASE Compiler: clang 18.1.6 Ubuntu 22.04 Kernel: 5.15 Compiler: gcc gcc (Ubuntu 11.4.0-1ubuntu1~22.04) 11.4.0 Windows Server 2022 Kernel: 10.0.20348.2031 Compiler: clang 15.0.7, gcc 14.1.0 (MinGW), and MSVC VS 19.39.33521 To view detailed results, visit: https://lab.dpdk.org/results/dashboard/patchsets/33718/ UNH-IOL DPDK Community Lab To manage your email subscriptions, visit: https://lab.dpdk.org/results/dashboard/preferences/subscriptions/