From mboxrd@z Thu Jan 1 00:00:00 1970 Return-Path: Received: from mails.dpdk.org (mails.dpdk.org [217.70.189.124]) by inbox.dpdk.org (Postfix) with ESMTP id A020F46BE5 for ; Tue, 22 Jul 2025 14:01:17 +0200 (CEST) Received: from mails.dpdk.org (localhost [127.0.0.1]) by mails.dpdk.org (Postfix) with ESMTP id 7AAD040395; Tue, 22 Jul 2025 14:01:16 +0200 (CEST) Received: from mail-pl1-f227.google.com (mail-pl1-f227.google.com [209.85.214.227]) by mails.dpdk.org (Postfix) with ESMTP id 7A08D40395 for ; Tue, 22 Jul 2025 14:01:15 +0200 (CEST) Received: by mail-pl1-f227.google.com with SMTP id d9443c01a7336-236470b2dceso43441045ad.0 for ; Tue, 22 Jul 2025 05:01:15 -0700 (PDT) DKIM-Signature: v=1; a=rsa-sha256; c=relaxed/relaxed; d=iol.unh.edu; s=unh-iol; t=1753185675; x=1753790475; darn=dpdk.org; h=references:in-reply-to:cc:to:from:subject:message-id:date:from:to :cc:subject:date:message-id:reply-to; bh=qy03hfkeQYacZf4n5gJiDbjGYurh1WYtOXYjxBaQvkc=; b=WOBmA1382auMqNu+vJrDQgfLiOIYKxOETnVQpHVGBCKM+VTpiU/9DOj11wF6eLVPHj F/YqBwHHaX1jiPqtd1mF27JS6vy2eHp0WDu5JwookB75gD8U3hO4zHGsmSgiyXdN4yQQ MK4OVHuilOVZC0rxKSv0QqDuWPYp5LWU5tLEo= X-Google-DKIM-Signature: v=1; a=rsa-sha256; c=relaxed/relaxed; d=1e100.net; s=20230601; t=1753185675; x=1753790475; h=references:in-reply-to:cc:to:from:subject:message-id:date :x-gm-message-state:from:to:cc:subject:date:message-id:reply-to; bh=qy03hfkeQYacZf4n5gJiDbjGYurh1WYtOXYjxBaQvkc=; b=gzCO74dAZd2Z4radZ3T8rnTiRrZQvQPze251Zub52QYGhWLq+XdOYWsZfXlSJAiW6/ /GvVg1axix63B8msyHBfrjRJ4a7YuwVPu/kvo1hGVQvJJZE9wAwabV51Sk+/jCPq8ucq b+wLBm5nrIrd/o8rMI+74XjMoTn+wEHcHSI0BRbNxDhbbqu8Yu653iAEIiy8FEHGbtNx lKXGr5XPyGpDt6RkME4URsVoT1bdezM6mWOV5TV+xD+VQokp43uQNqMiau1k98hYD6eh Jy/lnizPcAhiJpid8+AIDSjpwVX18bJt4nS1LTdcQwz/v+/h9Q8szav41D5+5bFj/0iI ip3A== X-Gm-Message-State: AOJu0YxZJNM9tWxQggbwG0H4ql4hf/ppbJaC58C5b19E4dS9Jwb3rkoj +8DKhiCpFJ8pQYkMsc+85bK5JYJPGr+m3i2qAWcoMJoXzwVcHqaADRSHS8Vl3ZUXOcx9Fv4Kqcr ZpDCzQueWYagfHb0PHaG1k0YmMcfkqCZqcMdq4zn1ziQ0ngc9ElNzF0Xwe1nl X-Gm-Gg: ASbGnctMRisj9Glu2NdtoPEJcabnxxM8l7NOnr1JkvD2NK0+1fbQhXf9cYs+4zHsXxD azWZvZICeS8f6D6b4T6gBXQPY8BicC73rPqw16hrMGhWueok4EEhtKPObramSrIekSzMAg0nso/ CtPcxBkP09wbx2d4iHDpR98/mikAUAbQnCXr916i/k4kWuwn+SIeA6xwL78tywfAyfig5tdrpkg yHPJRMGKAb0Ydx5I3enonmlODsfZ4zl4+8D26Lh/CY0jgNhVkEA9/VGA1Ji9hASyf4UgJEYwJHa +nQgHp36ZXw+3vAh+UvsyBvtaCSfRspQNQsKNO/AVygSJsiP8A== X-Google-Smtp-Source: AGHT+IE0GMQexEP96A52bGlpI+YNKgypDyxU5GSb8AGd2Ny5uBZsBzynRhjpueBJNcLl/ncTJ/qVmJn4FCn2 X-Received: by 2002:a17:902:d2c5:b0:235:7c6:ebdb with SMTP id d9443c01a7336-23e2566b0bfmr332056885ad.10.1753185673042; Tue, 22 Jul 2025 05:01:13 -0700 (PDT) Received: from postal.iol.unh.edu (postal.iol.unh.edu. [2606:4100:3880:1234::84]) by smtp-relay.gmail.com with ESMTPS id d9443c01a7336-23e3b6b7500sm5380275ad.68.2025.07.22.05.01.12 (version=TLS1_2 cipher=ECDHE-ECDSA-AES128-GCM-SHA256 bits=128/128); Tue, 22 Jul 2025 05:01:13 -0700 (PDT) X-Relaying-Domain: iol.unh.edu Date: Tue, 22 Jul 2025 05:01:13 -0700 (PDT) Message-ID: <687f7d89.170a0220.1c33ff.b67aSMTPIN_ADDED_MISSING@mx.google.com> Received: from [172.21.0.4] (unknown [172.18.0.240]) by postal.iol.unh.edu (Postfix) with ESMTP id 4D0AE6051830; Tue, 22 Jul 2025 08:01:12 -0400 (EDT) Subject: |SUCCESS| pw155403 [PATCH] [v3] mbuf: de-inline sanity checking a re From: dpdklab@iol.unh.edu To: Test Report Cc: dpdk-test-reports@iol.unh.edu In-Reply-To: <20250722093431.555214-1-mb@smartsharesystems.com> References: <20250722093431.555214-1-mb@smartsharesystems.com> Content-Type: text/plain X-BeenThere: test-report@dpdk.org X-Mailman-Version: 2.1.29 Precedence: list List-Id: automatic DPDK test reports List-Unsubscribe: , List-Archive: List-Post: List-Help: List-Subscribe: , Errors-To: test-report-bounces@dpdk.org Test-Label: iol-abi-testing Test-Status: SUCCESS http://dpdk.org/patch/155403 _Testing PASS_ Submitter: Morten Brorup Date: Tuesday, July 22 2025 09:34:31 DPDK git baseline: Repo:dpdk Branch: master CommitID:b222395561638f89562e4ef42e1eabf2d6db43dd 155403 --> testing pass Upstream job id: Generic-DPDK-Compile-ABI#135237 Test environment and result as below: +-------------------------------+----------+ | Environment | abi_test | +===============================+==========+ | CentOS Stream 10 | PASS | +-------------------------------+----------+ | Debian GNU/Linux 12 | PASS | +-------------------------------+----------+ | Fedora Linux 40 | PASS | +-------------------------------+----------+ | Ubuntu 22.04 | PASS | +-------------------------------+----------+ | Fedora Linux 41 | PASS | +-------------------------------+----------+ | Ubuntu 24.04 | PASS | +-------------------------------+----------+ | Red Hat Enterprise Linux 8.10 | PASS | +-------------------------------+----------+ | openSUSE Leap 15.6 | PASS | +-------------------------------+----------+ | Red Hat Enterprise Linux 9.5 | PASS | +-------------------------------+----------+ | CentOS Stream 9 | PASS | +-------------------------------+----------+ CentOS Stream 10 Kernel: 5.15 Compiler: gcc gcc (GCC) 14.2.1 20250110 (Red Hat 14.2.1-8) Debian GNU/Linux 12 Kernel: 5.15 Compiler: gcc gcc (Debian 12.2.0-14+deb12u1) 12.2.0 Fedora Linux 40 Kernel: 5.15 Compiler: clang gcc (GCC) 14.2.1 20240912 (Red Hat 14.2.1-3) Ubuntu 22.04 Kernel: 5.15 Compiler: gcc gcc (Ubuntu 11.4.0-1ubuntu1~22.04) 11.4.0 Fedora Linux 41 Kernel: 5.15 Compiler: clang gcc (GCC) 14.3.1 20250523 (Red Hat 14.3.1-1) Ubuntu 24.04 Kernel: 5.15 Compiler: gcc gcc (Ubuntu 13.3.0-6ubuntu2~24.04) 13.3.0 Red Hat Enterprise Linux 8.10 Kernel: 5.15 Compiler: gcc gcc (GCC) 8.5.0 20210514 (Red Hat 8.5.0-22) openSUSE Leap 15.6 Kernel: 5.15 Compiler: gcc gcc (SUSE Linux) 7.5.0 Red Hat Enterprise Linux 9.5 Kernel: 5.15 Compiler: gcc gcc (GCC) 11.5.0 20240719 (Red Hat 11.5.0-2) CentOS Stream 9 Kernel: 5.15 Compiler: gcc gcc (GCC) 11.5.0 20240719 (Red Hat 11.5.0-7) To view detailed results, visit: https://lab.dpdk.org/results/dashboard/patchsets/33719/ UNH-IOL DPDK Community Lab To manage your email subscriptions, visit: https://lab.dpdk.org/results/dashboard/preferences/subscriptions/