From mboxrd@z Thu Jan 1 00:00:00 1970 Return-Path: Received: from mails.dpdk.org (mails.dpdk.org [217.70.189.124]) by inbox.dpdk.org (Postfix) with ESMTP id 97FDC46BE5 for ; Tue, 22 Jul 2025 14:01:59 +0200 (CEST) Received: from mails.dpdk.org (localhost [127.0.0.1]) by mails.dpdk.org (Postfix) with ESMTP id 9425240649; Tue, 22 Jul 2025 14:01:59 +0200 (CEST) Received: from mail-oo1-f98.google.com (mail-oo1-f98.google.com [209.85.161.98]) by mails.dpdk.org (Postfix) with ESMTP id 3BFEB40649 for ; Tue, 22 Jul 2025 14:01:58 +0200 (CEST) Received: by mail-oo1-f98.google.com with SMTP id 006d021491bc7-615a4b50215so1854139eaf.1 for ; Tue, 22 Jul 2025 05:01:58 -0700 (PDT) DKIM-Signature: v=1; a=rsa-sha256; c=relaxed/relaxed; d=iol.unh.edu; s=unh-iol; t=1753185717; x=1753790517; darn=dpdk.org; h=references:in-reply-to:cc:to:from:subject:message-id:date:from:to :cc:subject:date:message-id:reply-to; bh=vVv5ShM7JJUyqgaKvrX5srAKSRpT7f4Rd7Y8IhZ67zA=; b=jUHG9gC/qzkld0QEPwuTlzMY9AzMK3d/a9D85FhTSkl5SWaS5mdK/SeF4xTrQQwdOI 407GaOZL306/xX2J0byBHFLeKAz9umFs01w2EVHKyqt9xNnydYpoxeCIkv0sii1wuAlw AkHKDRWih9Vim27sXjGVtJeY2oJ+/oXiuFytA= X-Google-DKIM-Signature: v=1; a=rsa-sha256; c=relaxed/relaxed; d=1e100.net; s=20230601; t=1753185717; x=1753790517; h=references:in-reply-to:cc:to:from:subject:message-id:date :x-gm-message-state:from:to:cc:subject:date:message-id:reply-to; bh=vVv5ShM7JJUyqgaKvrX5srAKSRpT7f4Rd7Y8IhZ67zA=; b=SvRPSa4qqVjj/P0sl4bKSgWxi9g8p0OcKstkbyZb3qsWhy1rIfNrbuRfzGbk0L5WWh GpahCOhM5ywbM1rchW8hAB1pmskBh/yQ/tMDYMKu1S0/2wZxVzqRPi85tt8sfh2f258u 77+jQLxdRa9USnP3HnCtc1MWERqBdt+PlRkwGGNSZmhao1TTMXrST9FKYZ/6oAKQyQJB XLa6WxUw7VWs45E9wM8jS7Ddq0Y8c3Sfmed559RXqlZBgaMDubY8U1rJGjxaDZcPLcKE bCDcab0IOjUW5a1D7GU4Rq8AmVIFuFdlitaWBR+iXGnlc8WNllaE/HjIIcm/tKjPdugu D6VQ== X-Gm-Message-State: AOJu0YzYOQQtt/ElEbXRh20N4Z4XRPQbD+Cgomcb0gyv9fywLKYxJLE/ KbhmCV9eVkH07gsxv9OhFMmI8pKy+gte3sGpBVJOx8POIdweju190g0SFcqg7iBiFph0pNOKleK IS4qzj6B94AgVN8mJpXQ1OH3QcSu9OqgyI/u6DxSS8DtjgG+ZualJ/Y31Xj+x X-Gm-Gg: ASbGncvZ6VLzCkg1FTNyH08Jph4sJDiS6FtV58ZTNe0Mr0nwprGbHeBzOIhNIfQa1GW Lme4VhefpBlMmvdOc4uTh96EWU5tu7fatt+8WFwGfwl9OUtluMjZPxlx+EJMjZjuVOg/V2+WvUx xANaoYsy6DU8RSJ4TXT2/lF+K5pHQ31TlluTi6RfWG0YvMbBR5I/49KkZhXJ9mYc8SsOHf92l03 r9Yw9UpQnBaSj0yuBL8BKuEBg/NgeeMqyf6OVLcc4vtOXHX72QiERyg1GdlAvL5QK79FumUOw/R AAPJTT+tHUWtSI7ULGTt/GzHlnmSOk6pXXsn+mXOGTqZUCyHUA== X-Google-Smtp-Source: AGHT+IHWh9E+2GfXiLTvnTASK86j9SP10f7KhxKp4gukjKaTKNmnG37leQKFxbseYniMaHy+AU+HLvp90Y9k X-Received: by 2002:a05:6820:b8d:b0:615:a212:2db0 with SMTP id 006d021491bc7-615a212300amr12453422eaf.7.1753185717352; Tue, 22 Jul 2025 05:01:57 -0700 (PDT) Received: from postal.iol.unh.edu (postal.iol.unh.edu. [2606:4100:3880:1234::84]) by smtp-relay.gmail.com with ESMTPS id 006d021491bc7-615f09bf930sm62053eaf.0.2025.07.22.05.01.57 (version=TLS1_2 cipher=ECDHE-ECDSA-AES128-GCM-SHA256 bits=128/128); Tue, 22 Jul 2025 05:01:57 -0700 (PDT) X-Relaying-Domain: iol.unh.edu Date: Tue, 22 Jul 2025 05:01:57 -0700 (PDT) Message-ID: <687f7db5.050a0220.280d46.372dSMTPIN_ADDED_MISSING@mx.google.com> Received: from [172.21.0.4] (unknown [172.18.0.240]) by postal.iol.unh.edu (Postfix) with ESMTP id C3D826051830; Tue, 22 Jul 2025 08:01:55 -0400 (EDT) Subject: |SUCCESS| pw155403 [PATCH] [v3] mbuf: de-inline sanity checking a re From: dpdklab@iol.unh.edu To: Test Report Cc: dpdk-test-reports@iol.unh.edu In-Reply-To: <20250722093431.555214-1-mb@smartsharesystems.com> References: <20250722093431.555214-1-mb@smartsharesystems.com> Content-Type: text/plain X-BeenThere: test-report@dpdk.org X-Mailman-Version: 2.1.29 Precedence: list List-Id: automatic DPDK test reports List-Unsubscribe: , List-Archive: List-Post: List-Help: List-Subscribe: , Errors-To: test-report-bounces@dpdk.org Test-Label: iol-abi-testing Test-Status: SUCCESS http://dpdk.org/patch/155403 _Testing PASS_ Submitter: Morten Brorup Date: Tuesday, July 22 2025 09:34:31 DPDK git baseline: Repo:dpdk Branch: master CommitID:b222395561638f89562e4ef42e1eabf2d6db43dd 155403 --> testing pass Upstream job id: Generic-DPDK-Compile-ABI#135244 Test environment and result as below: +-------------------------------+----------+ | Environment | abi_test | +===============================+==========+ | CentOS Stream 10 | PASS | +-------------------------------+----------+ | Debian GNU/Linux 12 | PASS | +-------------------------------+----------+ | Fedora Linux 40 | PASS | +-------------------------------+----------+ | Ubuntu 22.04 | PASS | +-------------------------------+----------+ | Fedora Linux 41 | PASS | +-------------------------------+----------+ | Ubuntu 24.04 | PASS | +-------------------------------+----------+ | Red Hat Enterprise Linux 8.10 | PASS | +-------------------------------+----------+ | openSUSE Leap 15.6 | PASS | +-------------------------------+----------+ | Red Hat Enterprise Linux 9.5 | PASS | +-------------------------------+----------+ | CentOS Stream 9 | PASS | +-------------------------------+----------+ CentOS Stream 10 Kernel: 5.15 Compiler: gcc gcc (GCC) 14.2.1 20250110 (Red Hat 14.2.1-8) Debian GNU/Linux 12 Kernel: 5.15 Compiler: gcc gcc (Debian 12.2.0-14+deb12u1) 12.2.0 Fedora Linux 40 Kernel: 5.15 Compiler: clang gcc (GCC) 14.2.1 20240912 (Red Hat 14.2.1-3) Ubuntu 22.04 Kernel: 5.15 Compiler: gcc gcc (Ubuntu 11.4.0-1ubuntu1~22.04) 11.4.0 Fedora Linux 41 Kernel: 5.15 Compiler: clang gcc (GCC) 14.3.1 20250523 (Red Hat 14.3.1-1) Ubuntu 24.04 Kernel: 5.15 Compiler: gcc gcc (Ubuntu 13.3.0-6ubuntu2~24.04) 13.3.0 Red Hat Enterprise Linux 8.10 Kernel: 5.15 Compiler: gcc gcc (GCC) 8.5.0 20210514 (Red Hat 8.5.0-22) openSUSE Leap 15.6 Kernel: 5.15 Compiler: gcc gcc (SUSE Linux) 7.5.0 Red Hat Enterprise Linux 9.5 Kernel: 5.15 Compiler: gcc gcc (GCC) 11.5.0 20240719 (Red Hat 11.5.0-2) CentOS Stream 9 Kernel: 5.15 Compiler: gcc gcc (GCC) 11.5.0 20240719 (Red Hat 11.5.0-7) To view detailed results, visit: https://lab.dpdk.org/results/dashboard/patchsets/33719/ UNH-IOL DPDK Community Lab To manage your email subscriptions, visit: https://lab.dpdk.org/results/dashboard/preferences/subscriptions/