From mboxrd@z Thu Jan 1 00:00:00 1970 Return-Path: Received: from mails.dpdk.org (mails.dpdk.org [217.70.189.124]) by inbox.dpdk.org (Postfix) with ESMTP id A73DB46BE5 for ; Tue, 22 Jul 2025 14:02:16 +0200 (CEST) Received: from mails.dpdk.org (localhost [127.0.0.1]) by mails.dpdk.org (Postfix) with ESMTP id A2E3C40395; Tue, 22 Jul 2025 14:02:16 +0200 (CEST) Received: from mail-io1-f100.google.com (mail-io1-f100.google.com [209.85.166.100]) by mails.dpdk.org (Postfix) with ESMTP id CB0D140283 for ; Tue, 22 Jul 2025 14:02:15 +0200 (CEST) Received: by mail-io1-f100.google.com with SMTP id ca18e2360f4ac-87c28e9e7ddso247013139f.1 for ; Tue, 22 Jul 2025 05:02:15 -0700 (PDT) DKIM-Signature: v=1; a=rsa-sha256; c=relaxed/relaxed; d=iol.unh.edu; s=unh-iol; t=1753185735; x=1753790535; darn=dpdk.org; h=references:in-reply-to:cc:to:from:subject:message-id:date:from:to :cc:subject:date:message-id:reply-to; bh=QvLFEsqO3CFjoVLX8SRTo8523V/KDIZof9kuOaIjCFY=; b=R8VZBrCvPGIuji69drk71kXF7LwdUv7IyxXaqK7F4rTdfFO17YYaHVl0L8AlnmhtQF VK3tErrRwwJTPN31yD0OB0cmtHr6ZC8EATPScNrswoL1YJfSWMgxZ9YSAdgrqWpQYDSB HEYmrZO8agIQCNyRLf0/47/SiM4MmdTjj/TGM= X-Google-DKIM-Signature: v=1; a=rsa-sha256; c=relaxed/relaxed; d=1e100.net; s=20230601; t=1753185735; x=1753790535; h=references:in-reply-to:cc:to:from:subject:message-id:date :x-gm-message-state:from:to:cc:subject:date:message-id:reply-to; bh=QvLFEsqO3CFjoVLX8SRTo8523V/KDIZof9kuOaIjCFY=; b=lf/44MpUtyqHi9QjFM1yOq0FqFHTByc9zrrcmdwgyXc/fBZ5liENnoSxEVd2L9lIRK 8IWrxqCQbxoORsCgV9R2dMDCZ/MsGCvw6OHZMd8DeM6++kHF2XSEYMFMkqaYvmqHzji4 FJ2H82lz5X8Oibo+WcSTNn0+CmuFfiN6HYrszVET+ADyH/Vp74MzKtgJbF37r/Y1NR7t 3F2/ftsJPWYH2h1p9GRIRydQbaDlXYtUdN7dvqkSuXW4mL/nMqXdZUcU96Rso76SqSkU SLe1W1sUR+R4WbQZeXP6HJwTNNsPP7PHzoHKTs6voiFZK+0naM5EirkjIOB4ExIMx3bG kGWQ== X-Gm-Message-State: AOJu0YwwEcyOPZaXH9jBGMKzhdevzgYgLO5v08BR4Mlo6LOBfdoUZaCo ZLGl1RIFNePUduwLGxsFNHBMJTLmTRx/JO+iOJZkwNsNt1quSC7Fl8O6Xf5XIv5XUw6nhf/BPS9 En1aRfU2irQgRbI0LmJKyDjL7tF7fOpbJmCTlso6+EG+k X-Gm-Gg: ASbGncu/AJN3hNbjuxgdMtMNdNfyw3jDcLeBN6z/5lfgaCZw/BqDXBhsknjUnec9DDh nNQOqH8VsEZs8cO3nBhzicT5VvJHLTmDY0Q8khpAsHrx8qrdRc3gTsXwoNwir/T8v8lJSWRyFso ZsvsrBEVMB5s8BTdcOiK5JfM+5Bx5xL3EkC5jcJU8LU9Bd2K7VrJEov0mCHQ7tLRl/znzqNd0iY JdbGbOjgdEHUyjZfhIA4snjATUu+sebKBxAf5CcUj6PP1KGYm3Z82Ne4cdK6yB631z3YMioX+gO x/K06A3GlRDCn6pI8cyWHcejqs1BMFbKNAh4yAvo8C19wsZGCvwf+kgSK/8hWpfnWZL06JCJ X-Google-Smtp-Source: AGHT+IH7dvu0KNQSnNaCFn/VSihYQlzhG6NDLroE8xMuhn6BjLRx8gwPdPPyQFp3a8j54aHzYqnlBqpNu0Kt X-Received: by 2002:a05:6e02:16c5:b0:3df:3d1a:2e76 with SMTP id e9e14a558f8ab-3e2822fa81cmr285560085ab.1.1753185735050; Tue, 22 Jul 2025 05:02:15 -0700 (PDT) Received: from postal.iol.unh.edu (postal.iol.unh.edu. [132.177.123.84]) by smtp-relay.gmail.com with ESMTPS id e9e14a558f8ab-3e29821caf0sm6502005ab.19.2025.07.22.05.02.14 (version=TLS1_2 cipher=ECDHE-ECDSA-AES128-GCM-SHA256 bits=128/128); Tue, 22 Jul 2025 05:02:15 -0700 (PDT) X-Relaying-Domain: iol.unh.edu Date: Tue, 22 Jul 2025 05:02:15 -0700 (PDT) Message-ID: <687f7dc7.050a0220.110f6e.2dacSMTPIN_ADDED_MISSING@mx.google.com> Received: from [172.21.0.3] (unknown [172.18.0.240]) by postal.iol.unh.edu (Postfix) with ESMTP id 90DA16051830; Tue, 22 Jul 2025 08:02:14 -0400 (EDT) Subject: |SUCCESS| pw155403 [PATCH] [v3] mbuf: de-inline sanity checking a re From: dpdklab@iol.unh.edu To: Test Report Cc: dpdk-test-reports@iol.unh.edu In-Reply-To: <20250722093431.555214-1-mb@smartsharesystems.com> References: <20250722093431.555214-1-mb@smartsharesystems.com> Content-Type: text/plain X-BeenThere: test-report@dpdk.org X-Mailman-Version: 2.1.29 Precedence: list List-Id: automatic DPDK test reports List-Unsubscribe: , List-Archive: List-Post: List-Help: List-Subscribe: , Errors-To: test-report-bounces@dpdk.org Test-Label: iol-abi-testing Test-Status: SUCCESS http://dpdk.org/patch/155403 _Testing PASS_ Submitter: Morten Brorup Date: Tuesday, July 22 2025 09:34:31 DPDK git baseline: Repo:dpdk Branch: master CommitID:b222395561638f89562e4ef42e1eabf2d6db43dd 155403 --> testing pass Upstream job id: Generic-DPDK-Compile-ABI#135235 Test environment and result as below: +-------------------------------+----------+ | Environment | abi_test | +===============================+==========+ | CentOS Stream 10 | PASS | +-------------------------------+----------+ | Debian GNU/Linux 12 | PASS | +-------------------------------+----------+ | Fedora Linux 40 | PASS | +-------------------------------+----------+ | Ubuntu 22.04 | PASS | +-------------------------------+----------+ | Fedora Linux 41 | PASS | +-------------------------------+----------+ | Ubuntu 24.04 | PASS | +-------------------------------+----------+ | Red Hat Enterprise Linux 8.10 | PASS | +-------------------------------+----------+ | openSUSE Leap 15.6 | PASS | +-------------------------------+----------+ | Red Hat Enterprise Linux 9.5 | PASS | +-------------------------------+----------+ | CentOS Stream 9 | PASS | +-------------------------------+----------+ CentOS Stream 10 Kernel: 5.15 Compiler: gcc gcc (GCC) 14.2.1 20250110 (Red Hat 14.2.1-8) Debian GNU/Linux 12 Kernel: 5.15 Compiler: gcc gcc (Debian 12.2.0-14+deb12u1) 12.2.0 Fedora Linux 40 Kernel: 5.15 Compiler: clang gcc (GCC) 14.2.1 20240912 (Red Hat 14.2.1-3) Ubuntu 22.04 Kernel: 5.15 Compiler: gcc gcc (Ubuntu 11.4.0-1ubuntu1~22.04) 11.4.0 Fedora Linux 41 Kernel: 5.15 Compiler: clang gcc (GCC) 14.3.1 20250523 (Red Hat 14.3.1-1) Ubuntu 24.04 Kernel: 5.15 Compiler: gcc gcc (Ubuntu 13.3.0-6ubuntu2~24.04) 13.3.0 Red Hat Enterprise Linux 8.10 Kernel: 5.15 Compiler: gcc gcc (GCC) 8.5.0 20210514 (Red Hat 8.5.0-22) openSUSE Leap 15.6 Kernel: 5.15 Compiler: gcc gcc (SUSE Linux) 7.5.0 Red Hat Enterprise Linux 9.5 Kernel: 5.15 Compiler: gcc gcc (GCC) 11.5.0 20240719 (Red Hat 11.5.0-2) CentOS Stream 9 Kernel: 5.15 Compiler: gcc gcc (GCC) 11.5.0 20240719 (Red Hat 11.5.0-7) To view detailed results, visit: https://lab.dpdk.org/results/dashboard/patchsets/33719/ UNH-IOL DPDK Community Lab To manage your email subscriptions, visit: https://lab.dpdk.org/results/dashboard/preferences/subscriptions/