From mboxrd@z Thu Jan 1 00:00:00 1970 Return-Path: Received: from mails.dpdk.org (mails.dpdk.org [217.70.189.124]) by inbox.dpdk.org (Postfix) with ESMTP id B817646BE5 for ; Tue, 22 Jul 2025 14:02:28 +0200 (CEST) Received: from mails.dpdk.org (localhost [127.0.0.1]) by mails.dpdk.org (Postfix) with ESMTP id B496340265; Tue, 22 Jul 2025 14:02:28 +0200 (CEST) Received: from mail-pl1-f227.google.com (mail-pl1-f227.google.com [209.85.214.227]) by mails.dpdk.org (Postfix) with ESMTP id 2869B40395 for ; Tue, 22 Jul 2025 14:02:27 +0200 (CEST) Received: by mail-pl1-f227.google.com with SMTP id d9443c01a7336-23694cec0feso50583905ad.2 for ; Tue, 22 Jul 2025 05:02:27 -0700 (PDT) DKIM-Signature: v=1; a=rsa-sha256; c=relaxed/relaxed; d=iol.unh.edu; s=unh-iol; t=1753185746; x=1753790546; darn=dpdk.org; h=references:in-reply-to:cc:to:from:subject:message-id:date:from:to :cc:subject:date:message-id:reply-to; bh=jR3KdkrK257lRjSlqjof8D3ey7tp25JI0W3FAOrNn9Q=; b=Gu0OLlKNhPn59HNji8QSk+ok4YM9qOaFJv0P2qhunzPBq5ETaf53YLYwo+dXcVxb4t TmGEmac/jb+sTiO22hRUVWs5vCPsL4lUOiL/kJBkAx0rrBQgpk5XOQ6zHcD0ckJ75NCA aovnFzVX+Jz1OGAAoC1jVSRICnEBijKySmZUk= X-Google-DKIM-Signature: v=1; a=rsa-sha256; c=relaxed/relaxed; d=1e100.net; s=20230601; t=1753185746; x=1753790546; h=references:in-reply-to:cc:to:from:subject:message-id:date :x-gm-message-state:from:to:cc:subject:date:message-id:reply-to; bh=jR3KdkrK257lRjSlqjof8D3ey7tp25JI0W3FAOrNn9Q=; b=wIbv5OliLfcInuyxMdihvX6ZynguwaMFtOVr+miW9NBzi1LOXWiBiVDxKCOmwoT0X8 +eAennxjCC+lu/l1M/LezxpTW/mQEXe5NjeTIXA0S+ZOYM8HgrPrRbzkGuW6xBRDCZUN 3rDZLLQ1AsvbYDRy3H17JIDaAn3k6c10RgGrz6KAEdGOO4S0pZxQTVFYM6Fw+GOzk4Rf jPwlLQ/sYCN2zaZvel7j12RWDYqHmTo3KJ4SF3XdKwShhun+bOcTF/Ur4C5SdGil/pZl U/Li6IzMur5R+A5K/WHtRr/hq6r8zcXtpPXMeucyrGQ2Gz4tChjECZPioakmJ3okUqeW noOA== X-Gm-Message-State: AOJu0YxxsQZFWdB6VwL/SDhkqN3l+hMySg0R8CBPmWljhMHicQQxaLVl HBzVa2PwuqFCXGf2yRNnja5jgB+kc8rx4nBwf+HgXHDGIJ/cbQxpEaBTl5gj6NPPzZktlFRLzCB +h1gvQHromyuNxT/3Qvw0R9hxcWuaEdXwCuBDoFQti9lX X-Gm-Gg: ASbGncvxsrGK6mhdKTOeR/k/H2PjxOKb/kVUZN3RU/B88js7jArGx+27D8oxIAiFSVH 1Mk7Rj3g8OpjMYZTizHtzGOWKb/InC+jy6VaFNk4jNwqjdnHxugACURgT/iAJ7QPIUS7zvGLz1V 5Pju+SHP1XzbOc6mx0l5t2fEZTkluNqXqJ8KhPcXf1IJQd1XZpC5fHIYCCLFHCUuBKI2nunVuVo 1wLQrwAPSYr7Py/7Pu6IdDX1x8D+gUSGzgK2Yqcdlev6vcP9/sSlKi4P+Gk3qAGJc62QCa8GHxj 26a86My354BjvgJyeSXiQi5+ERkcETRf/D9EK8gP5TlH2YDBo0jc6pzhDKZWU+5CVtYXWAPn X-Google-Smtp-Source: AGHT+IFBX7Jca5dXI83mfsxMfru8NuOSgJ9VYTdh4WIA9LQrIYuuVou1Era6GuZWGTHL2NhHGmN/MNcD5kj2 X-Received: by 2002:a17:903:15cc:b0:236:93cb:48b with SMTP id d9443c01a7336-23e24f59db4mr378559965ad.44.1753185746248; Tue, 22 Jul 2025 05:02:26 -0700 (PDT) Received: from postal.iol.unh.edu (postal.iol.unh.edu. [132.177.123.84]) by smtp-relay.gmail.com with ESMTPS id d9443c01a7336-23e3b5f7ac0sm5501885ad.10.2025.07.22.05.02.25 (version=TLS1_2 cipher=ECDHE-ECDSA-AES128-GCM-SHA256 bits=128/128); Tue, 22 Jul 2025 05:02:26 -0700 (PDT) X-Relaying-Domain: iol.unh.edu Date: Tue, 22 Jul 2025 05:02:26 -0700 (PDT) Message-ID: <687f7dd2.170a0220.1158bb.b93bSMTPIN_ADDED_MISSING@mx.google.com> Received: from [172.21.0.4] (unknown [172.18.0.240]) by postal.iol.unh.edu (Postfix) with ESMTP id 5658C6051830; Tue, 22 Jul 2025 08:02:25 -0400 (EDT) Subject: |SUCCESS| pw155403 [PATCH] [v3] mbuf: de-inline sanity checking a re From: dpdklab@iol.unh.edu To: Test Report Cc: dpdk-test-reports@iol.unh.edu In-Reply-To: <20250722093431.555214-1-mb@smartsharesystems.com> References: <20250722093431.555214-1-mb@smartsharesystems.com> Content-Type: text/plain X-BeenThere: test-report@dpdk.org X-Mailman-Version: 2.1.29 Precedence: list List-Id: automatic DPDK test reports List-Unsubscribe: , List-Archive: List-Post: List-Help: List-Subscribe: , Errors-To: test-report-bounces@dpdk.org Test-Label: iol-abi-testing Test-Status: SUCCESS http://dpdk.org/patch/155403 _Testing PASS_ Submitter: Morten Brorup Date: Tuesday, July 22 2025 09:34:31 DPDK git baseline: Repo:dpdk Branch: master CommitID:b222395561638f89562e4ef42e1eabf2d6db43dd 155403 --> testing pass Upstream job id: Generic-DPDK-Compile-ABI#135243 Test environment and result as below: +-------------------------------+----------+ | Environment | abi_test | +===============================+==========+ | CentOS Stream 10 | PASS | +-------------------------------+----------+ | Debian GNU/Linux 12 | PASS | +-------------------------------+----------+ | Fedora Linux 40 | PASS | +-------------------------------+----------+ | Ubuntu 22.04 | PASS | +-------------------------------+----------+ | Fedora Linux 41 | PASS | +-------------------------------+----------+ | Ubuntu 24.04 | PASS | +-------------------------------+----------+ | Red Hat Enterprise Linux 8.10 | PASS | +-------------------------------+----------+ | openSUSE Leap 15.6 | PASS | +-------------------------------+----------+ | Red Hat Enterprise Linux 9.5 | PASS | +-------------------------------+----------+ | CentOS Stream 9 | PASS | +-------------------------------+----------+ CentOS Stream 10 Kernel: 5.15 Compiler: gcc gcc (GCC) 14.2.1 20250110 (Red Hat 14.2.1-8) Debian GNU/Linux 12 Kernel: 5.15 Compiler: gcc gcc (Debian 12.2.0-14+deb12u1) 12.2.0 Fedora Linux 40 Kernel: 5.15 Compiler: clang gcc (GCC) 14.2.1 20240912 (Red Hat 14.2.1-3) Ubuntu 22.04 Kernel: 5.15 Compiler: gcc gcc (Ubuntu 11.4.0-1ubuntu1~22.04) 11.4.0 Fedora Linux 41 Kernel: 5.15 Compiler: clang gcc (GCC) 14.3.1 20250523 (Red Hat 14.3.1-1) Ubuntu 24.04 Kernel: 5.15 Compiler: gcc gcc (Ubuntu 13.3.0-6ubuntu2~24.04) 13.3.0 Red Hat Enterprise Linux 8.10 Kernel: 5.15 Compiler: gcc gcc (GCC) 8.5.0 20210514 (Red Hat 8.5.0-22) openSUSE Leap 15.6 Kernel: 5.15 Compiler: gcc gcc (SUSE Linux) 7.5.0 Red Hat Enterprise Linux 9.5 Kernel: 5.15 Compiler: gcc gcc (GCC) 11.5.0 20240719 (Red Hat 11.5.0-2) CentOS Stream 9 Kernel: 5.15 Compiler: gcc gcc (GCC) 11.5.0 20240719 (Red Hat 11.5.0-7) To view detailed results, visit: https://lab.dpdk.org/results/dashboard/patchsets/33719/ UNH-IOL DPDK Community Lab To manage your email subscriptions, visit: https://lab.dpdk.org/results/dashboard/preferences/subscriptions/