From mboxrd@z Thu Jan 1 00:00:00 1970 Return-Path: Received: from mails.dpdk.org (mails.dpdk.org [217.70.189.124]) by inbox.dpdk.org (Postfix) with ESMTP id C78DE46BE5 for ; Tue, 22 Jul 2025 14:02:40 +0200 (CEST) Received: from mails.dpdk.org (localhost [127.0.0.1]) by mails.dpdk.org (Postfix) with ESMTP id C409F40265; Tue, 22 Jul 2025 14:02:40 +0200 (CEST) Received: from mail-yb1-f228.google.com (mail-yb1-f228.google.com [209.85.219.228]) by mails.dpdk.org (Postfix) with ESMTP id 49C2740283 for ; Tue, 22 Jul 2025 14:02:39 +0200 (CEST) Received: by mail-yb1-f228.google.com with SMTP id 3f1490d57ef6-e8da9b7386dso1887550276.1 for ; Tue, 22 Jul 2025 05:02:39 -0700 (PDT) DKIM-Signature: v=1; a=rsa-sha256; c=relaxed/relaxed; d=iol.unh.edu; s=unh-iol; t=1753185758; x=1753790558; darn=dpdk.org; h=references:in-reply-to:cc:to:from:subject:message-id:date:from:to :cc:subject:date:message-id:reply-to; bh=/5nHh1yfdFzwTOHrrJ/kYkPLjlBcnMtMHWnE+PasGJU=; b=YBV7j1rGzJIHxf9LVeZYiJ4561ut2yvbtEYpypRdEFkClltrmpCgRSz6gxi86M2dvn MYc3HYkSo+XVeSfXNm3wYHSYp2HsDxZJX5wM+TS09UtdT/f3vske3l1nhm7SvlbjQlMu XFnwByAkvd+ejAb485p/jRWVc97sX3aCM1Neg= X-Google-DKIM-Signature: v=1; a=rsa-sha256; c=relaxed/relaxed; d=1e100.net; s=20230601; t=1753185758; x=1753790558; h=references:in-reply-to:cc:to:from:subject:message-id:date :x-gm-message-state:from:to:cc:subject:date:message-id:reply-to; bh=/5nHh1yfdFzwTOHrrJ/kYkPLjlBcnMtMHWnE+PasGJU=; b=gfFNEX10/uz3ljioMIp0vPuKIiwEcyJtrLsYroV2HUdj8GpKYHqNRw0ODwrQy7h1Wz UK9jmmYdZbNdp9M8I+5G5jV7GA1NJz4x/+LxMsSen1XSXlgVb/dJmWayIPp5sfDH+Bkn 3AsaiY3AtU1Ef9+NrcgDpu5OJspS8luwxebPkZO+IiXK25XjiGyPlcPqE7D5vOZJ/QBF ybL9CgZ9TayPDKSpGM5pKpUngo11sO/7EDxPkDImPOhzAKGQiwBbX/wO4Yr3DaRo8Qdr iS6E0boRqVCcZ3mVosEdZTPMMEToO4Oo5vErJcNP/lLo7jY/W1MeLALxVFMTw3MmwDax grww== X-Gm-Message-State: AOJu0YwTyvSHgI9qbdtNaNVyAmuMOl4k1itz/+y3PA7EDr2jDEOXL897 d8R0Igo6yF1AHpwa4dNVKDZP/RX7QOH23gleaGFROk/o4RsiRRtIQQGsxU/Wfj+casu6ReGYnJr Aclfh2aaKSFSkxYn7c/YUbipFwL+qCOLt452I5YsvYnOBFDRISJkXs7S6itYb X-Gm-Gg: ASbGnctwOFDo78r1P9eU/tztWieZNKFq11ObMvQbuXeMh6HCA6/kgb/1bmuEB+KaT3e k5AVRD+Ze4+YRELElCIuJUTNoSmyfnjbB2QYgRD/wvyJczj2AGadBUSBe/6g/A7PmGht1AnjyPE 8tyH4GK71fBNXeFRLx6Dj01DWDxZyhGNB+Gid1ijPQqHjyim9Yjy+odkKiLZkUhHUB9ChDz0GMD +3dr5MylBnJpTocJ1cvObwgOsCHHdGBQnoiPWZ4oLmfapdsyMYZyqKI7JXLAeK/ONtlsPYrl5GG EU0OUKldU5wi46TPfxcHHPHGHA2QbYJJVoJnQ5og2JD0YcRrFA== X-Google-Smtp-Source: AGHT+IHpvzKSiBW7grJcLjJPITddN3Aon0F2ieos6yQc3JMuwbARUbxZi2cdYNyJe9FApAxAEne37v/IE9aN X-Received: by 2002:a05:6902:108e:b0:e8b:7392:5bc0 with SMTP id 3f1490d57ef6-e8db6d0bd42mr4123983276.8.1753185758536; Tue, 22 Jul 2025 05:02:38 -0700 (PDT) Received: from postal.iol.unh.edu (postal.iol.unh.edu. [2606:4100:3880:1234::84]) by smtp-relay.gmail.com with ESMTPS id 3f1490d57ef6-e8d7cc0f1fbsm557202276.2.2025.07.22.05.02.38 (version=TLS1_2 cipher=ECDHE-ECDSA-AES128-GCM-SHA256 bits=128/128); Tue, 22 Jul 2025 05:02:38 -0700 (PDT) X-Relaying-Domain: iol.unh.edu Date: Tue, 22 Jul 2025 05:02:38 -0700 (PDT) Message-ID: <687f7dde.050a0220.1f2e4b.cf49SMTPIN_ADDED_MISSING@mx.google.com> Received: from [172.21.0.2] (unknown [172.18.0.240]) by postal.iol.unh.edu (Postfix) with ESMTP id EC8C16051830; Tue, 22 Jul 2025 08:02:37 -0400 (EDT) Subject: |SUCCESS| pw155403 [PATCH] [v3] mbuf: de-inline sanity checking a re From: dpdklab@iol.unh.edu To: Test Report Cc: dpdk-test-reports@iol.unh.edu In-Reply-To: <20250722093431.555214-1-mb@smartsharesystems.com> References: <20250722093431.555214-1-mb@smartsharesystems.com> Content-Type: text/plain X-BeenThere: test-report@dpdk.org X-Mailman-Version: 2.1.29 Precedence: list List-Id: automatic DPDK test reports List-Unsubscribe: , List-Archive: List-Post: List-Help: List-Subscribe: , Errors-To: test-report-bounces@dpdk.org Test-Label: iol-abi-testing Test-Status: SUCCESS http://dpdk.org/patch/155403 _Testing PASS_ Submitter: Morten Brorup Date: Tuesday, July 22 2025 09:34:31 DPDK git baseline: Repo:dpdk Branch: master CommitID:b222395561638f89562e4ef42e1eabf2d6db43dd 155403 --> testing pass Upstream job id: Generic-DPDK-Compile-ABI#135234 Test environment and result as below: +-------------------------------+----------+ | Environment | abi_test | +===============================+==========+ | CentOS Stream 10 | PASS | +-------------------------------+----------+ | Debian GNU/Linux 12 | PASS | +-------------------------------+----------+ | Fedora Linux 40 | PASS | +-------------------------------+----------+ | Ubuntu 22.04 | PASS | +-------------------------------+----------+ | Fedora Linux 41 | PASS | +-------------------------------+----------+ | Ubuntu 24.04 | PASS | +-------------------------------+----------+ | Red Hat Enterprise Linux 8.10 | PASS | +-------------------------------+----------+ | openSUSE Leap 15.6 | PASS | +-------------------------------+----------+ | Red Hat Enterprise Linux 9.5 | PASS | +-------------------------------+----------+ | CentOS Stream 9 | PASS | +-------------------------------+----------+ CentOS Stream 10 Kernel: 5.15 Compiler: gcc gcc (GCC) 14.2.1 20250110 (Red Hat 14.2.1-8) Debian GNU/Linux 12 Kernel: 5.15 Compiler: gcc gcc (Debian 12.2.0-14+deb12u1) 12.2.0 Fedora Linux 40 Kernel: 5.15 Compiler: clang gcc (GCC) 14.2.1 20240912 (Red Hat 14.2.1-3) Ubuntu 22.04 Kernel: 5.15 Compiler: gcc gcc (Ubuntu 11.4.0-1ubuntu1~22.04) 11.4.0 Fedora Linux 41 Kernel: 5.15 Compiler: clang gcc (GCC) 14.3.1 20250523 (Red Hat 14.3.1-1) Ubuntu 24.04 Kernel: 5.15 Compiler: gcc gcc (Ubuntu 13.3.0-6ubuntu2~24.04) 13.3.0 Red Hat Enterprise Linux 8.10 Kernel: 5.15 Compiler: gcc gcc (GCC) 8.5.0 20210514 (Red Hat 8.5.0-22) openSUSE Leap 15.6 Kernel: 5.15 Compiler: gcc gcc (SUSE Linux) 7.5.0 Red Hat Enterprise Linux 9.5 Kernel: 5.15 Compiler: gcc gcc (GCC) 11.5.0 20240719 (Red Hat 11.5.0-2) CentOS Stream 9 Kernel: 5.15 Compiler: gcc gcc (GCC) 11.5.0 20240719 (Red Hat 11.5.0-7) To view detailed results, visit: https://lab.dpdk.org/results/dashboard/patchsets/33719/ UNH-IOL DPDK Community Lab To manage your email subscriptions, visit: https://lab.dpdk.org/results/dashboard/preferences/subscriptions/