From mboxrd@z Thu Jan 1 00:00:00 1970 Return-Path: Received: from mails.dpdk.org (mails.dpdk.org [217.70.189.124]) by inbox.dpdk.org (Postfix) with ESMTP id 018D146BE5 for ; Tue, 22 Jul 2025 14:02:55 +0200 (CEST) Received: from mails.dpdk.org (localhost [127.0.0.1]) by mails.dpdk.org (Postfix) with ESMTP id F1FAA40395; Tue, 22 Jul 2025 14:02:54 +0200 (CEST) Received: from mail-io1-f97.google.com (mail-io1-f97.google.com [209.85.166.97]) by mails.dpdk.org (Postfix) with ESMTP id D9BEC40265 for ; Tue, 22 Jul 2025 14:02:50 +0200 (CEST) Received: by mail-io1-f97.google.com with SMTP id ca18e2360f4ac-879c737bc03so152843239f.0 for ; Tue, 22 Jul 2025 05:02:50 -0700 (PDT) DKIM-Signature: v=1; a=rsa-sha256; c=relaxed/relaxed; d=iol.unh.edu; s=unh-iol; t=1753185770; x=1753790570; darn=dpdk.org; h=references:in-reply-to:cc:to:from:subject:message-id:date:from:to :cc:subject:date:message-id:reply-to; bh=677dvEsQI2ZM7bM0l8PB2svzI6LiKeTQGjUa2QXZjmk=; b=Lztn6K8Uc+b5A6K2LZAgU8AcG9Nk/gWTIggUQsFiqLiiV0BIcjHrihCpXLpNhkVtjl jMrSna2St4FJwmARiq2xUSfcVl/Mb7Uo7Z+HNDmxxqxw5dfCREhSTrSY6oPO7W7O2mZa 42pEztEgKLbSvqY+kGOlx/E+Lyl3hxfsvW7JM= X-Google-DKIM-Signature: v=1; a=rsa-sha256; c=relaxed/relaxed; d=1e100.net; s=20230601; t=1753185770; x=1753790570; h=references:in-reply-to:cc:to:from:subject:message-id:date :x-gm-message-state:from:to:cc:subject:date:message-id:reply-to; bh=677dvEsQI2ZM7bM0l8PB2svzI6LiKeTQGjUa2QXZjmk=; b=Vp9j6Fmu9h1GTpfnRUzlybc5sNdyf3bHd1Mcbz12N/XRU+FBggvQ3PHzJMN11cp7Qk cLXix2cT1/E5tlr/Kggzv6xWGZOhdBLBuK5GIzkpTZb2LlDws9mD/+6mfaV/ivZzldvU W4gG5JTQx/g9goJXdhk9TLQIZPsKbzVd0eL89u7ZzB8SJRUanJuxnHonY6TTT3XfiYLP KAC/0hAgx7jHSoa3G1iZTJTAOKh898w9sWajJMuDpdJ92hVOSwqjEeTRSY5XU1Eq/63R IwzLkq8ZScpxyTjWPkNolY2pq6vBh+KsIIvVIx55BB22gpCUDKB2wYklzw066mbsWW98 MJZQ== X-Gm-Message-State: AOJu0YzcXlg/Hah9r2d2Q6yRAxcby3Oa9EPyWI0LM3QtdRG8L1JTbZ/I SJIXSupq6RGd1kUF3PLWK/FbskNxY/t517KwqUB0EHI/fTsENzD8uJUzHVpCORIiy6Oqj3ofA7s xuh2Tr2lB1YJs8QHenDHu+Pbw8DLccdOwkZoiYa4iJmGY X-Gm-Gg: ASbGncvfxPJ0j+TL45McF16iNkFUz16O0YG1Reqqd4XDzIbjl80hs8E331HvTSFJHDq qcDU6HCIn0w2jPJjFYG63t0aW/OqVqiZH/CVCzz0MshyicUQPQQdJP+tJgsuaoYHnt1OHJvRLGR fn8pNlDH54Mq+SOsVJOrVRqcOjtkowwmXYdHrbghst46IZM/krHzw84bGhUQB9l3CJP/+ITpoTB GiZ+gCkuxk2n0n+UfyZGBmyWuEZLIioY6dB4ehZsvKEIyFV2dh0G+I+1dtCouQjdt09c1X/0l2X o7Xn+FmPrJBUchk2Ff2EVOIf+CpLk42glm4mOLlcpdXXzHbpLQItGJcp11L4jeBt7bbmJIHi X-Google-Smtp-Source: AGHT+IGt5u3iRp6JhkVK5DrstS69mCKIvMWxiL+fXNG/U3ykyawGjF0zuptR+xomJzT00IKRWC88qiDUXuQX X-Received: by 2002:a05:6e02:5e81:b0:3e2:98b8:e102 with SMTP id e9e14a558f8ab-3e298b8e324mr179711585ab.18.1753185770008; Tue, 22 Jul 2025 05:02:50 -0700 (PDT) Received: from postal.iol.unh.edu (postal.iol.unh.edu. [132.177.123.84]) by smtp-relay.gmail.com with ESMTPS id e9e14a558f8ab-3e29838a74dsm6124465ab.60.2025.07.22.05.02.49 (version=TLS1_2 cipher=ECDHE-ECDSA-AES128-GCM-SHA256 bits=128/128); Tue, 22 Jul 2025 05:02:50 -0700 (PDT) X-Relaying-Domain: iol.unh.edu Date: Tue, 22 Jul 2025 05:02:50 -0700 (PDT) Message-ID: <687f7dea.050a0220.3f77c.f13aSMTPIN_ADDED_MISSING@mx.google.com> Received: from [172.21.0.3] (unknown [172.18.0.240]) by postal.iol.unh.edu (Postfix) with ESMTP id 8CE3F6051830; Tue, 22 Jul 2025 08:02:49 -0400 (EDT) Subject: |SUCCESS| pw155403 [PATCH] [v3] mbuf: de-inline sanity checking a re From: dpdklab@iol.unh.edu To: Test Report Cc: dpdk-test-reports@iol.unh.edu In-Reply-To: <20250722093431.555214-1-mb@smartsharesystems.com> References: <20250722093431.555214-1-mb@smartsharesystems.com> Content-Type: text/plain X-BeenThere: test-report@dpdk.org X-Mailman-Version: 2.1.29 Precedence: list List-Id: automatic DPDK test reports List-Unsubscribe: , List-Archive: List-Post: List-Help: List-Subscribe: , Errors-To: test-report-bounces@dpdk.org Test-Label: iol-abi-testing Test-Status: SUCCESS http://dpdk.org/patch/155403 _Testing PASS_ Submitter: Morten Brorup Date: Tuesday, July 22 2025 09:34:31 DPDK git baseline: Repo:dpdk Branch: master CommitID:b222395561638f89562e4ef42e1eabf2d6db43dd 155403 --> testing pass Upstream job id: Generic-DPDK-Compile-ABI#135245 Test environment and result as below: +-------------------------------+----------+ | Environment | abi_test | +===============================+==========+ | CentOS Stream 10 | PASS | +-------------------------------+----------+ | Debian GNU/Linux 12 | PASS | +-------------------------------+----------+ | Fedora Linux 40 | PASS | +-------------------------------+----------+ | Ubuntu 22.04 | PASS | +-------------------------------+----------+ | Fedora Linux 41 | PASS | +-------------------------------+----------+ | Ubuntu 24.04 | PASS | +-------------------------------+----------+ | Red Hat Enterprise Linux 8.10 | PASS | +-------------------------------+----------+ | openSUSE Leap 15.6 | PASS | +-------------------------------+----------+ | Red Hat Enterprise Linux 9.5 | PASS | +-------------------------------+----------+ | CentOS Stream 9 | PASS | +-------------------------------+----------+ CentOS Stream 10 Kernel: 5.15 Compiler: gcc gcc (GCC) 14.2.1 20250110 (Red Hat 14.2.1-8) Debian GNU/Linux 12 Kernel: 5.15 Compiler: gcc gcc (Debian 12.2.0-14+deb12u1) 12.2.0 Fedora Linux 40 Kernel: 5.15 Compiler: clang gcc (GCC) 14.2.1 20240912 (Red Hat 14.2.1-3) Ubuntu 22.04 Kernel: 5.15 Compiler: gcc gcc (Ubuntu 11.4.0-1ubuntu1~22.04) 11.4.0 Fedora Linux 41 Kernel: 5.15 Compiler: clang gcc (GCC) 14.3.1 20250523 (Red Hat 14.3.1-1) Ubuntu 24.04 Kernel: 5.15 Compiler: gcc gcc (Ubuntu 13.3.0-6ubuntu2~24.04) 13.3.0 Red Hat Enterprise Linux 8.10 Kernel: 5.15 Compiler: gcc gcc (GCC) 8.5.0 20210514 (Red Hat 8.5.0-22) openSUSE Leap 15.6 Kernel: 5.15 Compiler: gcc gcc (SUSE Linux) 7.5.0 Red Hat Enterprise Linux 9.5 Kernel: 5.15 Compiler: gcc gcc (GCC) 11.5.0 20240719 (Red Hat 11.5.0-2) CentOS Stream 9 Kernel: 5.15 Compiler: gcc gcc (GCC) 11.5.0 20240719 (Red Hat 11.5.0-7) To view detailed results, visit: https://lab.dpdk.org/results/dashboard/patchsets/33719/ UNH-IOL DPDK Community Lab To manage your email subscriptions, visit: https://lab.dpdk.org/results/dashboard/preferences/subscriptions/