From mboxrd@z Thu Jan 1 00:00:00 1970 Return-Path: Received: from mails.dpdk.org (mails.dpdk.org [217.70.189.124]) by inbox.dpdk.org (Postfix) with ESMTP id D220546BE5 for ; Tue, 22 Jul 2025 14:08:58 +0200 (CEST) Received: from mails.dpdk.org (localhost [127.0.0.1]) by mails.dpdk.org (Postfix) with ESMTP id B615240265; Tue, 22 Jul 2025 14:08:58 +0200 (CEST) Received: from mail-yw1-f227.google.com (mail-yw1-f227.google.com [209.85.128.227]) by mails.dpdk.org (Postfix) with ESMTP id BF1A440265 for ; Tue, 22 Jul 2025 14:08:56 +0200 (CEST) Received: by mail-yw1-f227.google.com with SMTP id 00721157ae682-71841a48502so43882517b3.2 for ; Tue, 22 Jul 2025 05:08:56 -0700 (PDT) DKIM-Signature: v=1; a=rsa-sha256; c=relaxed/relaxed; d=iol.unh.edu; s=unh-iol; t=1753186136; x=1753790936; darn=dpdk.org; h=references:in-reply-to:cc:to:from:subject:message-id:date:from:to :cc:subject:date:message-id:reply-to; bh=9QHxKxgf1RPSheI5l8D5m4l05QlnJxW5xFvZA/LL7UI=; b=VbzXVyVtKbmVgiICAi58oeCC9jUAf4SEVw2ZmG2g/uowGmJuanAcQr+jz80svrHkTC 0at43luCyi6GrHr8QNDxZvv/VxY3LG/RdwI8w2eiFlWHr8dou3tJU2dEAqDR4nylDJu1 XH3UzunkxfDOC7GABiBELgj/gHyK5Tu/yevZc= X-Google-DKIM-Signature: v=1; a=rsa-sha256; c=relaxed/relaxed; d=1e100.net; s=20230601; t=1753186136; x=1753790936; h=references:in-reply-to:cc:to:from:subject:message-id:date :x-gm-message-state:from:to:cc:subject:date:message-id:reply-to; bh=9QHxKxgf1RPSheI5l8D5m4l05QlnJxW5xFvZA/LL7UI=; b=ORSXhH2cyQwgsBmoZHgNUBvph4W8YgKIXcWQzwgI2IuAzJGhlB5haXkQuqHh5s4Fc8 mWWOj/ij2YeF4SyNUrTthRMRPDlazYbdrqbZ1H9YZ8Y4M7+KRH4Qb6LAdBfbIq/hqT8q Axb2st1R+Ab4EPHEPBXeRecaeH9+nsn4E+hJh6vDA2U7kreXv4vPqgmXAYiXbqkTK2KI WYH66w7ojWDv2dVW6LN2RchoRQHEBw4oRSNJCDiIHE0OHixTQ1SrhNnI0e3VWIkQdU1a 6KxyF7aWx7j4Ek5CjuJ6mp9XRfOZIw2HzsWYBY2kbsEZaOuAAh2ixZp4b2Xn/Vx5A4t5 sZkQ== X-Gm-Message-State: AOJu0YwYx2f/MzKPP+a4vwtn5Rk2zxdU/nqmta1WOyq+O7mEeMPDxkxf byCnvNShqUI2FnTYmAd/0N0hz6TWdBW6DMkTrIh+v1+TZoBTMAIe3rP8sNDe+w1ePa40jh9G7uF VghoaXIT+FqqZzBbBZ3+wTBVPAphswxH3nxRoiITUQ8qm X-Gm-Gg: ASbGnctiNiJvcDQb8Qi2/i1GKOWnEOVBt4WjJtx0tlIeaFJtSTnY33PxHIPlaEcO93R awfruq+kbWILVDicXao3ae+Id6O3Mtq3yYs0cGy8D3wfQFJOMYXXm5QsFKwS3DkNpWzac+SJspH DmJUXI24Lrgvtl8UhAg6RBbksnNQ9XRnnztv6q75JTvB8FyNQnRs+EmUBkOhsYcrM4+T4lJTqdP YsjaXg08fEWpum2lgTzGmC/R9mQzQCoCHQxM5CW12zhvPBt3VYafEQVyRGMdk49oFJqlpjwJbuS GHbJs2GxGeb5XkIjat98p5bALSFCzzf8oZ/3rog7Ifeig/nZaRQ4zYMUqIM7bPX8vytfBqBz X-Google-Smtp-Source: AGHT+IEUtNt8orPZG/TZeEdGO6AAA1fuYID2exEbYQbvDmwUM8YB7xcBwpYjRcxN9jk7BR8pOrHsiSkKJ/cv X-Received: by 2002:a05:690c:48c4:b0:70e:2c7f:2ed4 with SMTP id 00721157ae682-7183691b3bcmr309615077b3.0.1753186135950; Tue, 22 Jul 2025 05:08:55 -0700 (PDT) Received: from postal.iol.unh.edu (postal.iol.unh.edu. [132.177.123.84]) by smtp-relay.gmail.com with ESMTPS id 00721157ae682-71953104dd0sm5258947b3.13.2025.07.22.05.08.55 (version=TLS1_2 cipher=ECDHE-ECDSA-AES128-GCM-SHA256 bits=128/128); Tue, 22 Jul 2025 05:08:55 -0700 (PDT) X-Relaying-Domain: iol.unh.edu Date: Tue, 22 Jul 2025 05:08:55 -0700 (PDT) Message-ID: <687f7f57.050a0220.39e51.d172SMTPIN_ADDED_MISSING@mx.google.com> Received: from [172.21.0.2] (unknown [172.18.0.240]) by postal.iol.unh.edu (Postfix) with ESMTP id 990616051830; Tue, 22 Jul 2025 08:08:55 -0400 (EDT) Subject: |SUCCESS| pw155403 [PATCH] [v3] mbuf: de-inline sanity checking a re From: dpdklab@iol.unh.edu To: Test Report Cc: dpdk-test-reports@iol.unh.edu In-Reply-To: <20250722093431.555214-1-mb@smartsharesystems.com> References: <20250722093431.555214-1-mb@smartsharesystems.com> Content-Type: text/plain X-BeenThere: test-report@dpdk.org X-Mailman-Version: 2.1.29 Precedence: list List-Id: automatic DPDK test reports List-Unsubscribe: , List-Archive: List-Post: List-Help: List-Subscribe: , Errors-To: test-report-bounces@dpdk.org Test-Label: iol-unit-amd64-testing Test-Status: SUCCESS http://dpdk.org/patch/155403 _Testing PASS_ Submitter: Morten Brorup Date: Tuesday, July 22 2025 09:34:31 DPDK git baseline: Repo:dpdk Branch: master CommitID:b222395561638f89562e4ef42e1eabf2d6db43dd 155403 --> testing pass Upstream job id: Generic-Unit-Test-DPDK#357225 Test environment and result as below: +-------------------------------+----------------+ | Environment | dpdk_unit_test | +===============================+================+ | CentOS Stream 9 | PASS | +-------------------------------+----------------+ | Debian GNU/Linux 12 | PASS | +-------------------------------+----------------+ | Fedora Linux 40 | PASS | +-------------------------------+----------------+ | CentOS Stream 10 | PASS | +-------------------------------+----------------+ | Fedora Linux 41 | PASS | +-------------------------------+----------------+ | Ubuntu 20.04 | PASS | +-------------------------------+----------------+ | Red Hat Enterprise Linux 9.5 | PASS | +-------------------------------+----------------+ | Red Hat Enterprise Linux 8.10 | PASS | +-------------------------------+----------------+ | Ubuntu 22.04 | PASS | +-------------------------------+----------------+ | Ubuntu 24.04 | PASS | +-------------------------------+----------------+ | Windows Server 2022 | PASS | +-------------------------------+----------------+ CentOS Stream 9 Kernel: 5.15 Compiler: gcc gcc (GCC) 11.5.0 20240719 (Red Hat 11.5.0-7) Debian GNU/Linux 12 Kernel: 5.15 Compiler: gcc gcc (Debian 12.2.0-14+deb12u1) 12.2.0 Fedora Linux 40 Kernel: 5.15 Compiler: gcc gcc (GCC) 14.2.1 20240912 (Red Hat 14.2.1-3) CentOS Stream 10 Kernel: 5.15 Compiler: gcc gcc (GCC) 14.2.1 20250110 (Red Hat 14.2.1-8) Fedora Linux 41 Kernel: 5.15 Compiler: gcc gcc (GCC) 14.3.1 20250523 (Red Hat 14.3.1-1) Ubuntu 20.04 Kernel: 5.15 Compiler: gcc gcc (Ubuntu 9.4.0-1ubuntu1~20.04.2) 9.4.0 Red Hat Enterprise Linux 9.5 Kernel: 5.15 Compiler: gcc gcc (GCC) 11.5.0 20240719 (Red Hat 11.5.0-2) Red Hat Enterprise Linux 8.10 Kernel: 5.15 Compiler: gcc gcc (GCC) 8.5.0 20210514 (Red Hat 8.5.0-22) Ubuntu 22.04 Kernel: 5.15 Compiler: gcc gcc (Ubuntu 11.4.0-1ubuntu1~22.04) 11.4.0 Ubuntu 24.04 Kernel: 5.15 Compiler: gcc gcc (Ubuntu 13.3.0-6ubuntu2~24.04) 13.3.0 Windows Server 2022 Kernel: 10.0.20348.2031 Compiler: clang 15.0.7, gcc 14.1.0 (MinGW), and MSVC VS 19.39.33521 To view detailed results, visit: https://lab.dpdk.org/results/dashboard/patchsets/33719/ UNH-IOL DPDK Community Lab To manage your email subscriptions, visit: https://lab.dpdk.org/results/dashboard/preferences/subscriptions/