From mboxrd@z Thu Jan 1 00:00:00 1970 Return-Path: Received: from mails.dpdk.org (mails.dpdk.org [217.70.189.124]) by inbox.dpdk.org (Postfix) with ESMTP id 64C3446BE7 for ; Tue, 22 Jul 2025 14:36:38 +0200 (CEST) Received: from mails.dpdk.org (localhost [127.0.0.1]) by mails.dpdk.org (Postfix) with ESMTP id 5EFB14003C; Tue, 22 Jul 2025 14:36:38 +0200 (CEST) Received: from mail-yw1-f228.google.com (mail-yw1-f228.google.com [209.85.128.228]) by mails.dpdk.org (Postfix) with ESMTP id 533884003C for ; Tue, 22 Jul 2025 14:36:37 +0200 (CEST) Received: by mail-yw1-f228.google.com with SMTP id 00721157ae682-7170344c100so46166737b3.0 for ; Tue, 22 Jul 2025 05:36:37 -0700 (PDT) DKIM-Signature: v=1; a=rsa-sha256; c=relaxed/relaxed; d=iol.unh.edu; s=unh-iol; t=1753187796; x=1753792596; darn=dpdk.org; h=references:in-reply-to:cc:to:from:subject:message-id:date:from:to :cc:subject:date:message-id:reply-to; bh=hdvHIS2mUZaFprZRqaOuYux5yD8fU3AbSW1zaUdXubM=; b=PRu4c3qPqfGGWUR1cWMGUSCZSxBjk93s3dt0bjQzD1qcGIwGfTeUNMr2iBV46ZiEMT /jPFTWf1GCCWkhdPx9WSeTuaws96vN4L7n9ekEHBuMM3k3mYIVQXUFPBKCnwhu4S+vog N1uKa1cZfiOVf9F6DU8gRkFeJoO/F/zw6mNxA= X-Google-DKIM-Signature: v=1; a=rsa-sha256; c=relaxed/relaxed; d=1e100.net; s=20230601; t=1753187796; x=1753792596; h=references:in-reply-to:cc:to:from:subject:message-id:date :x-gm-message-state:from:to:cc:subject:date:message-id:reply-to; bh=hdvHIS2mUZaFprZRqaOuYux5yD8fU3AbSW1zaUdXubM=; b=cMumkDh31PhsucUXAojS9gf3kze9HVbMyNj5cM4P2kcXpjBE1wt6NoHABiBpg8c/YK qbWrIFkyyhh4SsF1HulE38PrrW1Ff5I+7aZMs+b3s3FdLcyeq6/QT9zk8sa8pLCpTozN 6ZbRhg/bOX3Tqc9wvmip8/oZkYSA+6YiaquclGd0HC5LP7HeFHBr9ZnAtB6V6AwQxFsl aYoeTd6iVe8uyU+IEMwXco4I7yXWwMxgW4FROOECLRT9vmC3ZIoP0bDuflIhvL2SE0vO CxSrGMJZDV6z45a0tZAvRT5osA70C+BRl65MWtKpKtsqmPoY1GNoiafUzM0FXhzegmEQ kYPA== X-Gm-Message-State: AOJu0YzRsqjTB4S5953AraAPSJQ04BFDJ4joRtFWcqoXe8EjeKxvgQzU G/cx/FrC6CnvFxaTHjNK27M6htNHrZVegyUnk7vigpvGROwKzsvkQMMHauIWjZh4DFxvH0F+KDw zWdrnATEFG44BWZrfavyIOtgNu3+qBqxLbrVp/UWRUIToifrg3jbhJFBQqBBS X-Gm-Gg: ASbGncvnvD2BqTw1cSX9DCjDVWxMbZnGpxzihd7ulOZ9z+vqLPGJaM3Wyvjb8F4ErGo UWkmC4AWT1NYoj5dRqB/Ko39dNjyix2wOXYRRLImdhd2HTIxieIH0XdFiani8EJLTSdU79hE44+ YOd+G+8fDi5AjYLPhMWg8vUqzlMz9ZoQHWABgUF3kiLi32mFoCQhZb5OAdIZHNzGMlLXEjf2Pwg tl5+rdJHMspfmQU4Po+m9J6HiNd3GWpv0qauNx4voZ7d1k8LTcisC1vseOCfa9TGIjdT4kSoCRf 76WQXpVRIgPhf5tFAYuErw5V8TpqLL5iVBXL37Z0khHQXReHQg== X-Google-Smtp-Source: AGHT+IGzdwk4EJLFqicZk9CNjCxHN/kJsaCQ9AVc1cHjwpWEMDi/Fid0GXagCUa7p/ORS6IE7n8eLAkfCngq X-Received: by 2002:a05:690c:6c86:b0:719:57a5:fde3 with SMTP id 00721157ae682-71957a60175mr190363807b3.3.1753187796484; Tue, 22 Jul 2025 05:36:36 -0700 (PDT) Received: from postal.iol.unh.edu (postal.iol.unh.edu. [2606:4100:3880:1234::84]) by smtp-relay.gmail.com with ESMTPS id 00721157ae682-71953105e7fsm5339857b3.9.2025.07.22.05.36.36 (version=TLS1_2 cipher=ECDHE-ECDSA-AES128-GCM-SHA256 bits=128/128); Tue, 22 Jul 2025 05:36:36 -0700 (PDT) X-Relaying-Domain: iol.unh.edu Date: Tue, 22 Jul 2025 05:36:36 -0700 (PDT) Message-ID: <687f85d4.050a0220.8d423.ca70SMTPIN_ADDED_MISSING@mx.google.com> Received: from [172.21.0.2] (unknown [172.18.0.240]) by postal.iol.unh.edu (Postfix) with ESMTP id 258FB6051830; Tue, 22 Jul 2025 08:36:36 -0400 (EDT) Subject: |SUCCESS| pw155403 [PATCH] [v3] mbuf: de-inline sanity checking a re From: dpdklab@iol.unh.edu To: Test Report Cc: dpdk-test-reports@iol.unh.edu In-Reply-To: <20250722093431.555214-1-mb@smartsharesystems.com> References: <20250722093431.555214-1-mb@smartsharesystems.com> Content-Type: text/plain X-BeenThere: test-report@dpdk.org X-Mailman-Version: 2.1.29 Precedence: list List-Id: automatic DPDK test reports List-Unsubscribe: , List-Archive: List-Post: List-Help: List-Subscribe: , Errors-To: test-report-bounces@dpdk.org Test-Label: iol-compile-amd64-testing Test-Status: SUCCESS http://dpdk.org/patch/155403 _Testing PASS_ Submitter: Morten Brorup Date: Tuesday, July 22 2025 09:34:31 DPDK git baseline: Repo:dpdk Branch: master CommitID:b222395561638f89562e4ef42e1eabf2d6db43dd 155403 --> testing pass Upstream job id: Generic-DPDK-Compile-Meson#410929 Test environment and result as below: +-------------------------------+--------------------+-------------------+------------------+-------------------------+-------------------+----------------------+ | Environment | dpdk_meson_compile | dpdk_compile_spdk | dpdk_compile_ovs | dpdk_llvm_clang_compile | dpdk_msvc_compile | dpdk_mingw64_compile | +===============================+====================+===================+==================+=========================+===================+======================+ | CentOS Stream 9 | PASS | PASS | SKIPPED | SKIPPED | SKIPPED | SKIPPED | +-------------------------------+--------------------+-------------------+------------------+-------------------------+-------------------+----------------------+ | CentOS Stream 10 | PASS | SKIPPED | SKIPPED | SKIPPED | SKIPPED | SKIPPED | +-------------------------------+--------------------+-------------------+------------------+-------------------------+-------------------+----------------------+ | Fedora Linux 40 | PASS | PASS | SKIPPED | SKIPPED | SKIPPED | SKIPPED | +-------------------------------+--------------------+-------------------+------------------+-------------------------+-------------------+----------------------+ | Debian GNU/Linux 12 | PASS | PASS | SKIPPED | SKIPPED | SKIPPED | SKIPPED | +-------------------------------+--------------------+-------------------+------------------+-------------------------+-------------------+----------------------+ | Fedora Linux 41 | PASS | PASS | PASS | SKIPPED | SKIPPED | SKIPPED | +-------------------------------+--------------------+-------------------+------------------+-------------------------+-------------------+----------------------+ | Ubuntu 20.04 | PASS | SKIPPED | SKIPPED | SKIPPED | SKIPPED | SKIPPED | +-------------------------------+--------------------+-------------------+------------------+-------------------------+-------------------+----------------------+ | Red Hat Enterprise Linux 9.5 | PASS | SKIPPED | SKIPPED | SKIPPED | SKIPPED | SKIPPED | +-------------------------------+--------------------+-------------------+------------------+-------------------------+-------------------+----------------------+ | Red Hat Enterprise Linux 8.10 | PASS | SKIPPED | SKIPPED | SKIPPED | SKIPPED | SKIPPED | +-------------------------------+--------------------+-------------------+------------------+-------------------------+-------------------+----------------------+ | Ubuntu 22.04 | PASS | PASS | SKIPPED | SKIPPED | SKIPPED | SKIPPED | +-------------------------------+--------------------+-------------------+------------------+-------------------------+-------------------+----------------------+ | Ubuntu 24.04 | PASS | PASS | PASS | SKIPPED | SKIPPED | SKIPPED | +-------------------------------+--------------------+-------------------+------------------+-------------------------+-------------------+----------------------+ | Alpine Linux 3.22.0 | PASS | SKIPPED | SKIPPED | SKIPPED | SKIPPED | SKIPPED | +-------------------------------+--------------------+-------------------+------------------+-------------------------+-------------------+----------------------+ | FreeBSD 14.2 | PASS | SKIPPED | SKIPPED | SKIPPED | SKIPPED | SKIPPED | +-------------------------------+--------------------+-------------------+------------------+-------------------------+-------------------+----------------------+ | openSUSE Leap 15.6 | PASS | SKIPPED | SKIPPED | SKIPPED | SKIPPED | SKIPPED | +-------------------------------+--------------------+-------------------+------------------+-------------------------+-------------------+----------------------+ | Windows Server 2022 | SKIPPED | SKIPPED | SKIPPED | PASS | PASS | PASS | +-------------------------------+--------------------+-------------------+------------------+-------------------------+-------------------+----------------------+ CentOS Stream 9 Kernel: 5.15 Compiler: gcc gcc (GCC) 11.5.0 20240719 (Red Hat 11.5.0-7) CentOS Stream 10 Kernel: 5.15 Compiler: gcc gcc (GCC) 14.2.1 20250110 (Red Hat 14.2.1-8) Fedora Linux 40 Kernel: 5.15 Compiler: clang gcc (GCC) 14.2.1 20240912 (Red Hat 14.2.1-3) Debian GNU/Linux 12 Kernel: 5.15 Compiler: gcc gcc (Debian 12.2.0-14+deb12u1) 12.2.0 Fedora Linux 41 Kernel: 5.15 Compiler: clang gcc (GCC) 14.3.1 20250523 (Red Hat 14.3.1-1) Ubuntu 20.04 Kernel: 5.15 Compiler: gcc gcc (Ubuntu 9.4.0-1ubuntu1~20.04.2) 9.4.0 Red Hat Enterprise Linux 9.5 Kernel: 5.15 Compiler: gcc gcc (GCC) 11.5.0 20240719 (Red Hat 11.5.0-2) Red Hat Enterprise Linux 8.10 Kernel: 5.15 Compiler: gcc gcc (GCC) 8.5.0 20210514 (Red Hat 8.5.0-22) Ubuntu 22.04 Kernel: 5.15 Compiler: gcc gcc (Ubuntu 11.4.0-1ubuntu1~22.04) 11.4.0 Ubuntu 24.04 Kernel: 5.15 Compiler: gcc gcc (Ubuntu 13.3.0-6ubuntu2~24.04) 13.3.0 Alpine Linux 3.22.0 Kernel: 5.15 Compiler: gcc gcc (Alpine 14.2.0) 14.2.0 FreeBSD 14.2 Kernel: 14.2-RELEASE Compiler: clang 18.1.6 openSUSE Leap 15.6 Kernel: 5.15 Compiler: gcc gcc (SUSE Linux) 7.5.0 Windows Server 2022 Kernel: 10.0.20348.2031 Compiler: clang 15.0.7, gcc 14.1.0 (MinGW), and MSVC VS 19.39.33521 To view detailed results, visit: https://lab.dpdk.org/results/dashboard/patchsets/33719/ UNH-IOL DPDK Community Lab To manage your email subscriptions, visit: https://lab.dpdk.org/results/dashboard/preferences/subscriptions/