From mboxrd@z Thu Jan 1 00:00:00 1970 Return-Path: Received: from mails.dpdk.org (mails.dpdk.org [217.70.189.124]) by inbox.dpdk.org (Postfix) with ESMTP id 1719146BE7 for ; Tue, 22 Jul 2025 15:03:48 +0200 (CEST) Received: from mails.dpdk.org (localhost [127.0.0.1]) by mails.dpdk.org (Postfix) with ESMTP id 10C5E4003C; Tue, 22 Jul 2025 15:03:48 +0200 (CEST) Received: from mail-pl1-f225.google.com (mail-pl1-f225.google.com [209.85.214.225]) by mails.dpdk.org (Postfix) with ESMTP id 3448F4003C for ; Tue, 22 Jul 2025 15:03:47 +0200 (CEST) Received: by mail-pl1-f225.google.com with SMTP id d9443c01a7336-23dc5bcf49eso67049735ad.2 for ; Tue, 22 Jul 2025 06:03:47 -0700 (PDT) DKIM-Signature: v=1; a=rsa-sha256; c=relaxed/relaxed; d=iol.unh.edu; s=unh-iol; t=1753189426; x=1753794226; darn=dpdk.org; h=references:in-reply-to:cc:to:from:subject:message-id:date:from:to :cc:subject:date:message-id:reply-to; bh=pEGh/ADlAszwNk5wuNmhIjVjOA+Av73rdvU03eI21qI=; b=SUhBf6LgqLqxWBc7VqckACK1tkIrAXIZMN0fvfHS7il3zQGoZGfWFIEC88dj84DxOT PZF4cC9dGIfQtOR8t4qd3aE6PVgMjhjxtSkw3+mb1yR6puyInTs3znGIBg7rfViHG8Rz xC7VzULXWwXGoBXdR22QSoGY2w6gOyqqseJvI= X-Google-DKIM-Signature: v=1; a=rsa-sha256; c=relaxed/relaxed; d=1e100.net; s=20230601; t=1753189426; x=1753794226; h=references:in-reply-to:cc:to:from:subject:message-id:date :x-gm-message-state:from:to:cc:subject:date:message-id:reply-to; bh=pEGh/ADlAszwNk5wuNmhIjVjOA+Av73rdvU03eI21qI=; b=gENsUEgveoAYmgAvKuS953JxJj5p/b2+USMnnlS3F1yi2GWUfBaC/SxThACfoiuLsk 3bMLlQcNED17m1qApjEaC+twVWD/ZKm/qmf5aDsgpeTgFXNLc2erR7DS526wEnl4YkKj 54igpwz/+k5ZdsPcciflFmS1mcpfoFjhzLztsSe7pa+eyuk1CHtKa/lg2OjLBYAyiqbF dIK5XpLK4RTjJ+Im+k5a6m6Iri4uZmjAXiUqEfJH4ZyS8pIWgj5QVYQBL3A6HSePK+L1 qbI9atKzrbtu7s4rxfG16hHNV6oUKAcuk3fPmHEr8s6jn/BfvBkVSbQOkTZm1xsfyB93 Mj3A== X-Gm-Message-State: AOJu0YyshVPLfGnS45acb5kQiNrkBnPa6LBPi8+l8ZG2fHQUpjdYtywB CaIckKNesD/5PI3IppmoMXUU5ZikdNLvhXjIKzJoaId/jCkDm3WTE6zfZ24/2yrWRDPkUU4v5PI qGyeRGvaADi+5tT7VbJJDOMqfgjtvSkuP/luT3gpBxwZm/H3DPC97N2tlHJzC X-Gm-Gg: ASbGnctxj99fEYnAdRBpQXt+sx/rJl3KkGU44qJ3Z0KDaHO9IM+becEcNUaV+cIQQzG 4A2vfQlnGnY46Ug4EsHGxDPFxLq6UPu9La4iDDOK/h2D4kD1gF01F8aV7Mz9bSAiRAqSYgLejRw gwVHT5l7HvGL4u2nvsITyYXpx1tT4y6wIPqEuPwRokcusCnu/Zl6j3WV5XOkLjDkBpL6wxAMIxR Wad98PAfmxvam6WpwwRBERn71nYmguHW2KqH0r0WA09xPxzjypK8rQOfuIdHhS6AsVfZJZ3lMAb xHUlUKGKC+XLyobhSbdXXZ9nM8OMpmdLT//1WbdbDwYsjru0Pw== X-Google-Smtp-Source: AGHT+IEvYfhhgPTGRLv9/h6jiwv+DsgOpFiqCx7fjImUbS+JryHI8HrsItiZzvLwvqeJtbP4dgiaqPk3oDkv X-Received: by 2002:a17:903:46c8:b0:235:5a9:976f with SMTP id d9443c01a7336-23e30338031mr360974135ad.24.1753189426279; Tue, 22 Jul 2025 06:03:46 -0700 (PDT) Received: from postal.iol.unh.edu (postal.iol.unh.edu. [2606:4100:3880:1234::84]) by smtp-relay.gmail.com with ESMTPS id d9443c01a7336-23e3b5f737fsm5466975ad.3.2025.07.22.06.03.46 (version=TLS1_2 cipher=ECDHE-ECDSA-AES128-GCM-SHA256 bits=128/128); Tue, 22 Jul 2025 06:03:46 -0700 (PDT) X-Relaying-Domain: iol.unh.edu Date: Tue, 22 Jul 2025 06:03:46 -0700 (PDT) Message-ID: <687f8c32.170a0220.3606eb.bd68SMTPIN_ADDED_MISSING@mx.google.com> Received: from [172.21.0.6] (unknown [172.18.0.240]) by postal.iol.unh.edu (Postfix) with ESMTP id C0C6C604D420; Tue, 22 Jul 2025 09:03:45 -0400 (EDT) Subject: |SUCCESS| pw155402 [PATCH] bitops: improve power of 2 alignment func From: dpdklab@iol.unh.edu To: Test Report Cc: dpdk-test-reports@iol.unh.edu In-Reply-To: <20250722075321.121254-1-mattias.ronnblom@ericsson.com> References: <20250722075321.121254-1-mattias.ronnblom@ericsson.com> Content-Type: text/plain X-BeenThere: test-report@dpdk.org X-Mailman-Version: 2.1.29 Precedence: list List-Id: automatic DPDK test reports List-Unsubscribe: , List-Archive: List-Post: List-Help: List-Subscribe: , Errors-To: test-report-bounces@dpdk.org Test-Label: iol-compile-arm64-testing Test-Status: SUCCESS http://dpdk.org/patch/155402 _Testing PASS_ Submitter: Mattias Ronnblom Date: Tuesday, July 22 2025 07:53:21 DPDK git baseline: Repo:dpdk Branch: master CommitID:b222395561638f89562e4ef42e1eabf2d6db43dd 155402 --> testing pass Upstream job id: Generic-DPDK-Compile-Meson#410890 Test environment and result as below: +------------------------------+--------------------+ | Environment | dpdk_meson_compile | +==============================+====================+ | Red Hat Enterprise Linux 9.5 | PASS | +------------------------------+--------------------+ | Ubuntu 20.04 | PASS | +------------------------------+--------------------+ | Fedora Linux 40 | PASS | +------------------------------+--------------------+ | Debian GNU/Linux 12 | PASS | +------------------------------+--------------------+ | Ubuntu 22.04 | PASS | +------------------------------+--------------------+ | Fedora Linux 41 | PASS | +------------------------------+--------------------+ | CentOS Stream 9 | PASS | +------------------------------+--------------------+ | CentOS Stream 10 | PASS | +------------------------------+--------------------+ | Ubuntu 24.04 | PASS | +------------------------------+--------------------+ Red Hat Enterprise Linux 9.5 Kernel: 5.4 Compiler: gcc gcc (GCC) 11.5.0 20240719 (Red Hat 11.5.0-2) Ubuntu 20.04 Kernel: 5.15 Compiler: aarch64-linux-gnu-gcc gcc (Ubuntu 9.4.0-1ubuntu1~20.04.2) 9.4.0 Fedora Linux 40 Kernel: 5.4 Compiler: gcc gcc (GCC) 14.2.1 20240912 (Red Hat 14.2.1-3) Debian GNU/Linux 12 Kernel: 5.4 Compiler: gcc gcc (Debian 12.2.0-14+deb12u1) 12.2.0 Ubuntu 22.04 Kernel: 5.4 Compiler: gcc gcc (Ubuntu 11.4.0-1ubuntu1~22.04) 11.4.0 Fedora Linux 41 Kernel: 5.4 Compiler: gcc gcc (GCC) 14.3.1 20250523 (Red Hat 14.3.1-1) CentOS Stream 9 Kernel: 5.4 Compiler: gcc gcc (GCC) 11.5.0 20240719 (Red Hat 11.5.0-7) CentOS Stream 10 Kernel: 5.4 Compiler: gcc gcc (GCC) 14.2.1 20250110 (Red Hat 14.2.1-8) Ubuntu 24.04 Kernel: 5.4 Compiler: gcc gcc (Ubuntu 13.3.0-6ubuntu2~24.04) 13.3.0 To view detailed results, visit: https://lab.dpdk.org/results/dashboard/patchsets/33718/ UNH-IOL DPDK Community Lab To manage your email subscriptions, visit: https://lab.dpdk.org/results/dashboard/preferences/subscriptions/