From mboxrd@z Thu Jan 1 00:00:00 1970 Return-Path: Received: from mails.dpdk.org (mails.dpdk.org [217.70.189.124]) by inbox.dpdk.org (Postfix) with ESMTP id 23EE746BE7 for ; Tue, 22 Jul 2025 15:03:52 +0200 (CEST) Received: from mails.dpdk.org (localhost [127.0.0.1]) by mails.dpdk.org (Postfix) with ESMTP id 1DF494003C; Tue, 22 Jul 2025 15:03:52 +0200 (CEST) Received: from mail-oa1-f100.google.com (mail-oa1-f100.google.com [209.85.160.100]) by mails.dpdk.org (Postfix) with ESMTP id 58AB94003C for ; Tue, 22 Jul 2025 15:03:49 +0200 (CEST) Received: by mail-oa1-f100.google.com with SMTP id 586e51a60fabf-2ebb468cbb4so4869032fac.2 for ; Tue, 22 Jul 2025 06:03:49 -0700 (PDT) DKIM-Signature: v=1; a=rsa-sha256; c=relaxed/relaxed; d=iol.unh.edu; s=unh-iol; t=1753189428; x=1753794228; darn=dpdk.org; h=references:in-reply-to:cc:to:from:subject:message-id:date:from:to :cc:subject:date:message-id:reply-to; bh=naZV7GOSoJj2UGc0pG0xXVEb33+Gx4/RT/Yf/cP8Vzw=; b=LobU2ZpdLNuygsYEpcTlyVxpCJebmJF3JzT8ivctA5LsQn1NDDSPva27pHx/EI0jxN QHkP+OorCaMtzR08EPgSk7dx+RIa9j7mBte85OQtgDJa7vV+HnVRNfKEpxRm3dHqu2AE /nfbnc7+YZr0Jc9nGkdPKR+4bt6FU3YIq4Sdo= X-Google-DKIM-Signature: v=1; a=rsa-sha256; c=relaxed/relaxed; d=1e100.net; s=20230601; t=1753189428; x=1753794228; h=references:in-reply-to:cc:to:from:subject:message-id:date :x-gm-message-state:from:to:cc:subject:date:message-id:reply-to; bh=naZV7GOSoJj2UGc0pG0xXVEb33+Gx4/RT/Yf/cP8Vzw=; b=nnA8A5x1td4lqgBV9laYc+uzLKKsFaTyCpB813+VGwFLIzRnm6c9PWpgUn4H1W6FuY jON71ACQ0Rruwl4bpBPNrRvcFPTPX2JozQBy3pte2fEJTqY5qOQTjoYTQXA1tbnrXlPJ mV7AZFikdwk2vBlH2z3Fu3lycLeCTAKzybTlQiR787xMyIYft8Sjnbq/VrFT3UvUZHW0 Z3VGP9mvoBo+GzIZOFtffR4GpWonEcR0SH3qoOTAup7D+VLlnj+90kRRtbgQaIYbwz2t uGe57qih/L6zzl2ZHmaXbvKW/WOYxkhpE5djZ4eGsjpe6Khd3kQXKo+qvopAYUaEy4Jg AgNw== X-Gm-Message-State: AOJu0YyYf34A2go/G4Yt4AeazLpJpVRqX6bgmUTFFdg7v9vK7zrRk5D4 5i/0O1tXyAoLvJYdbbfUpff4jlCOTst+bXU5H4XmGD/Nm8ouPd46R6mjHErf2te/IH+1Ryq11Vk pB1cePtUyf7ju48p9QCJgEShYe4AP/4XnPexv3emzntuu X-Gm-Gg: ASbGncvD/11NL3fcTFVxOmfDEVP8fG9oHLKcVLaxXcvUSMwyNbhKfpQKy4JEaTQ+ZSA ZO6yBxyp5EuQAzbDt6c5cmwyUPhXQ6KU0GxfCKiVPHUVggFWoB0upQKmmHfcloszfGVeUPwwb9G nJGKl1ks0TPIiwDwjMFk0XCbDEGcKXge9tuVXAHSU3lJPs4uLMWJyn8cxavDponERq3PVliQKwe 15E1gT0coatAa4wVwVasu6ZLsFHLoTx2WuCu8K+pOfu2vkHlN+jZoi0pjRbwmi+f8ppDpaFyDj9 HX0/unjzmW+XH5Ku2KvIkBCESbXmD7Ns0giDMH1/FTVO7izTy3USxrcRg0GnH9T8qYXyjkET X-Google-Smtp-Source: AGHT+IHQEKSWZiU9BJLmc8FXW0kW6dpUiYavj1LzutBzPojDzMfhK271AJF6COh4f4xza0zoQv6qC9xko/CH X-Received: by 2002:a05:6871:294:b0:2c3:1651:ca78 with SMTP id 586e51a60fabf-2ffb228522cmr18302022fac.14.1753189428634; Tue, 22 Jul 2025 06:03:48 -0700 (PDT) Received: from postal.iol.unh.edu (postal.iol.unh.edu. [132.177.123.84]) by smtp-relay.gmail.com with ESMTPS id 586e51a60fabf-30105f126ecsm693720fac.23.2025.07.22.06.03.48 (version=TLS1_2 cipher=ECDHE-ECDSA-AES128-GCM-SHA256 bits=128/128); Tue, 22 Jul 2025 06:03:48 -0700 (PDT) X-Relaying-Domain: iol.unh.edu Date: Tue, 22 Jul 2025 06:03:48 -0700 (PDT) Message-ID: <687f8c34.050a0220.19bc20.37ecSMTPIN_ADDED_MISSING@mx.google.com> Received: from [172.21.0.7] (unknown [172.18.0.240]) by postal.iol.unh.edu (Postfix) with ESMTP id 467E2604D420; Tue, 22 Jul 2025 09:03:48 -0400 (EDT) Subject: |SUCCESS| pw155402 [PATCH] bitops: improve power of 2 alignment func From: dpdklab@iol.unh.edu To: Test Report Cc: dpdk-test-reports@iol.unh.edu In-Reply-To: <20250722075321.121254-1-mattias.ronnblom@ericsson.com> References: <20250722075321.121254-1-mattias.ronnblom@ericsson.com> Content-Type: text/plain X-BeenThere: test-report@dpdk.org X-Mailman-Version: 2.1.29 Precedence: list List-Id: automatic DPDK test reports List-Unsubscribe: , List-Archive: List-Post: List-Help: List-Subscribe: , Errors-To: test-report-bounces@dpdk.org Test-Label: iol-compile-arm64-testing Test-Status: SUCCESS http://dpdk.org/patch/155402 _Testing PASS_ Submitter: Mattias Ronnblom Date: Tuesday, July 22 2025 07:53:21 DPDK git baseline: Repo:dpdk Branch: master CommitID:b222395561638f89562e4ef42e1eabf2d6db43dd 155402 --> testing pass Upstream job id: Generic-DPDK-Compile-Meson#410892 Test environment and result as below: +------------------------------+--------------------+ | Environment | dpdk_meson_compile | +==============================+====================+ | Red Hat Enterprise Linux 9.5 | PASS | +------------------------------+--------------------+ | Ubuntu 20.04 | PASS | +------------------------------+--------------------+ | Fedora Linux 40 | PASS | +------------------------------+--------------------+ | Debian GNU/Linux 12 | PASS | +------------------------------+--------------------+ | Ubuntu 22.04 | PASS | +------------------------------+--------------------+ | Fedora Linux 41 | PASS | +------------------------------+--------------------+ | CentOS Stream 9 | PASS | +------------------------------+--------------------+ | CentOS Stream 10 | PASS | +------------------------------+--------------------+ | Ubuntu 24.04 | PASS | +------------------------------+--------------------+ Red Hat Enterprise Linux 9.5 Kernel: 5.4 Compiler: gcc gcc (GCC) 11.5.0 20240719 (Red Hat 11.5.0-2) Ubuntu 20.04 Kernel: 5.15 Compiler: aarch64-linux-gnu-gcc gcc (Ubuntu 9.4.0-1ubuntu1~20.04.2) 9.4.0 Fedora Linux 40 Kernel: 5.4 Compiler: gcc gcc (GCC) 14.2.1 20240912 (Red Hat 14.2.1-3) Debian GNU/Linux 12 Kernel: 5.4 Compiler: gcc gcc (Debian 12.2.0-14+deb12u1) 12.2.0 Ubuntu 22.04 Kernel: 5.4 Compiler: gcc gcc (Ubuntu 11.4.0-1ubuntu1~22.04) 11.4.0 Fedora Linux 41 Kernel: 5.4 Compiler: gcc gcc (GCC) 14.3.1 20250523 (Red Hat 14.3.1-1) CentOS Stream 9 Kernel: 5.4 Compiler: gcc gcc (GCC) 11.5.0 20240719 (Red Hat 11.5.0-7) CentOS Stream 10 Kernel: 5.4 Compiler: gcc gcc (GCC) 14.2.1 20250110 (Red Hat 14.2.1-8) Ubuntu 24.04 Kernel: 5.4 Compiler: gcc gcc (Ubuntu 13.3.0-6ubuntu2~24.04) 13.3.0 To view detailed results, visit: https://lab.dpdk.org/results/dashboard/patchsets/33718/ UNH-IOL DPDK Community Lab To manage your email subscriptions, visit: https://lab.dpdk.org/results/dashboard/preferences/subscriptions/