From mboxrd@z Thu Jan 1 00:00:00 1970 Return-Path: Received: from mails.dpdk.org (mails.dpdk.org [217.70.189.124]) by inbox.dpdk.org (Postfix) with ESMTP id E8DF146BE7 for ; Tue, 22 Jul 2025 15:50:16 +0200 (CEST) Received: from mails.dpdk.org (localhost [127.0.0.1]) by mails.dpdk.org (Postfix) with ESMTP id CFE834003C; Tue, 22 Jul 2025 15:50:16 +0200 (CEST) Received: from mail-pg1-f228.google.com (mail-pg1-f228.google.com [209.85.215.228]) by mails.dpdk.org (Postfix) with ESMTP id 6B9EA4003C for ; Tue, 22 Jul 2025 15:50:15 +0200 (CEST) Received: by mail-pg1-f228.google.com with SMTP id 41be03b00d2f7-b391ca6146eso4910815a12.3 for ; Tue, 22 Jul 2025 06:50:15 -0700 (PDT) DKIM-Signature: v=1; a=rsa-sha256; c=relaxed/relaxed; d=iol.unh.edu; s=unh-iol; t=1753192214; x=1753797014; darn=dpdk.org; h=references:in-reply-to:cc:to:from:subject:message-id:date:from:to :cc:subject:date:message-id:reply-to; bh=i5n2qJj1tWgkxeGHZrruIUGu0N1cdNulm6jQw3Du9Iw=; b=LgQad2E1mN7WOizVSc9lYgrbX2U+naDPvTtDg+sAKi1ba8W2Giz53k2h6Bprhnhey0 iWKxDNtRwpUBzP1Tx+ahDk7ZcSdipphniHMcOm5Luj56X47OQsvyQVYRRbpbo0oFIPbA NCU3xxKTQ+TJv7dOhxXweDvZuvY9RPonG9wpM= X-Google-DKIM-Signature: v=1; a=rsa-sha256; c=relaxed/relaxed; d=1e100.net; s=20230601; t=1753192214; x=1753797014; h=references:in-reply-to:cc:to:from:subject:message-id:date :x-gm-message-state:from:to:cc:subject:date:message-id:reply-to; bh=i5n2qJj1tWgkxeGHZrruIUGu0N1cdNulm6jQw3Du9Iw=; b=QpfM7mmpvW39vI71rBi8IXx0aTYl7uXcLNI/PRbcmkpqjJ46UHCYPoCuqYSYdS/OF7 9Lwuqk8xwtcNuYBKUQskC8hz50/5xjWU8ZyAZRS56iCdVtv65nhr/5XnO3D8x1AU0DUU OOSRkFW8hkX1sXt3eHtuSf/RDJZ795TLV5pmrfE01c9d25+QiUBV7KApX5UdX1ydgM96 XnX2wi71tb5bN4WDNpZfaE6oZhxOiEhsk/l9wZaWi75qkvFFj0+t/JaDMeqqmR5sIIyX PSagSAMmkQLH3K0jG6XvKzAPut/ldh3a6Fm9jo0AqFv5qAOrwyW/aYtUkUdu/M9RiYTy LvGQ== X-Gm-Message-State: AOJu0YxQSeN4w7focubXSPG2ObAZwMSW3MVAOTRkPeDsZ4af+2y/OWhz Qx775WEghvNgd09JCCJ5Eq23KdeQYiLc0jMexm62rsAyk9Ggd+h1XfTD/lX9SGntLQ9Y1Y5YDOJ 8XJ1DMVWqYbrdA2eFthZ3H0hsP0u2Xgun+wtB7nPrkalJf7TClNhmzrk6vzff X-Gm-Gg: ASbGnctaCDWMux6G6WT553Q03tze+N2GB+qf8Zm3FPQI5eA0jS+GwzmH9h3xlFNXly4 +LcTx4WtiHYdPqih+ygzDLIb3XT+nAdOBAF9lAf0ZRVnVE5YGsKTvZP5IxUMpN8hM7h4HAo64Cr 3djaLhQVCKSqxBbj6FaKqdQ9cn7EPA+Qa8hHJaj93MIOQ74FqPaNoyaRdaLPHI2bwjiZCjOBEwb Am3bFsCXCxlFe0LValp7asCkSZf7kl+MAHJ0dnWtg3By+7Y+r5mL1laSTTckB2ASp9mGSHQjenY ytvoqOfeAGPr/v+Qp63gInqo5zzt8NWWhxxMh42m8vlOzzIU3g== X-Google-Smtp-Source: AGHT+IEIRdoDUFePeg7WK5q8XnYUmQ4x5kye0H5AXTSzVhNjx4G4/EeJJ6moML0IEAxTfUvW/jZ6oB6+Qr8A X-Received: by 2002:a17:903:2442:b0:234:986c:66d4 with SMTP id d9443c01a7336-23e3033894dmr282740255ad.26.1753192214161; Tue, 22 Jul 2025 06:50:14 -0700 (PDT) Received: from postal.iol.unh.edu (postal.iol.unh.edu. [2606:4100:3880:1234::84]) by smtp-relay.gmail.com with ESMTPS id d9443c01a7336-23e3b5fff0bsm5666925ad.17.2025.07.22.06.50.14 (version=TLS1_2 cipher=ECDHE-ECDSA-AES128-GCM-SHA256 bits=128/128); Tue, 22 Jul 2025 06:50:14 -0700 (PDT) X-Relaying-Domain: iol.unh.edu Date: Tue, 22 Jul 2025 06:50:14 -0700 (PDT) Message-ID: <687f9716.170a0220.24488d.c935SMTPIN_ADDED_MISSING@mx.google.com> Received: from [172.21.0.4] (unknown [172.18.0.240]) by postal.iol.unh.edu (Postfix) with ESMTP id 6E585604D420; Tue, 22 Jul 2025 09:50:13 -0400 (EDT) Subject: |SUCCESS| pw155404 [PATCH] lib/ethdev: fix segfault in secondary pro From: dpdklab@iol.unh.edu To: Test Report Cc: dpdk-test-reports@iol.unh.edu In-Reply-To: <20250722115439.1353573-1-14pwcse1224@uetpeshawar.edu.pk> References: <20250722115439.1353573-1-14pwcse1224@uetpeshawar.edu.pk> Content-Type: text/plain X-BeenThere: test-report@dpdk.org X-Mailman-Version: 2.1.29 Precedence: list List-Id: automatic DPDK test reports List-Unsubscribe: , List-Archive: List-Post: List-Help: List-Subscribe: , Errors-To: test-report-bounces@dpdk.org Test-Label: iol-unit-amd64-testing Test-Status: SUCCESS http://dpdk.org/patch/155404 _Testing PASS_ Submitter: Khadem Ullah <14pwcse1224@uetpeshawar.edu.pk> Date: Tuesday, July 22 2025 11:54:39 DPDK git baseline: Repo:dpdk Branch: master CommitID:b78afde1fed9e11ee5cdce333a1a69dd7a9cf13e 155404 --> testing pass Upstream job id: Generic-Unit-Test-DPDK#357251 Test environment and result as below: +-------------------------------+----------------+ | Environment | dpdk_unit_test | +===============================+================+ | CentOS Stream 10 | PASS | +-------------------------------+----------------+ | Debian GNU/Linux 12 | PASS | +-------------------------------+----------------+ | CentOS Stream 9 | PASS | +-------------------------------+----------------+ | Fedora Linux 40 | PASS | +-------------------------------+----------------+ | Fedora Linux 41 | PASS | +-------------------------------+----------------+ | Red Hat Enterprise Linux 8.10 | PASS | +-------------------------------+----------------+ | Red Hat Enterprise Linux 9.5 | PASS | +-------------------------------+----------------+ | Ubuntu 24.04 | PASS | +-------------------------------+----------------+ | Ubuntu 20.04 | PASS | +-------------------------------+----------------+ | Ubuntu 22.04 | PASS | +-------------------------------+----------------+ | Windows Server 2022 | PASS | +-------------------------------+----------------+ CentOS Stream 10 Kernel: 5.15 Compiler: gcc gcc (GCC) 14.2.1 20250110 (Red Hat 14.2.1-8) Debian GNU/Linux 12 Kernel: 5.15 Compiler: gcc gcc (Debian 12.2.0-14+deb12u1) 12.2.0 CentOS Stream 9 Kernel: 5.15 Compiler: gcc gcc (GCC) 11.5.0 20240719 (Red Hat 11.5.0-7) Fedora Linux 40 Kernel: 5.15 Compiler: gcc gcc (GCC) 14.2.1 20240912 (Red Hat 14.2.1-3) Fedora Linux 41 Kernel: 5.15 Compiler: clang gcc (GCC) 14.3.1 20250523 (Red Hat 14.3.1-1) Red Hat Enterprise Linux 8.10 Kernel: 5.15 Compiler: gcc gcc (GCC) 8.5.0 20210514 (Red Hat 8.5.0-22) Red Hat Enterprise Linux 9.5 Kernel: 5.15 Compiler: gcc gcc (GCC) 11.5.0 20240719 (Red Hat 11.5.0-2) Ubuntu 24.04 Kernel: 5.15 Compiler: gcc gcc (Ubuntu 13.3.0-6ubuntu2~24.04) 13.3.0 Ubuntu 20.04 Kernel: 5.15 Compiler: gcc gcc (Ubuntu 9.4.0-1ubuntu1~20.04.2) 9.4.0 Ubuntu 22.04 Kernel: 5.15 Compiler: gcc gcc (Ubuntu 11.4.0-1ubuntu1~22.04) 11.4.0 Windows Server 2022 Kernel: 10.0.20348.2031 Compiler: clang 15.0.7, gcc 14.1.0 (MinGW), and MSVC VS 19.39.33521 To view detailed results, visit: https://lab.dpdk.org/results/dashboard/patchsets/33720/ UNH-IOL DPDK Community Lab To manage your email subscriptions, visit: https://lab.dpdk.org/results/dashboard/preferences/subscriptions/