From mboxrd@z Thu Jan 1 00:00:00 1970 Return-Path: Received: from mails.dpdk.org (mails.dpdk.org [217.70.189.124]) by inbox.dpdk.org (Postfix) with ESMTP id 50B8046BE7 for ; Tue, 22 Jul 2025 15:54:03 +0200 (CEST) Received: from mails.dpdk.org (localhost [127.0.0.1]) by mails.dpdk.org (Postfix) with ESMTP id 2FE6E4003C; Tue, 22 Jul 2025 15:54:03 +0200 (CEST) Received: from mail-pf1-f226.google.com (mail-pf1-f226.google.com [209.85.210.226]) by mails.dpdk.org (Postfix) with ESMTP id 6C4694003C for ; Tue, 22 Jul 2025 15:54:02 +0200 (CEST) Received: by mail-pf1-f226.google.com with SMTP id d2e1a72fcca58-7426c44e014so5032106b3a.3 for ; Tue, 22 Jul 2025 06:54:02 -0700 (PDT) DKIM-Signature: v=1; a=rsa-sha256; c=relaxed/relaxed; d=iol.unh.edu; s=unh-iol; t=1753192441; x=1753797241; darn=dpdk.org; h=references:in-reply-to:cc:to:from:subject:message-id:date:from:to :cc:subject:date:message-id:reply-to; bh=i7hyllC6KnxRTtlwKm36AvvnCaBYRT3GDmgrbm4KJPA=; b=cDqO8LLJrOkRvaly1jKQMeYu/JHIew4bLfT09/TLBgMOqSoUe0nvTUb0rTTT8qhx96 66yHsgy5tk6PzD6LQiMZ3TSDiJrts6Vm6lC/KNLsrW4OszMgTqPzA4P7PjnNAs7EJe9k HplxxWZOEOnMynVmYpBCg8vJGbO5JkQwI8FFY= X-Google-DKIM-Signature: v=1; a=rsa-sha256; c=relaxed/relaxed; d=1e100.net; s=20230601; t=1753192441; x=1753797241; h=references:in-reply-to:cc:to:from:subject:message-id:date :x-gm-message-state:from:to:cc:subject:date:message-id:reply-to; bh=i7hyllC6KnxRTtlwKm36AvvnCaBYRT3GDmgrbm4KJPA=; b=sZENxCAC6bBHpXGUnvD5fE0qOvSXGiJU4+26tSep171Aq6qlv9NVLpxtKi2KXoV2j7 rbEJydjvOiLyy1XW0aKHGsAZ/ZBTW4f96QtgBZvODyCOkIjBqa4a4YKoCw4DHIH/HHZN nm+CbrMlSc6mgdps4M/XW02GaaIPf+UiytUFVfTqp5kZ92tf3PxqErGh21Nmly9ETbVe OR5GX0ljBJ+T49oa0mVnMVyAEttJIw3Do7H2HneVB5G7qWBe6RTHw1gR+KjjPLK8Kz7c 4DaPGGMT28l8hKSDVaHyP4S1LLyWCe1vXP3Zvo5K1/jKsXAs5XTvuyNxKAyRM71FHcSl X43Q== X-Gm-Message-State: AOJu0YxrZExBoflRJrnlCsJfGbr/bLbgfqbFyU2AaYKT8UiH6juB9fhu oYLF5Kr5P47kiQw9Vurf/lyw617fIUlp35mkchM4hb0TW0jfWLKRFTKKX7ssFXiJKM6NAXGXlJb F6sdFvBvgdvXoqitllpTEsnEgoU+Bng19EMarHuO+KViO X-Gm-Gg: ASbGncvT8Xub76im3X2VAXZ5Gq+S8DgeV8mSov6+1Lv0wALCAb3mkAxxYdvfYngBxbj Xx05iUuWtw1FCVSXgONoQr4bwilVlvYQnnyuZP2kdvVeh7g/ufm7QC/BxsK2wSatpDk7LAdiEYp ryC1B0fYjIruT+x4OWN1G8Kt4v27Q5yc6Sz814fS8FehzVH0tZYdvkJmHzBEazDaAuRyIWBBLvl Scbl4lM+VdB1oZnCEHOKhoLB87eX+l/EN1SzR2RgT9T3uWBa3AS4pdZpcJIjZaFVvXXEpBEtT2j om1Ps8PjDgYQdeG4zVtoY2x1QuLZDzFVlT5R6Oe3YvmyWAAg4psRtCq9AGlLr4fuZjMgaCqp X-Google-Smtp-Source: AGHT+IEiImdsThoPk2JpQRSikvvXX9la2sjkMqRJCIUkfq+PLb9LqeH4xWid8qELid08uzYh5j1eUvN/OWLE X-Received: by 2002:a05:6a00:4fc3:b0:736:5e28:cfba with SMTP id d2e1a72fcca58-756e9fe718fmr34809281b3a.18.1753192441403; Tue, 22 Jul 2025 06:54:01 -0700 (PDT) Received: from postal.iol.unh.edu (postal.iol.unh.edu. [132.177.123.84]) by smtp-relay.gmail.com with ESMTPS id d2e1a72fcca58-759ca33bdbasm584800b3a.12.2025.07.22.06.54.01 (version=TLS1_2 cipher=ECDHE-ECDSA-AES128-GCM-SHA256 bits=128/128); Tue, 22 Jul 2025 06:54:01 -0700 (PDT) X-Relaying-Domain: iol.unh.edu Date: Tue, 22 Jul 2025 06:54:01 -0700 (PDT) Message-ID: <687f97f9.050a0220.3a8233.d2a2SMTPIN_ADDED_MISSING@mx.google.com> Received: from [172.21.0.3] (unknown [172.18.0.240]) by postal.iol.unh.edu (Postfix) with ESMTP id A414C604D420; Tue, 22 Jul 2025 09:54:00 -0400 (EDT) Subject: |SUCCESS| pw155404 [PATCH] lib/ethdev: fix segfault in secondary pro From: dpdklab@iol.unh.edu To: Test Report Cc: dpdk-test-reports@iol.unh.edu In-Reply-To: <20250722115439.1353573-1-14pwcse1224@uetpeshawar.edu.pk> References: <20250722115439.1353573-1-14pwcse1224@uetpeshawar.edu.pk> Content-Type: text/plain X-BeenThere: test-report@dpdk.org X-Mailman-Version: 2.1.29 Precedence: list List-Id: automatic DPDK test reports List-Unsubscribe: , List-Archive: List-Post: List-Help: List-Subscribe: , Errors-To: test-report-bounces@dpdk.org Test-Label: iol-abi-testing Test-Status: SUCCESS http://dpdk.org/patch/155404 _Testing PASS_ Submitter: Khadem Ullah <14pwcse1224@uetpeshawar.edu.pk> Date: Tuesday, July 22 2025 11:54:39 DPDK git baseline: Repo:dpdk Branch: master CommitID:b78afde1fed9e11ee5cdce333a1a69dd7a9cf13e 155404 --> testing pass Upstream job id: Generic-DPDK-Compile-ABI#135250 Test environment and result as below: +-------------------------------+----------+ | Environment | abi_test | +===============================+==========+ | CentOS Stream 10 | PASS | +-------------------------------+----------+ | CentOS Stream 9 | PASS | +-------------------------------+----------+ | Debian GNU/Linux 12 | PASS | +-------------------------------+----------+ | Fedora Linux 40 | PASS | +-------------------------------+----------+ | Ubuntu 22.04 | PASS | +-------------------------------+----------+ | Fedora Linux 41 | PASS | +-------------------------------+----------+ | Red Hat Enterprise Linux 9.5 | PASS | +-------------------------------+----------+ | openSUSE Leap 15.6 | PASS | +-------------------------------+----------+ | Red Hat Enterprise Linux 8.10 | PASS | +-------------------------------+----------+ | Ubuntu 24.04 | PASS | +-------------------------------+----------+ CentOS Stream 10 Kernel: 5.15 Compiler: gcc gcc (GCC) 14.2.1 20250110 (Red Hat 14.2.1-8) CentOS Stream 9 Kernel: 5.15 Compiler: gcc gcc (GCC) 11.5.0 20240719 (Red Hat 11.5.0-7) Debian GNU/Linux 12 Kernel: 5.15 Compiler: gcc gcc (Debian 12.2.0-14+deb12u1) 12.2.0 Fedora Linux 40 Kernel: 5.15 Compiler: clang gcc (GCC) 14.2.1 20240912 (Red Hat 14.2.1-3) Ubuntu 22.04 Kernel: 5.15 Compiler: gcc gcc (Ubuntu 11.4.0-1ubuntu1~22.04) 11.4.0 Fedora Linux 41 Kernel: 5.15 Compiler: clang gcc (GCC) 14.3.1 20250523 (Red Hat 14.3.1-1) Red Hat Enterprise Linux 9.5 Kernel: 5.15 Compiler: gcc gcc (GCC) 11.5.0 20240719 (Red Hat 11.5.0-2) openSUSE Leap 15.6 Kernel: 5.15 Compiler: gcc gcc (SUSE Linux) 7.5.0 Red Hat Enterprise Linux 8.10 Kernel: 5.15 Compiler: gcc gcc (GCC) 8.5.0 20210514 (Red Hat 8.5.0-22) Ubuntu 24.04 Kernel: 5.15 Compiler: gcc gcc (Ubuntu 13.3.0-6ubuntu2~24.04) 13.3.0 To view detailed results, visit: https://lab.dpdk.org/results/dashboard/patchsets/33720/ UNH-IOL DPDK Community Lab To manage your email subscriptions, visit: https://lab.dpdk.org/results/dashboard/preferences/subscriptions/