From mboxrd@z Thu Jan 1 00:00:00 1970 Return-Path: Received: from mails.dpdk.org (mails.dpdk.org [217.70.189.124]) by inbox.dpdk.org (Postfix) with ESMTP id 27D8046BE8 for ; Tue, 22 Jul 2025 16:51:42 +0200 (CEST) Received: from mails.dpdk.org (localhost [127.0.0.1]) by mails.dpdk.org (Postfix) with ESMTP id 03BD840269; Tue, 22 Jul 2025 16:51:42 +0200 (CEST) Received: from mail-oo1-f98.google.com (mail-oo1-f98.google.com [209.85.161.98]) by mails.dpdk.org (Postfix) with ESMTP id 4986140269 for ; Tue, 22 Jul 2025 16:51:40 +0200 (CEST) Received: by mail-oo1-f98.google.com with SMTP id 006d021491bc7-60402c94319so2767411eaf.1 for ; Tue, 22 Jul 2025 07:51:40 -0700 (PDT) DKIM-Signature: v=1; a=rsa-sha256; c=relaxed/relaxed; d=iol.unh.edu; s=unh-iol; t=1753195899; x=1753800699; darn=dpdk.org; h=references:in-reply-to:cc:to:from:subject:message-id:date:from:to :cc:subject:date:message-id:reply-to; bh=o3NE92svd2wj6sMDik33mvMz1H1eIorV/riQU4SRAv8=; b=jQwETOwuCMWfdU2fVccQVjVga91FUgq1/kzbMWWJCyphI4eKVEvZyQ1vTP9Cdl1CuY FPQrwgOC1k5yAKt1f5BhCzw9/4fhQTgzIR32nhXfMyT2Uv4OTrVuFczcDUYKWxTGNmrx ZsOIRcqvJqgxZ7QL0JclXnwsuAIlLcfe3MoVg= X-Google-DKIM-Signature: v=1; a=rsa-sha256; c=relaxed/relaxed; d=1e100.net; s=20230601; t=1753195899; x=1753800699; h=references:in-reply-to:cc:to:from:subject:message-id:date :x-gm-message-state:from:to:cc:subject:date:message-id:reply-to; bh=o3NE92svd2wj6sMDik33mvMz1H1eIorV/riQU4SRAv8=; b=tpah3C30hYjqmTXfFbjhHF4OjthufPyFYxiE/C5htcdSaGofcI96pkx8041ZsrqKw1 vkIhT6QTtGB3YV3Vuia/4/E81i8mVwVd/zkYHa11fVyW1XEaNRbsDt57akIdLKcGgLoK NaPtpQNWBk63Moax5JEv2BxaIfSk+FOyG1DeeQRFE44XlX8y5kioLGD0TosxXEbo1OxX i0spIgWkDz8bXrj+zigacDGgn8yFtJZcDQdtWyUMidWQv2R8veHu/oxVvLk1D/7ILI6q faoJ4jbDbPtv4r+OU5miCX3+YTxYvIEXB/KdW2js7SErcPb7CRXR9NzY1DB5iR+Y1fCl 5MXg== X-Gm-Message-State: AOJu0YxnXIzKInyGwlGtiLy8kjk9KRMPaSPfAZGeB9L5sI4591UPuYhT mdFrSVqOTNTDy+ZNtQjZ1wIaj/RTGkMJAsqIbi2Lf5qGv8XgxE+h/NXJd0A/QYOK5oE5nhDwuXk jSsVuO313pHXSfJS2Xps8V/xjvheAk109I+1/Ko2vK2SL0Ql4OsmBKxXNE5xF X-Gm-Gg: ASbGncvY7324FnK5LhzDB5aYwVhlrr+JXXM6F84l2yb+qDBGO81hW8oIOv1QNM2lOXd GNI7wIzAlVDacLgCBHr8iSL/r6jnXWqFUHG2dQr3vX/Ve/bq9XRMMbPekDoAB786JX2v1GAzlYO 9fjlAn1AMAlP2enY2OytEFgDIXiuptozBB5FYlXMH8YfoC7V8WQ2QBGBQJaYD1enWQcrKgWSvt9 GKzy1b3carpAuFitX3EgsVtRFT8kOPCCLllVycAkGb+APdQxYrO6TGZAqO7RPRKXR1Qqx3Mun8B Rq435CZYMTThfoCOT8IZi81Ic/rK94u6KeC6nsBNvCCuhYZ7GQ== X-Google-Smtp-Source: AGHT+IHKl2eu8uc9TGExQz0qMSqASw134BZdtr/8sH9GmiKp4627zzasMLsjggQYSptRHWD+ysxaNDYzVdwP X-Received: by 2002:a05:6870:899e:b0:2ff:a6d1:5ca4 with SMTP id 586e51a60fabf-2ffaf5a587dmr17158024fac.38.1753195899480; Tue, 22 Jul 2025 07:51:39 -0700 (PDT) Received: from postal.iol.unh.edu (postal.iol.unh.edu. [2606:4100:3880:1234::84]) by smtp-relay.gmail.com with ESMTPS id 586e51a60fabf-30105f10e1esm800774fac.17.2025.07.22.07.51.39 (version=TLS1_2 cipher=ECDHE-ECDSA-AES128-GCM-SHA256 bits=128/128); Tue, 22 Jul 2025 07:51:39 -0700 (PDT) X-Relaying-Domain: iol.unh.edu Date: Tue, 22 Jul 2025 07:51:39 -0700 (PDT) Message-ID: <687fa57b.050a0220.15ee6f.9456SMTPIN_ADDED_MISSING@mx.google.com> Received: from [172.21.0.2] (unknown [172.18.0.240]) by postal.iol.unh.edu (Postfix) with ESMTP id 04ABF605BEE4; Tue, 22 Jul 2025 10:51:39 -0400 (EDT) Subject: |SUCCESS| pw155404 [PATCH] lib/ethdev: fix segfault in secondary pro From: dpdklab@iol.unh.edu To: Test Report Cc: dpdk-test-reports@iol.unh.edu In-Reply-To: <20250722115439.1353573-1-14pwcse1224@uetpeshawar.edu.pk> References: <20250722115439.1353573-1-14pwcse1224@uetpeshawar.edu.pk> Content-Type: text/plain X-BeenThere: test-report@dpdk.org X-Mailman-Version: 2.1.29 Precedence: list List-Id: automatic DPDK test reports List-Unsubscribe: , List-Archive: List-Post: List-Help: List-Subscribe: , Errors-To: test-report-bounces@dpdk.org Test-Label: iol-compile-amd64-testing Test-Status: SUCCESS http://dpdk.org/patch/155404 _Testing PASS_ Submitter: Khadem Ullah <14pwcse1224@uetpeshawar.edu.pk> Date: Tuesday, July 22 2025 11:54:39 DPDK git baseline: Repo:dpdk Branch: master CommitID:b78afde1fed9e11ee5cdce333a1a69dd7a9cf13e 155404 --> testing pass Upstream job id: Generic-DPDK-Compile-Meson#410954 Test environment and result as below: +-------------------------------+--------------------+-------------------+------------------+-------------------------+-------------------+----------------------+ | Environment | dpdk_meson_compile | dpdk_compile_spdk | dpdk_compile_ovs | dpdk_llvm_clang_compile | dpdk_msvc_compile | dpdk_mingw64_compile | +===============================+====================+===================+==================+=========================+===================+======================+ | CentOS Stream 9 | PASS | PASS | SKIPPED | SKIPPED | SKIPPED | SKIPPED | +-------------------------------+--------------------+-------------------+------------------+-------------------------+-------------------+----------------------+ | Fedora Linux 40 | PASS | PASS | SKIPPED | SKIPPED | SKIPPED | SKIPPED | +-------------------------------+--------------------+-------------------+------------------+-------------------------+-------------------+----------------------+ | Debian GNU/Linux 12 | PASS | PASS | SKIPPED | SKIPPED | SKIPPED | SKIPPED | +-------------------------------+--------------------+-------------------+------------------+-------------------------+-------------------+----------------------+ | CentOS Stream 10 | PASS | SKIPPED | SKIPPED | SKIPPED | SKIPPED | SKIPPED | +-------------------------------+--------------------+-------------------+------------------+-------------------------+-------------------+----------------------+ | Fedora Linux 41 | PASS | PASS | PASS | SKIPPED | SKIPPED | SKIPPED | +-------------------------------+--------------------+-------------------+------------------+-------------------------+-------------------+----------------------+ | Red Hat Enterprise Linux 9.5 | PASS | SKIPPED | SKIPPED | SKIPPED | SKIPPED | SKIPPED | +-------------------------------+--------------------+-------------------+------------------+-------------------------+-------------------+----------------------+ | Red Hat Enterprise Linux 8.10 | PASS | SKIPPED | SKIPPED | SKIPPED | SKIPPED | SKIPPED | +-------------------------------+--------------------+-------------------+------------------+-------------------------+-------------------+----------------------+ | openSUSE Leap 15.6 | PASS | SKIPPED | SKIPPED | SKIPPED | SKIPPED | SKIPPED | +-------------------------------+--------------------+-------------------+------------------+-------------------------+-------------------+----------------------+ | Ubuntu 24.04 | PASS | PASS | PASS | SKIPPED | SKIPPED | SKIPPED | +-------------------------------+--------------------+-------------------+------------------+-------------------------+-------------------+----------------------+ | Ubuntu 20.04 | PASS | SKIPPED | SKIPPED | SKIPPED | SKIPPED | SKIPPED | +-------------------------------+--------------------+-------------------+------------------+-------------------------+-------------------+----------------------+ | Ubuntu 22.04 | PASS | PASS | SKIPPED | SKIPPED | SKIPPED | SKIPPED | +-------------------------------+--------------------+-------------------+------------------+-------------------------+-------------------+----------------------+ | FreeBSD 14.2 | PASS | SKIPPED | SKIPPED | SKIPPED | SKIPPED | SKIPPED | +-------------------------------+--------------------+-------------------+------------------+-------------------------+-------------------+----------------------+ | Alpine Linux 3.22.0 | PASS | SKIPPED | SKIPPED | SKIPPED | SKIPPED | SKIPPED | +-------------------------------+--------------------+-------------------+------------------+-------------------------+-------------------+----------------------+ | Windows Server 2022 | SKIPPED | SKIPPED | SKIPPED | PASS | PASS | PASS | +-------------------------------+--------------------+-------------------+------------------+-------------------------+-------------------+----------------------+ CentOS Stream 9 Kernel: 5.15 Compiler: gcc gcc (GCC) 11.5.0 20240719 (Red Hat 11.5.0-7) Fedora Linux 40 Kernel: 5.15 Compiler: clang gcc (GCC) 14.2.1 20240912 (Red Hat 14.2.1-3) Debian GNU/Linux 12 Kernel: 5.15 Compiler: gcc gcc (Debian 12.2.0-14+deb12u1) 12.2.0 CentOS Stream 10 Kernel: 5.15 Compiler: gcc gcc (GCC) 14.2.1 20250110 (Red Hat 14.2.1-8) Fedora Linux 41 Kernel: 5.15 Compiler: gcc gcc (GCC) 14.3.1 20250523 (Red Hat 14.3.1-1) Red Hat Enterprise Linux 9.5 Kernel: 5.15 Compiler: gcc gcc (GCC) 11.5.0 20240719 (Red Hat 11.5.0-2) Red Hat Enterprise Linux 8.10 Kernel: 5.15 Compiler: gcc gcc (GCC) 8.5.0 20210514 (Red Hat 8.5.0-22) openSUSE Leap 15.6 Kernel: 5.15 Compiler: gcc gcc (SUSE Linux) 7.5.0 Ubuntu 24.04 Kernel: 5.15 Compiler: gcc gcc (Ubuntu 13.3.0-6ubuntu2~24.04) 13.3.0 Ubuntu 20.04 Kernel: 5.15 Compiler: gcc gcc (Ubuntu 9.4.0-1ubuntu1~20.04.2) 9.4.0 Ubuntu 22.04 Kernel: 5.15 Compiler: gcc gcc (Ubuntu 11.4.0-1ubuntu1~22.04) 11.4.0 FreeBSD 14.2 Kernel: 14.2-RELEASE Compiler: clang 18.1.6 Alpine Linux 3.22.0 Kernel: 5.15 Compiler: gcc gcc (Alpine 14.2.0) 14.2.0 Windows Server 2022 Kernel: 10.0.20348.2031 Compiler: clang 15.0.7, gcc 14.1.0 (MinGW), and MSVC VS 19.39.33521 To view detailed results, visit: https://lab.dpdk.org/results/dashboard/patchsets/33720/ UNH-IOL DPDK Community Lab To manage your email subscriptions, visit: https://lab.dpdk.org/results/dashboard/preferences/subscriptions/