From mboxrd@z Thu Jan 1 00:00:00 1970 Return-Path: Received: from mails.dpdk.org (mails.dpdk.org [217.70.189.124]) by inbox.dpdk.org (Postfix) with ESMTP id 5D1E146BE8 for ; Tue, 22 Jul 2025 16:54:15 +0200 (CEST) Received: from mails.dpdk.org (localhost [127.0.0.1]) by mails.dpdk.org (Postfix) with ESMTP id 3FCCD40269; Tue, 22 Jul 2025 16:54:15 +0200 (CEST) Received: from mail-yb1-f226.google.com (mail-yb1-f226.google.com [209.85.219.226]) by mails.dpdk.org (Postfix) with ESMTP id 06C6840269 for ; Tue, 22 Jul 2025 16:54:14 +0200 (CEST) Received: by mail-yb1-f226.google.com with SMTP id 3f1490d57ef6-e8dbe824ebcso508724276.0 for ; Tue, 22 Jul 2025 07:54:13 -0700 (PDT) DKIM-Signature: v=1; a=rsa-sha256; c=relaxed/relaxed; d=iol.unh.edu; s=unh-iol; t=1753196053; x=1753800853; darn=dpdk.org; h=references:in-reply-to:cc:to:from:subject:message-id:date:from:to :cc:subject:date:message-id:reply-to; bh=yYVV2XkzZhlw+d+yckuWyojCKGCD7iBkPus5G8QvTiE=; b=COQ6CSITHKrbd1//MIUXYG6xkQLq/y0rm1thFTOdS6k16h2lYJ10yFZWvKzY2mdroo UIPEdA7BvP1p5vA2JIPqlx6MUHZvYiv40jfZNxFZGt1RtxaKSwkOyIATZK0fIquSQcbP Pho2i92DlPxy6X5stmcCHu/+fDnLG6w1bZ9kY= X-Google-DKIM-Signature: v=1; a=rsa-sha256; c=relaxed/relaxed; d=1e100.net; s=20230601; t=1753196053; x=1753800853; h=references:in-reply-to:cc:to:from:subject:message-id:date :x-gm-message-state:from:to:cc:subject:date:message-id:reply-to; bh=yYVV2XkzZhlw+d+yckuWyojCKGCD7iBkPus5G8QvTiE=; b=tzxlrrDeXRDpqlEpUzkBQ01wZY7Q2i9vbbNBsV6fRcQYaj4oCfqio5pW9CFPgi3EY2 7IDiOLLZ80A1sAZcNDfPdU8nu3MewJUMndlp/1vaLt1tZ8nkc+B08fA9dIqQRY0BfVvJ js1D1l71IEXdWHufJ9sSPSAdgOzb2o++koYLff7lIkH5shnRBTF9r3Dn+z80NZl/0NcS jBQbmoMC/TIun9nadrSSYmJ7LRy/bPZ5UtUB9gh1G8n/mgkhyiHS1SYzit2I6QDIPR+2 EMtqkl/mrdiqfDUFXSjO5HsKz82TOu7F57nErriinUXKm5dupWvaUdb9UiaCG24oiasu mfOg== X-Gm-Message-State: AOJu0YzbRwVM2SfoM2iOqNKRjKpAhz98ubZurEMMIPHguWwaw4cCWnfF eTT4pAQK2WLZe3H9uJTpwbZVJXwdsUzfDJH3/SRTR+L43L8RzPHgu7tk4K2qn8K/bCn1sAxLdNh Y3pnKS0tGrs3PHr5I91vzZ1P1S2MJ8ldu/vKMuABk4bK+/lz63HDbJKX6CXEx X-Gm-Gg: ASbGncvo/ocTBgL4QUvAS0CpR47F/EBNeWFIkw3mzmPUmpvvzCELGS2vspP+nugoPtp QrW9NnOEl0yCHJrwsvccmdz7+Csgu8l3xOuKKw5m0BX5lmoQbVX2nUA1w+NJJrbWXjyfLDy2pCu c14b9+KNE1QrGqNGw2+ocUyISJP0j3aHtLy7QvkGNXdYqIQFbcS0p1lZfCpaVLZTbfDAbqaKasW s9ufq57pevZuG7Kd0mxTlDJOS8K485X+DLH4JOD9+9LDERFrGyz7wDLvfKtE6twcszmxfY8S1Cr CbQmWx70xcmr8jneMVsR/ScJ2dNPmP+ORIpsggRUPI2noiw/ow== X-Google-Smtp-Source: AGHT+IHijBaYYbAoAMaNhRykf+pD+r4T+UaRB1PEn9qCfZssTvT4gZu4ht39wNLce7sd4VTvB3r88gxaE9IH X-Received: by 2002:a05:6902:70f:b0:e8b:c0c3:dc81 with SMTP id 3f1490d57ef6-e8db6e2351cmr4819373276.20.1753196053319; Tue, 22 Jul 2025 07:54:13 -0700 (PDT) Received: from postal.iol.unh.edu (postal.iol.unh.edu. [2606:4100:3880:1234::84]) by smtp-relay.gmail.com with ESMTPS id 3f1490d57ef6-e8d7ce49825sm588035276.27.2025.07.22.07.54.13 (version=TLS1_2 cipher=ECDHE-ECDSA-AES128-GCM-SHA256 bits=128/128); Tue, 22 Jul 2025 07:54:13 -0700 (PDT) X-Relaying-Domain: iol.unh.edu Date: Tue, 22 Jul 2025 07:54:13 -0700 (PDT) Message-ID: <687fa615.050a0220.28ccd8.e1aeSMTPIN_ADDED_MISSING@mx.google.com> Received: from [172.21.0.4] (unknown [172.18.0.240]) by postal.iol.unh.edu (Postfix) with ESMTP id D908B605BEE4; Tue, 22 Jul 2025 10:54:12 -0400 (EDT) Subject: |SUCCESS| pw155404 [PATCH] lib/ethdev: fix segfault in secondary pro From: dpdklab@iol.unh.edu To: Test Report Cc: dpdk-test-reports@iol.unh.edu In-Reply-To: <20250722115439.1353573-1-14pwcse1224@uetpeshawar.edu.pk> References: <20250722115439.1353573-1-14pwcse1224@uetpeshawar.edu.pk> Content-Type: text/plain X-BeenThere: test-report@dpdk.org X-Mailman-Version: 2.1.29 Precedence: list List-Id: automatic DPDK test reports List-Unsubscribe: , List-Archive: List-Post: List-Help: List-Subscribe: , Errors-To: test-report-bounces@dpdk.org Test-Label: iol-compile-amd64-testing Test-Status: SUCCESS http://dpdk.org/patch/155404 _Testing PASS_ Submitter: Khadem Ullah <14pwcse1224@uetpeshawar.edu.pk> Date: Tuesday, July 22 2025 11:54:39 DPDK git baseline: Repo:dpdk Branch: master CommitID:b78afde1fed9e11ee5cdce333a1a69dd7a9cf13e 155404 --> testing pass Upstream job id: Generic-DPDK-Compile-Meson#410960 Test environment and result as below: +-------------------------------+--------------------+-------------------+------------------+-------------------------+-------------------+----------------------+ | Environment | dpdk_meson_compile | dpdk_compile_spdk | dpdk_compile_ovs | dpdk_llvm_clang_compile | dpdk_msvc_compile | dpdk_mingw64_compile | +===============================+====================+===================+==================+=========================+===================+======================+ | CentOS Stream 9 | PASS | PASS | SKIPPED | SKIPPED | SKIPPED | SKIPPED | +-------------------------------+--------------------+-------------------+------------------+-------------------------+-------------------+----------------------+ | Fedora Linux 40 | PASS | PASS | SKIPPED | SKIPPED | SKIPPED | SKIPPED | +-------------------------------+--------------------+-------------------+------------------+-------------------------+-------------------+----------------------+ | Debian GNU/Linux 12 | PASS | PASS | SKIPPED | SKIPPED | SKIPPED | SKIPPED | +-------------------------------+--------------------+-------------------+------------------+-------------------------+-------------------+----------------------+ | CentOS Stream 10 | PASS | SKIPPED | SKIPPED | SKIPPED | SKIPPED | SKIPPED | +-------------------------------+--------------------+-------------------+------------------+-------------------------+-------------------+----------------------+ | Fedora Linux 41 | PASS | PASS | PASS | SKIPPED | SKIPPED | SKIPPED | +-------------------------------+--------------------+-------------------+------------------+-------------------------+-------------------+----------------------+ | Red Hat Enterprise Linux 9.5 | PASS | SKIPPED | SKIPPED | SKIPPED | SKIPPED | SKIPPED | +-------------------------------+--------------------+-------------------+------------------+-------------------------+-------------------+----------------------+ | Red Hat Enterprise Linux 8.10 | PASS | SKIPPED | SKIPPED | SKIPPED | SKIPPED | SKIPPED | +-------------------------------+--------------------+-------------------+------------------+-------------------------+-------------------+----------------------+ | openSUSE Leap 15.6 | PASS | SKIPPED | SKIPPED | SKIPPED | SKIPPED | SKIPPED | +-------------------------------+--------------------+-------------------+------------------+-------------------------+-------------------+----------------------+ | Ubuntu 24.04 | PASS | PASS | PASS | SKIPPED | SKIPPED | SKIPPED | +-------------------------------+--------------------+-------------------+------------------+-------------------------+-------------------+----------------------+ | Ubuntu 20.04 | PASS | SKIPPED | SKIPPED | SKIPPED | SKIPPED | SKIPPED | +-------------------------------+--------------------+-------------------+------------------+-------------------------+-------------------+----------------------+ | Ubuntu 22.04 | PASS | PASS | SKIPPED | SKIPPED | SKIPPED | SKIPPED | +-------------------------------+--------------------+-------------------+------------------+-------------------------+-------------------+----------------------+ | FreeBSD 14.2 | PASS | SKIPPED | SKIPPED | SKIPPED | SKIPPED | SKIPPED | +-------------------------------+--------------------+-------------------+------------------+-------------------------+-------------------+----------------------+ | Alpine Linux 3.22.0 | PASS | SKIPPED | SKIPPED | SKIPPED | SKIPPED | SKIPPED | +-------------------------------+--------------------+-------------------+------------------+-------------------------+-------------------+----------------------+ | Windows Server 2022 | SKIPPED | SKIPPED | SKIPPED | PASS | PASS | PASS | +-------------------------------+--------------------+-------------------+------------------+-------------------------+-------------------+----------------------+ CentOS Stream 9 Kernel: 5.15 Compiler: gcc gcc (GCC) 11.5.0 20240719 (Red Hat 11.5.0-7) Fedora Linux 40 Kernel: 5.15 Compiler: clang gcc (GCC) 14.2.1 20240912 (Red Hat 14.2.1-3) Debian GNU/Linux 12 Kernel: 5.15 Compiler: gcc gcc (Debian 12.2.0-14+deb12u1) 12.2.0 CentOS Stream 10 Kernel: 5.15 Compiler: gcc gcc (GCC) 14.2.1 20250110 (Red Hat 14.2.1-8) Fedora Linux 41 Kernel: 5.15 Compiler: gcc gcc (GCC) 14.3.1 20250523 (Red Hat 14.3.1-1) Red Hat Enterprise Linux 9.5 Kernel: 5.15 Compiler: gcc gcc (GCC) 11.5.0 20240719 (Red Hat 11.5.0-2) Red Hat Enterprise Linux 8.10 Kernel: 5.15 Compiler: gcc gcc (GCC) 8.5.0 20210514 (Red Hat 8.5.0-22) openSUSE Leap 15.6 Kernel: 5.15 Compiler: gcc gcc (SUSE Linux) 7.5.0 Ubuntu 24.04 Kernel: 5.15 Compiler: gcc gcc (Ubuntu 13.3.0-6ubuntu2~24.04) 13.3.0 Ubuntu 20.04 Kernel: 5.15 Compiler: gcc gcc (Ubuntu 9.4.0-1ubuntu1~20.04.2) 9.4.0 Ubuntu 22.04 Kernel: 5.15 Compiler: gcc gcc (Ubuntu 11.4.0-1ubuntu1~22.04) 11.4.0 FreeBSD 14.2 Kernel: 14.2-RELEASE Compiler: clang 18.1.6 Alpine Linux 3.22.0 Kernel: 5.15 Compiler: gcc gcc (Alpine 14.2.0) 14.2.0 Windows Server 2022 Kernel: 10.0.20348.2031 Compiler: clang 15.0.7, gcc 14.1.0 (MinGW), and MSVC VS 19.39.33521 To view detailed results, visit: https://lab.dpdk.org/results/dashboard/patchsets/33720/ UNH-IOL DPDK Community Lab To manage your email subscriptions, visit: https://lab.dpdk.org/results/dashboard/preferences/subscriptions/