From mboxrd@z Thu Jan 1 00:00:00 1970 Return-Path: Received: from mails.dpdk.org (mails.dpdk.org [217.70.189.124]) by inbox.dpdk.org (Postfix) with ESMTP id 25A9A46BE8 for ; Tue, 22 Jul 2025 17:35:44 +0200 (CEST) Received: from mails.dpdk.org (localhost [127.0.0.1]) by mails.dpdk.org (Postfix) with ESMTP id 103484003C; Tue, 22 Jul 2025 17:35:44 +0200 (CEST) Received: from mail-pf1-f227.google.com (mail-pf1-f227.google.com [209.85.210.227]) by mails.dpdk.org (Postfix) with ESMTP id 9251A4003C for ; Tue, 22 Jul 2025 17:35:42 +0200 (CEST) Received: by mail-pf1-f227.google.com with SMTP id d2e1a72fcca58-7425bd5a83aso4903739b3a.0 for ; Tue, 22 Jul 2025 08:35:42 -0700 (PDT) DKIM-Signature: v=1; a=rsa-sha256; c=relaxed/relaxed; d=iol.unh.edu; s=unh-iol; t=1753198542; x=1753803342; darn=dpdk.org; h=references:in-reply-to:cc:to:from:subject:message-id:date:from:to :cc:subject:date:message-id:reply-to; bh=j3JXizgqaKvdYl4Qst+GidW6ao0qBIufF3yud2CAQnM=; b=igs2Czq8LUJy+iOqjdvv5IyqnvN+5WBlKLPK51LO3Z/WZVIpROppfLVOQMxUCf9WSj ey8Qg8AcT9yV7mdquwCfD7QHoUXyyo0g2MKf7fB53rlfVJAEawB9Kn3Z+Aec5tREl4I5 qRiG5hIb2ivo/54/ALWCBIIYFt0DtRonphSto= X-Google-DKIM-Signature: v=1; a=rsa-sha256; c=relaxed/relaxed; d=1e100.net; s=20230601; t=1753198542; x=1753803342; h=references:in-reply-to:cc:to:from:subject:message-id:date :x-gm-message-state:from:to:cc:subject:date:message-id:reply-to; bh=j3JXizgqaKvdYl4Qst+GidW6ao0qBIufF3yud2CAQnM=; b=wCswf7mUi+MBBjb9beTN4VvAAqAgi46z9sShdRxgyI+AqLZZmBYYC5FrL3I4Wt8nEq oH9XqYUZFCU7UsT6cWK6Wx8+VT5fXlDL1g8fvWc5KYb+biCt4AiUtN4HW/efo/DvC6Wy MK1XOe3oEs5hgbLRSniAgNXx843+jN0HJndyEZTtfLjhzi2hWBzpN132xRVsB9lc2awN VgwUOal7tQgh/1DpUgPLdo1t6tW2U5AkprwXMpoT7J5NWRKAsiYuLtEO/XJ6w0fMwpGE tWwWZJcW/mjH23dFmyckghyB59lBIqpE5kw3pJ0ChymLYcf07DVs83JipCLwv62Wod9h 5Itw== X-Gm-Message-State: AOJu0Yzqb30OmZe4BXjz+vMzKVnEMngZ+4acNsta0mmSVdPbl6DnVLXU SSbAhhZ2qxWJRrlITrVUXX1ONvsRwRl4t3MqB4PkmstKf2ca1G5gwHekxRCfWJsWCBRZ1pPAvIs 7B3gYdBvkdfNmlsb2GkEIuLbwcLok0cAbARWDKnDo4hMNu8EvVHTRq6GkMITd X-Gm-Gg: ASbGncszBlx/TM31UvVLWU6+tJrbXNohIJW/0ZRj7iBnbHVKZ67/GWcax4YmBLyVgWe YuZy6iJvT86IUd1N5pxjx5taFJOFRfddauVLz+oLX1rlhmcMwcHaAnrRhaQoDQ1t+rQmAalsFMb J0MkRHB9O2NgQjZ0HDdjIh7aEBBx49GFRIa0y6n76EDGtXYCuay4mZvqtaqi9qsaZ1XIaqybxqP X2oURAHJY5knjQNeAHd3BEUvS975o4SjgG7lKlvc/KBmslqxRoHEh8dc1w+QnbFzgA0Jzd9lGW3 pgWUgDFDQjv4J9TufLiokXwRxvcfpYWRDrCIaf3roLUKKt+y6w== X-Google-Smtp-Source: AGHT+IEkxoFGt63SthI2uNGA3pTPgy+VVoy2CwBH74BWR+XYto/k6HKw9MCHP3oWceLTvACc3+8LxFBIRvzn X-Received: by 2002:a05:6a20:3d19:b0:230:d674:e913 with SMTP id adf61e73a8af0-2381464dd6dmr42823858637.34.1753198541682; Tue, 22 Jul 2025 08:35:41 -0700 (PDT) Received: from postal.iol.unh.edu (postal.iol.unh.edu. [2606:4100:3880:1234::84]) by smtp-relay.gmail.com with ESMTPS id d2e1a72fcca58-759c88db0easm608130b3a.8.2025.07.22.08.35.41 (version=TLS1_2 cipher=ECDHE-ECDSA-AES128-GCM-SHA256 bits=128/128); Tue, 22 Jul 2025 08:35:41 -0700 (PDT) X-Relaying-Domain: iol.unh.edu Date: Tue, 22 Jul 2025 08:35:41 -0700 (PDT) Message-ID: <687fafcd.050a0220.242eba.f286SMTPIN_ADDED_MISSING@mx.google.com> Received: from [172.21.0.3] (unknown [172.18.0.240]) by postal.iol.unh.edu (Postfix) with ESMTP id EAA72604D420; Tue, 22 Jul 2025 11:35:40 -0400 (EDT) Subject: |SUCCESS| pw155413-155414 [PATCH] [2/2] net: remove v25 ABI compatib From: dpdklab@iol.unh.edu To: Test Report Cc: dpdk-test-reports@iol.unh.edu In-Reply-To: <20250722132441.3700305-2-david.marchand@redhat.com> References: <20250722132441.3700305-2-david.marchand@redhat.com> Content-Type: text/plain X-BeenThere: test-report@dpdk.org X-Mailman-Version: 2.1.29 Precedence: list List-Id: automatic DPDK test reports List-Unsubscribe: , List-Archive: List-Post: List-Help: List-Subscribe: , Errors-To: test-report-bounces@dpdk.org Test-Label: iol-unit-amd64-testing Test-Status: SUCCESS http://dpdk.org/patch/155414 _Testing PASS_ Submitter: David Marchand Date: Tuesday, July 22 2025 13:24:41 DPDK git baseline: Repo:dpdk Branch: master CommitID:b222395561638f89562e4ef42e1eabf2d6db43dd 155413-155414 --> testing pass Upstream job id: Generic-VM-Unit-Test-DPDK#30097 Test environment and result as below: +-------------------------------+----------------+ | Environment | dpdk_unit_test | +===============================+================+ | CentOS Stream 9 | PASS | +-------------------------------+----------------+ | Fedora Linux 41 | PASS | +-------------------------------+----------------+ | CentOS Stream 10 | PASS | +-------------------------------+----------------+ | Fedora Linux 40 | PASS | +-------------------------------+----------------+ | Debian GNU/Linux 12 | PASS | +-------------------------------+----------------+ | Red Hat Enterprise Linux 8.10 | PASS | +-------------------------------+----------------+ | Ubuntu 20.04 | PASS | +-------------------------------+----------------+ | Red Hat Enterprise Linux 9.5 | PASS | +-------------------------------+----------------+ | Ubuntu 22.04 | PASS | +-------------------------------+----------------+ | Ubuntu 24.04 | PASS | +-------------------------------+----------------+ | Windows Server 2022 | PASS | +-------------------------------+----------------+ CentOS Stream 9 Kernel: 5.15 Compiler: gcc gcc (GCC) 11.5.0 20240719 (Red Hat 11.5.0-7) Fedora Linux 41 Kernel: 5.15 Compiler: gcc gcc (GCC) 14.3.1 20250523 (Red Hat 14.3.1-1) CentOS Stream 10 Kernel: 5.15 Compiler: gcc gcc (GCC) 14.2.1 20250110 (Red Hat 14.2.1-8) Fedora Linux 40 Kernel: 5.15 Compiler: gcc gcc (GCC) 14.2.1 20240912 (Red Hat 14.2.1-3) Debian GNU/Linux 12 Kernel: 5.15 Compiler: gcc gcc (Debian 12.2.0-14+deb12u1) 12.2.0 Red Hat Enterprise Linux 8.10 Kernel: 5.15 Compiler: gcc gcc (GCC) 8.5.0 20210514 (Red Hat 8.5.0-22) Ubuntu 20.04 Kernel: 5.15 Compiler: gcc gcc (Ubuntu 9.4.0-1ubuntu1~20.04.2) 9.4.0 Red Hat Enterprise Linux 9.5 Kernel: 5.15 Compiler: gcc gcc (GCC) 11.5.0 20240719 (Red Hat 11.5.0-2) Ubuntu 22.04 Kernel: 5.15 Compiler: gcc gcc (Ubuntu 11.4.0-1ubuntu1~22.04) 11.4.0 Ubuntu 24.04 Kernel: 5.15 Compiler: gcc gcc (Ubuntu 13.3.0-6ubuntu2~24.04) 13.3.0 Windows Server 2022 Kernel: 10.0.20348.2031 Compiler: clang 15.0.7, gcc 14.1.0 (MinGW), and MSVC VS 19.39.33521 To view detailed results, visit: https://lab.dpdk.org/results/dashboard/patchsets/33722/ UNH-IOL DPDK Community Lab To manage your email subscriptions, visit: https://lab.dpdk.org/results/dashboard/preferences/subscriptions/