From mboxrd@z Thu Jan 1 00:00:00 1970 Return-Path: Received: from mails.dpdk.org (mails.dpdk.org [217.70.189.124]) by inbox.dpdk.org (Postfix) with ESMTP id C27AF46BE9 for ; Tue, 22 Jul 2025 18:16:59 +0200 (CEST) Received: from mails.dpdk.org (localhost [127.0.0.1]) by mails.dpdk.org (Postfix) with ESMTP id BAC454003C; Tue, 22 Jul 2025 18:16:59 +0200 (CEST) Received: from mail-pl1-f227.google.com (mail-pl1-f227.google.com [209.85.214.227]) by mails.dpdk.org (Postfix) with ESMTP id 2B7EC4003C for ; Tue, 22 Jul 2025 18:16:58 +0200 (CEST) Received: by mail-pl1-f227.google.com with SMTP id d9443c01a7336-23636167b30so53214295ad.1 for ; Tue, 22 Jul 2025 09:16:58 -0700 (PDT) DKIM-Signature: v=1; a=rsa-sha256; c=relaxed/relaxed; d=iol.unh.edu; s=unh-iol; t=1753201017; x=1753805817; darn=dpdk.org; h=references:in-reply-to:cc:to:from:subject:message-id:date:from:to :cc:subject:date:message-id:reply-to; bh=ZXyEtlxq4bv/GTBXQmhGGlPweLLFPZHtnG+1s2Vul00=; b=RlWDcAu7/q9HKUbRtiGsekBhmT867vCQqlblS3QrKAgLl0utC1WEQuj+GZ3mm9w/K3 kV7II8fhLCMM8m8lxajZ9ukWEnmTH3bOhptCQF+Gv1OzoAGC62EYT08Yd0TGkFxDSMjH HvmIYKryUjJJw/3sJ1WUlAqhJuYEB5mWj8amk= X-Google-DKIM-Signature: v=1; a=rsa-sha256; c=relaxed/relaxed; d=1e100.net; s=20230601; t=1753201017; x=1753805817; h=references:in-reply-to:cc:to:from:subject:message-id:date :x-gm-message-state:from:to:cc:subject:date:message-id:reply-to; bh=ZXyEtlxq4bv/GTBXQmhGGlPweLLFPZHtnG+1s2Vul00=; b=Yscv4y56S9PMMdqVXhJ2BGt4itvIcE1armuk8h+ME8CmHNBCF3pl0JT4DlEX1V/xav S2hgP8zJ7LYiz7re8sEbLSTBBTxy/fPnhE0aLipANJ1lTFoiI3IcFHbCf0olC7QLD15X lKF9p0rgyZfOZ2qINZpH2YgPCdLGyD4TkzqyfTHRnT6MH47iZ59swHMja51IAiWpvZXu GuvK2EPh8/Dc6Hgmet51w6EeGcZpoSuP8AruqfJyhPTRDIEWH1l337LTzsp5jzPjqOsr L65ZRFmlp1ASSbgsADl11QAiq/sv8KkKA5lgMmllQyHkGDQVMYY892Qyk9ZVRawVRnjZ 4LkA== X-Gm-Message-State: AOJu0YypFjvJsnEjSl2+GnCCIxhA6kBdfxp9urd9L6RjIRQttwPDw2wi vNBrMNscZEgm84denEjTcc1/Gw8bY3Er3WyoEUO8vIsqtA3hmEGkhnF2HX+eAbZRvvoZ4zFz59N rFI6/HR91UAEfXxw3gkIOj0pvDFJt+IEbsghIkfMZavOQFml9z75Y+p9p3ADi X-Gm-Gg: ASbGncuaNvRJTnlnQN71EvteqEnRBvgw3rTqktEfAWRTamldEvPwQ88e1k9Kmspsn21 Zvh0L8rNN4pSSZgJXuKjTWf9XEYnneTCs84FJnr3te/ovkFGix7iXleUrlLiVuJ9w+Y3cfGaBlk TkCThdkVbzQ9k2NIC0QAbZ/Er5eEMVGLYgWplN160c6gYUJ6I4ydhIu7MitoSr19ktdCX6jAbVy 0DKmHl4+UzsPg4fMv/AdehzoNIIbVJS+VzcaQSgRnR3I8Ar04WMrI/up0XOh+URdNUY8vuCNRLW r/0IpkjzUgVhIlsRNAMquD3B7072GExKECY2jUkrqilyr9XYAw== X-Google-Smtp-Source: AGHT+IHwK+GMGE0BCBYeHsiay7By22OLJUgkcujDBfbgDMHoZ3XGrnkwGRmCr9M2PNrjun5BjiTYRvH0xICV X-Received: by 2002:a17:903:1b25:b0:234:a139:120d with SMTP id d9443c01a7336-23e25685241mr328165135ad.7.1753201017346; Tue, 22 Jul 2025 09:16:57 -0700 (PDT) Received: from postal.iol.unh.edu (postal.iol.unh.edu. [2606:4100:3880:1234::84]) by smtp-relay.gmail.com with ESMTPS id d9443c01a7336-23e3b6d7227sm5893785ad.79.2025.07.22.09.16.57 (version=TLS1_2 cipher=ECDHE-ECDSA-AES128-GCM-SHA256 bits=128/128); Tue, 22 Jul 2025 09:16:57 -0700 (PDT) X-Relaying-Domain: iol.unh.edu Date: Tue, 22 Jul 2025 09:16:57 -0700 (PDT) Message-ID: <687fb979.170a0220.216306.dd74SMTPIN_ADDED_MISSING@mx.google.com> Received: from [172.21.0.3] (unknown [172.18.0.240]) by postal.iol.unh.edu (Postfix) with ESMTP id 919C5604D420; Tue, 22 Jul 2025 12:16:56 -0400 (EDT) Subject: |SUCCESS| pw155403 [PATCH] [v3] mbuf: de-inline sanity checking a re From: dpdklab@iol.unh.edu To: Test Report Cc: dpdk-test-reports@iol.unh.edu In-Reply-To: <20250722093431.555214-1-mb@smartsharesystems.com> References: <20250722093431.555214-1-mb@smartsharesystems.com> Content-Type: text/plain X-BeenThere: test-report@dpdk.org X-Mailman-Version: 2.1.29 Precedence: list List-Id: automatic DPDK test reports List-Unsubscribe: , List-Archive: List-Post: List-Help: List-Subscribe: , Errors-To: test-report-bounces@dpdk.org Test-Label: iol-unit-arm64-testing Test-Status: SUCCESS http://dpdk.org/patch/155403 _Testing PASS_ Submitter: Morten Brorup Date: Tuesday, July 22 2025 09:34:31 DPDK git baseline: Repo:dpdk Branch: master CommitID:b222395561638f89562e4ef42e1eabf2d6db43dd 155403 --> testing pass Upstream job id: Generic-Unit-Test-DPDK#357229 Test environment and result as below: +------------------------------+----------------+---------------------------+--------------+------------------------------+ | Environment | dpdk_unit_test | cryptodev_sw_zuc_autotest | lpm_autotest | cryptodev_sw_snow3g_autotest | +==============================+================+===========================+==============+==============================+ | Debian GNU/Linux 12 | PASS | SKIPPED | SKIPPED | SKIPPED | +------------------------------+----------------+---------------------------+--------------+------------------------------+ | CentOS Stream 10 | PASS | SKIPPED | SKIPPED | SKIPPED | +------------------------------+----------------+---------------------------+--------------+------------------------------+ | CentOS Stream 9 | PASS | SKIPPED | SKIPPED | SKIPPED | +------------------------------+----------------+---------------------------+--------------+------------------------------+ | Fedora Linux 40 | PASS | SKIPPED | SKIPPED | SKIPPED | +------------------------------+----------------+---------------------------+--------------+------------------------------+ | Fedora Linux 41 | PASS | SKIPPED | SKIPPED | SKIPPED | +------------------------------+----------------+---------------------------+--------------+------------------------------+ | Red Hat Enterprise Linux 9.5 | PASS | SKIPPED | SKIPPED | SKIPPED | +------------------------------+----------------+---------------------------+--------------+------------------------------+ | Ubuntu 20.04 | PASS | SKIPPED | PASS | SKIPPED | +------------------------------+----------------+---------------------------+--------------+------------------------------+ | Ubuntu 22.04 | PASS | SKIPPED | SKIPPED | SKIPPED | +------------------------------+----------------+---------------------------+--------------+------------------------------+ | Ubuntu 24.04 | PASS | SKIPPED | SKIPPED | SKIPPED | +------------------------------+----------------+---------------------------+--------------+------------------------------+ | Debian 12 (arm) | SKIPPED | PASS | SKIPPED | PASS | +------------------------------+----------------+---------------------------+--------------+------------------------------+ Debian GNU/Linux 12 Kernel: 5.4 Compiler: gcc gcc (Debian 12.2.0-14+deb12u1) 12.2.0 CentOS Stream 10 Kernel: 5.4 Compiler: gcc gcc (GCC) 14.2.1 20250110 (Red Hat 14.2.1-8) CentOS Stream 9 Kernel: 5.4 Compiler: gcc gcc (GCC) 11.5.0 20240719 (Red Hat 11.5.0-7) Fedora Linux 40 Kernel: 5.4 Compiler: clang gcc (GCC) 14.2.1 20240912 (Red Hat 14.2.1-3) Fedora Linux 41 Kernel: 5.4 Compiler: gcc gcc (GCC) 14.3.1 20250523 (Red Hat 14.3.1-1) Red Hat Enterprise Linux 9.5 Kernel: 5.4 Compiler: gcc gcc (GCC) 11.5.0 20240719 (Red Hat 11.5.0-2) Ubuntu 20.04 Kernel: 5.4 Compiler: gcc gcc (Ubuntu 9.4.0-1ubuntu1~20.04.2) 9.4.0 Ubuntu 22.04 Kernel: 5.4 Compiler: gcc gcc (Ubuntu 11.4.0-1ubuntu1~22.04) 11.4.0 Ubuntu 24.04 Kernel: 5.4 Compiler: gcc gcc (Ubuntu 13.3.0-6ubuntu2~24.04) 13.3.0 Debian 12 (arm) Kernel: Depends on container host Compiler: gcc (Debian 12.2.0-14) 12.2.0 To view detailed results, visit: https://lab.dpdk.org/results/dashboard/patchsets/33719/ UNH-IOL DPDK Community Lab To manage your email subscriptions, visit: https://lab.dpdk.org/results/dashboard/preferences/subscriptions/