From mboxrd@z Thu Jan 1 00:00:00 1970 Return-Path: Received: from mails.dpdk.org (mails.dpdk.org [217.70.189.124]) by inbox.dpdk.org (Postfix) with ESMTP id 7F9E646BE9 for ; Tue, 22 Jul 2025 18:34:05 +0200 (CEST) Received: from mails.dpdk.org (localhost [127.0.0.1]) by mails.dpdk.org (Postfix) with ESMTP id 620E54003C; Tue, 22 Jul 2025 18:34:05 +0200 (CEST) Received: from mail-il1-f227.google.com (mail-il1-f227.google.com [209.85.166.227]) by mails.dpdk.org (Postfix) with ESMTP id A9EA24003C for ; Tue, 22 Jul 2025 18:34:03 +0200 (CEST) Received: by mail-il1-f227.google.com with SMTP id e9e14a558f8ab-3df2d8cb8d2so21509565ab.2 for ; Tue, 22 Jul 2025 09:34:03 -0700 (PDT) DKIM-Signature: v=1; a=rsa-sha256; c=relaxed/relaxed; d=iol.unh.edu; s=unh-iol; t=1753202043; x=1753806843; darn=dpdk.org; h=references:in-reply-to:cc:to:from:subject:message-id:date:from:to :cc:subject:date:message-id:reply-to; bh=+pLgxxDSoZyundvPYxDWJKJIseIiv+PUJoJCrXdbxAw=; b=g4lcTgrOcht1r+rKfX8H3C7nARX6rlYsSPrYn4zQewc3mmF3iQ/UaD4graPBdpqRmh NHeK74Alhm5l1AJ/qKmvHalX6q+O2R/jPDW/3K3yF3FoM+3t7gWgQQCcsL1GBjBwe4xE BD41V4r4mAQ/o/CqLJRYfIt5TQi0Eaz7RePVg= X-Google-DKIM-Signature: v=1; a=rsa-sha256; c=relaxed/relaxed; d=1e100.net; s=20230601; t=1753202043; x=1753806843; h=references:in-reply-to:cc:to:from:subject:message-id:date :x-gm-message-state:from:to:cc:subject:date:message-id:reply-to; bh=+pLgxxDSoZyundvPYxDWJKJIseIiv+PUJoJCrXdbxAw=; b=RanTauEhUWcmzQoLhkgASggNcLqzCrMLvHjWlPL5Dx86kywS8ydnB+WeXKkkhijKFv kWsxUTnlU/KYE8TdPvlHh2C6r4CKlkvZU2AM9O7YLnvwuSvME7czOpoOLLEtwC0Y0C0v WcnmUCEDSKmQbpkPvGPp0RM+3H0YcQv4q1yoMhKES+4a2Nnoxa4CPBw6gyIGpXFO74gi +qR/FH4wgRK31cdRzVaAbqXshw0I80hzMF2vziM5qZuiZdmQHtOx4KjxCis13/B6pZz4 i90SrwHWdCSVBefqLdTv5eDVYaCbl0HA7YfkQBuX3vas9t/4nnX384TVVasxkXD6PGUj HX+g== X-Gm-Message-State: AOJu0YwBK/3tOeDYfXdZogKDLIDybLP0o81hhc+G0FeXkP8Co12Hl14K Gpg3ZwyAMO0zfDRkcwTwZSpx7eN+jH5pb1Y8Ro8zfVi0POsxStbWqLfw9nPkSgvUJPs9C5YFMWD HSTO77XuF9ZolX5WTVt88lCysZWXq84ajnsuW65UZjLpz3f8IV3dtNv2GVU5R X-Gm-Gg: ASbGnctMKohArVGg50xot7y+MOC5OkGJ5RMM1YwpMBqk+WJg+Nbq35CUunblOkYmPyv JZfF+MDBkLqxmxmBg9X6Ex//taDDgxuoAPzVqwQdA/GV5AzIBuEZT4jnjuuENOc2IjwfjzVHVni lsW0iJvY8uosBVTvXaJ6ifPXWvf2w+mhkMidBc21cUpEURAnj1qc9xAzpiDQbHEk+OIzg0mnnTE MBFq1LmtD7r4O9VkTqfWPa/n/iUFysjAcJWnPma720K82C9BGG/m5VEdaCHHeKZ021kNVePe8SC KghOTMKwdEsAD+apRij3Rk0xmJV3yH8fWNrKo2yP9HRnwSwYbQ== X-Google-Smtp-Source: AGHT+IEW8ggvMEzka3v14P977n6/t1wia4e5FuBuWZ+ppMBBeCiD35RcUTnkLG/5H9naYanCNBuFanPoxwea X-Received: by 2002:a05:6e02:348e:b0:3e2:9a57:2ccf with SMTP id e9e14a558f8ab-3e29a572ff0mr247139935ab.18.1753202041251; Tue, 22 Jul 2025 09:34:01 -0700 (PDT) Received: from postal.iol.unh.edu (postal.iol.unh.edu. [2606:4100:3880:1234::84]) by smtp-relay.gmail.com with ESMTPS id e9e14a558f8ab-3e298354454sm6508295ab.36.2025.07.22.09.34.01 (version=TLS1_2 cipher=ECDHE-ECDSA-AES128-GCM-SHA256 bits=128/128); Tue, 22 Jul 2025 09:34:01 -0700 (PDT) X-Relaying-Domain: iol.unh.edu Date: Tue, 22 Jul 2025 09:34:01 -0700 (PDT) Message-ID: <687fbd79.050a0220.335395.13c3SMTPIN_ADDED_MISSING@mx.google.com> Received: from [172.21.0.2] (unknown [172.18.0.240]) by postal.iol.unh.edu (Postfix) with ESMTP id BD7A4604D420; Tue, 22 Jul 2025 12:34:00 -0400 (EDT) Subject: |SUCCESS| pw155404 [PATCH] lib/ethdev: fix segfault in secondary pro From: dpdklab@iol.unh.edu To: Test Report Cc: dpdk-test-reports@iol.unh.edu In-Reply-To: <20250722115439.1353573-1-14pwcse1224@uetpeshawar.edu.pk> References: <20250722115439.1353573-1-14pwcse1224@uetpeshawar.edu.pk> Content-Type: text/plain X-BeenThere: test-report@dpdk.org X-Mailman-Version: 2.1.29 Precedence: list List-Id: automatic DPDK test reports List-Unsubscribe: , List-Archive: List-Post: List-Help: List-Subscribe: , Errors-To: test-report-bounces@dpdk.org Test-Label: iol-unit-arm64-testing Test-Status: SUCCESS http://dpdk.org/patch/155404 _Testing PASS_ Submitter: Khadem Ullah <14pwcse1224@uetpeshawar.edu.pk> Date: Tuesday, July 22 2025 11:54:39 DPDK git baseline: Repo:dpdk Branch: master CommitID:b78afde1fed9e11ee5cdce333a1a69dd7a9cf13e 155404 --> testing pass Upstream job id: Generic-Unit-Test-DPDK#357243 Test environment and result as below: +------------------------------+----------------+--------------+------------------------------+---------------------------+ | Environment | dpdk_unit_test | lpm_autotest | cryptodev_sw_snow3g_autotest | cryptodev_sw_zuc_autotest | +==============================+================+==============+==============================+===========================+ | CentOS Stream 9 | PASS | SKIPPED | SKIPPED | SKIPPED | +------------------------------+----------------+--------------+------------------------------+---------------------------+ | Fedora Linux 40 | PASS | SKIPPED | SKIPPED | SKIPPED | +------------------------------+----------------+--------------+------------------------------+---------------------------+ | Debian GNU/Linux 12 | PASS | SKIPPED | SKIPPED | SKIPPED | +------------------------------+----------------+--------------+------------------------------+---------------------------+ | CentOS Stream 10 | PASS | SKIPPED | SKIPPED | SKIPPED | +------------------------------+----------------+--------------+------------------------------+---------------------------+ | Red Hat Enterprise Linux 9.5 | PASS | SKIPPED | SKIPPED | SKIPPED | +------------------------------+----------------+--------------+------------------------------+---------------------------+ | Fedora Linux 41 | PASS | SKIPPED | SKIPPED | SKIPPED | +------------------------------+----------------+--------------+------------------------------+---------------------------+ | Ubuntu 20.04 | PASS | PASS | SKIPPED | SKIPPED | +------------------------------+----------------+--------------+------------------------------+---------------------------+ | Ubuntu 22.04 | PASS | SKIPPED | SKIPPED | SKIPPED | +------------------------------+----------------+--------------+------------------------------+---------------------------+ | Ubuntu 24.04 | PASS | SKIPPED | SKIPPED | SKIPPED | +------------------------------+----------------+--------------+------------------------------+---------------------------+ | Debian 12 (arm) | SKIPPED | SKIPPED | PASS | PASS | +------------------------------+----------------+--------------+------------------------------+---------------------------+ CentOS Stream 9 Kernel: 5.4 Compiler: gcc gcc (GCC) 11.5.0 20240719 (Red Hat 11.5.0-7) Fedora Linux 40 Kernel: 5.4 Compiler: gcc gcc (GCC) 14.2.1 20240912 (Red Hat 14.2.1-3) Debian GNU/Linux 12 Kernel: 5.4 Compiler: gcc gcc (Debian 12.2.0-14+deb12u1) 12.2.0 CentOS Stream 10 Kernel: 5.4 Compiler: gcc gcc (GCC) 14.2.1 20250110 (Red Hat 14.2.1-8) Red Hat Enterprise Linux 9.5 Kernel: 5.4 Compiler: gcc gcc (GCC) 11.5.0 20240719 (Red Hat 11.5.0-2) Fedora Linux 41 Kernel: 5.4 Compiler: clang gcc (GCC) 14.3.1 20250523 (Red Hat 14.3.1-1) Ubuntu 20.04 Kernel: 5.4 Compiler: gcc gcc (Ubuntu 9.4.0-1ubuntu1~20.04.2) 9.4.0 Ubuntu 22.04 Kernel: 5.4 Compiler: gcc gcc (Ubuntu 11.4.0-1ubuntu1~22.04) 11.4.0 Ubuntu 24.04 Kernel: 5.4 Compiler: gcc gcc (Ubuntu 13.3.0-6ubuntu2~24.04) 13.3.0 Debian 12 (arm) Kernel: Depends on container host Compiler: gcc (Debian 12.2.0-14) 12.2.0 To view detailed results, visit: https://lab.dpdk.org/results/dashboard/patchsets/33720/ UNH-IOL DPDK Community Lab To manage your email subscriptions, visit: https://lab.dpdk.org/results/dashboard/preferences/subscriptions/