From mboxrd@z Thu Jan 1 00:00:00 1970 Return-Path: Received: from mails.dpdk.org (mails.dpdk.org [217.70.189.124]) by inbox.dpdk.org (Postfix) with ESMTP id DDF4B46BE9 for ; Tue, 22 Jul 2025 19:01:51 +0200 (CEST) Received: from mails.dpdk.org (localhost [127.0.0.1]) by mails.dpdk.org (Postfix) with ESMTP id D1C7C40616; Tue, 22 Jul 2025 19:01:51 +0200 (CEST) Received: from mail-ua1-f100.google.com (mail-ua1-f100.google.com [209.85.222.100]) by mails.dpdk.org (Postfix) with ESMTP id CC53C402DA for ; Tue, 22 Jul 2025 19:01:49 +0200 (CEST) Received: by mail-ua1-f100.google.com with SMTP id a1e0cc1a2514c-87ec4ec218fso2729127241.3 for ; Tue, 22 Jul 2025 10:01:49 -0700 (PDT) DKIM-Signature: v=1; a=rsa-sha256; c=relaxed/relaxed; d=iol.unh.edu; s=unh-iol; t=1753203709; x=1753808509; darn=dpdk.org; h=references:in-reply-to:cc:to:from:subject:message-id:date:from:to :cc:subject:date:message-id:reply-to; bh=MwtSl0Jxn8W3MVVbB1RdCvdRj2mYdaSEIGgkCilMbcU=; b=g8otj4QHapaEfgenL8zDW5v+v6MYSiPb9+udox/ItLR4i/AEDZwFu5hlbzv7xHv473 kfmeEyKKklJyYYIPtLANeo3bSKzZPAxd50haLB/B+Ex1rJhrnImTHcJqOOD9ZZXyhho2 br2K7r8TxWBwCOCYw+O0UXRUqjS/ASQlq+hsU= X-Google-DKIM-Signature: v=1; a=rsa-sha256; c=relaxed/relaxed; d=1e100.net; s=20230601; t=1753203709; x=1753808509; h=references:in-reply-to:cc:to:from:subject:message-id:date :x-gm-message-state:from:to:cc:subject:date:message-id:reply-to; bh=MwtSl0Jxn8W3MVVbB1RdCvdRj2mYdaSEIGgkCilMbcU=; b=raLl8mbydsoX2HEOkNVouABaRJ+thqjwzb4dvww1N/yJ11ejb0sQ7mNL/iE5XsvRqH DQtxVDkV3sjWzjx05/GPdJgblz8R+TG589HKjXW1NfGG5MS4fvga7RFNM/+9iZSlvqEU CllCDqQwuT7vmw51Xvjo6x3D5feLYEcGkr5diYxc5CkvGOfDqA72/1dRxo5m1TW7wu4c yLP5z5NNzWsxYFVkd9qXcswmmUtnBUkLCjyLrpOAmLrgeScF/rPgocIFWiwYw6mpP9Xb oy2uF02Q0Jn5dAx8NeLhPYLChUC8ggoneRG1A2XqbGo0ymFb0ZAy97pmlEknqBGDqx79 I/bQ== X-Gm-Message-State: AOJu0YwOXt+D4lBu+i/O5rYHklHMxGjOtLvAXu9oxLY8TYzqFeKF0fxy VPVBIEW5oxMg8BoMTB1iejAjLqQFc6R7KkzyurBu4vfmYJiuCiLGwTs7Zug/nLYLJVxms2psTOP co9duTk2daAmGeCRWJnGivIpG6mmGW7glajOktZfEVu+P18YAyv5B1tzgVpd/ X-Gm-Gg: ASbGncuWUv2qtJ6oy0tktarpX815MPrmmIZnCzcfclRnLZjyoEt5Rh1uWlQ8DDn8QIh 4C1nfu9F53m/QY2hLb7AAqx2dC2BQRHk4q2JHZ41Py2O+tE+OyyztaI2UqDbYDgw8nER1qyrqNM Yi9iVtGzQK6IYnJtzpBnmdc6Y17/pxaPiiaiZGNqEWuog7JNf/D8W8Pah3eRBEih3wFa9a99SmU KmL5hgyTX8hRwYDVhHwIjP8nTtES1OFcq5TJCb6ejo794g57tFeLaUxaCVzAVFyODfvSq2Zi3Xc dJzy+4jZd6Fp579FvGCo1PlgVrj1oTWe0SO9s6DT8pqZDgEO7A== X-Google-Smtp-Source: AGHT+IFSNniMs8etjDMpbyi/R/GhC4J/EnKjdfJEY7tcdZD74S9tUC8OdoYRSWUmHdgh+hWA9Dw9z6LGd6kC X-Received: by 2002:a05:6102:598c:b0:4c3:3eb:e84d with SMTP id ada2fe7eead31-4f95f42ca35mr12941600137.21.1753203709044; Tue, 22 Jul 2025 10:01:49 -0700 (PDT) Received: from postal.iol.unh.edu (postal.iol.unh.edu. [2606:4100:3880:1234::84]) by smtp-relay.gmail.com with ESMTPS id a1e0cc1a2514c-88b0aa46d94sm321263241.3.2025.07.22.10.01.48 (version=TLS1_2 cipher=ECDHE-ECDSA-AES128-GCM-SHA256 bits=128/128); Tue, 22 Jul 2025 10:01:49 -0700 (PDT) X-Relaying-Domain: iol.unh.edu Date: Tue, 22 Jul 2025 10:01:49 -0700 (PDT) Message-ID: <687fc3fd.b00a0220.2fd2c2.01a4SMTPIN_ADDED_MISSING@mx.google.com> Received: from [172.21.0.4] (unknown [172.18.0.240]) by postal.iol.unh.edu (Postfix) with ESMTP id 999F5604D420; Tue, 22 Jul 2025 13:01:48 -0400 (EDT) Subject: |SUCCESS| pw155413-155414 [PATCH] [2/2] net: remove v25 ABI compatib From: dpdklab@iol.unh.edu To: Test Report Cc: dpdk-test-reports@iol.unh.edu In-Reply-To: <20250722132441.3700305-2-david.marchand@redhat.com> References: <20250722132441.3700305-2-david.marchand@redhat.com> Content-Type: text/plain X-BeenThere: test-report@dpdk.org X-Mailman-Version: 2.1.29 Precedence: list List-Id: automatic DPDK test reports List-Unsubscribe: , List-Archive: List-Post: List-Help: List-Subscribe: , Errors-To: test-report-bounces@dpdk.org Test-Label: iol-compile-amd64-testing Test-Status: SUCCESS http://dpdk.org/patch/155414 _Testing PASS_ Submitter: David Marchand Date: Tuesday, July 22 2025 13:24:41 DPDK git baseline: Repo:dpdk Branch: master CommitID:b222395561638f89562e4ef42e1eabf2d6db43dd 155413-155414 --> testing pass Upstream job id: Generic-DPDK-Compile-Meson#410975 Test environment and result as below: +-------------------------------+--------------------+-------------------+------------------+-------------------------+-------------------+----------------------+ | Environment | dpdk_meson_compile | dpdk_compile_spdk | dpdk_compile_ovs | dpdk_llvm_clang_compile | dpdk_msvc_compile | dpdk_mingw64_compile | +===============================+====================+===================+==================+=========================+===================+======================+ | CentOS Stream 10 | PASS | SKIPPED | SKIPPED | SKIPPED | SKIPPED | SKIPPED | +-------------------------------+--------------------+-------------------+------------------+-------------------------+-------------------+----------------------+ | Fedora Linux 40 | PASS | PASS | SKIPPED | SKIPPED | SKIPPED | SKIPPED | +-------------------------------+--------------------+-------------------+------------------+-------------------------+-------------------+----------------------+ | Fedora Linux 41 | PASS | PASS | PASS | SKIPPED | SKIPPED | SKIPPED | +-------------------------------+--------------------+-------------------+------------------+-------------------------+-------------------+----------------------+ | Debian GNU/Linux 12 | PASS | PASS | SKIPPED | SKIPPED | SKIPPED | SKIPPED | +-------------------------------+--------------------+-------------------+------------------+-------------------------+-------------------+----------------------+ | CentOS Stream 9 | PASS | PASS | SKIPPED | SKIPPED | SKIPPED | SKIPPED | +-------------------------------+--------------------+-------------------+------------------+-------------------------+-------------------+----------------------+ | Ubuntu 24.04 | PASS | PASS | PASS | SKIPPED | SKIPPED | SKIPPED | +-------------------------------+--------------------+-------------------+------------------+-------------------------+-------------------+----------------------+ | Ubuntu 22.04 | PASS | PASS | SKIPPED | SKIPPED | SKIPPED | SKIPPED | +-------------------------------+--------------------+-------------------+------------------+-------------------------+-------------------+----------------------+ | Red Hat Enterprise Linux 8.10 | PASS | SKIPPED | SKIPPED | SKIPPED | SKIPPED | SKIPPED | +-------------------------------+--------------------+-------------------+------------------+-------------------------+-------------------+----------------------+ | Red Hat Enterprise Linux 9.5 | PASS | SKIPPED | SKIPPED | SKIPPED | SKIPPED | SKIPPED | +-------------------------------+--------------------+-------------------+------------------+-------------------------+-------------------+----------------------+ | openSUSE Leap 15.6 | PASS | SKIPPED | SKIPPED | SKIPPED | SKIPPED | SKIPPED | +-------------------------------+--------------------+-------------------+------------------+-------------------------+-------------------+----------------------+ | Alpine Linux 3.22.0 | PASS | SKIPPED | SKIPPED | SKIPPED | SKIPPED | SKIPPED | +-------------------------------+--------------------+-------------------+------------------+-------------------------+-------------------+----------------------+ | Ubuntu 20.04 | PASS | SKIPPED | SKIPPED | SKIPPED | SKIPPED | SKIPPED | +-------------------------------+--------------------+-------------------+------------------+-------------------------+-------------------+----------------------+ | FreeBSD 14.2 | PASS | SKIPPED | SKIPPED | SKIPPED | SKIPPED | SKIPPED | +-------------------------------+--------------------+-------------------+------------------+-------------------------+-------------------+----------------------+ | Windows Server 2022 | SKIPPED | SKIPPED | SKIPPED | PASS | PASS | PASS | +-------------------------------+--------------------+-------------------+------------------+-------------------------+-------------------+----------------------+ CentOS Stream 10 Kernel: 5.15 Compiler: gcc gcc (GCC) 14.2.1 20250110 (Red Hat 14.2.1-8) Fedora Linux 40 Kernel: 5.15 Compiler: clang gcc (GCC) 14.2.1 20240912 (Red Hat 14.2.1-3) Fedora Linux 41 Kernel: 5.15 Compiler: clang gcc (GCC) 14.3.1 20250523 (Red Hat 14.3.1-1) Debian GNU/Linux 12 Kernel: 5.15 Compiler: gcc gcc (Debian 12.2.0-14+deb12u1) 12.2.0 CentOS Stream 9 Kernel: 5.15 Compiler: gcc gcc (GCC) 11.5.0 20240719 (Red Hat 11.5.0-7) Ubuntu 24.04 Kernel: 5.15 Compiler: gcc gcc (Ubuntu 13.3.0-6ubuntu2~24.04) 13.3.0 Ubuntu 22.04 Kernel: 5.15 Compiler: gcc gcc (Ubuntu 11.4.0-1ubuntu1~22.04) 11.4.0 Red Hat Enterprise Linux 8.10 Kernel: 5.15 Compiler: gcc gcc (GCC) 8.5.0 20210514 (Red Hat 8.5.0-22) Red Hat Enterprise Linux 9.5 Kernel: 5.15 Compiler: gcc gcc (GCC) 11.5.0 20240719 (Red Hat 11.5.0-2) openSUSE Leap 15.6 Kernel: 5.15 Compiler: gcc gcc (SUSE Linux) 7.5.0 Alpine Linux 3.22.0 Kernel: 5.15 Compiler: gcc gcc (Alpine 14.2.0) 14.2.0 Ubuntu 20.04 Kernel: 4.19 Compiler: gcc gcc (Ubuntu 9.4.0-1ubuntu1~20.04.2) 9.4.0 FreeBSD 14.2 Kernel: 14.2-RELEASE Compiler: clang 18.1.6 Windows Server 2022 Kernel: 10.0.20348.2031 Compiler: clang 15.0.7, gcc 14.1.0 (MinGW), and MSVC VS 19.39.33521 To view detailed results, visit: https://lab.dpdk.org/results/dashboard/patchsets/33722/ UNH-IOL DPDK Community Lab To manage your email subscriptions, visit: https://lab.dpdk.org/results/dashboard/preferences/subscriptions/