From mboxrd@z Thu Jan 1 00:00:00 1970 Return-Path: Received: from mails.dpdk.org (mails.dpdk.org [217.70.189.124]) by inbox.dpdk.org (Postfix) with ESMTP id D63F746BE5 for ; Tue, 22 Jul 2025 19:28:54 +0200 (CEST) Received: from mails.dpdk.org (localhost [127.0.0.1]) by mails.dpdk.org (Postfix) with ESMTP id D18434003C; Tue, 22 Jul 2025 19:28:54 +0200 (CEST) Received: from mail-pl1-f225.google.com (mail-pl1-f225.google.com [209.85.214.225]) by mails.dpdk.org (Postfix) with ESMTP id 9BAEB4003C for ; Tue, 22 Jul 2025 19:28:53 +0200 (CEST) Received: by mail-pl1-f225.google.com with SMTP id d9443c01a7336-23602481460so56517105ad.0 for ; Tue, 22 Jul 2025 10:28:53 -0700 (PDT) DKIM-Signature: v=1; a=rsa-sha256; c=relaxed/relaxed; d=iol.unh.edu; s=unh-iol; t=1753205333; x=1753810133; darn=dpdk.org; h=references:in-reply-to:cc:to:from:subject:message-id:date:from:to :cc:subject:date:message-id:reply-to; bh=OK82vbo7GCE3LHmrfJNwPM9MjdbhabryAmsZKOSVvf0=; b=h9Jk6bqOzCYz3v4O9dhUhtVuMNIkux3ytPDUiZM5OIKP4r9+ylvGQ0A8VVLa2zIH3G JdlRi3VOfTqgIei7vgyX4Tor9Yd5zPW1dMavmxFbzEzrYY2VUT47yI0aaO78I4fcTTHi FTevF+X9/Zvj2UOLXEYFzJJIFsyLWTFHBy6bE= X-Google-DKIM-Signature: v=1; a=rsa-sha256; c=relaxed/relaxed; d=1e100.net; s=20230601; t=1753205333; x=1753810133; h=references:in-reply-to:cc:to:from:subject:message-id:date :x-gm-message-state:from:to:cc:subject:date:message-id:reply-to; bh=OK82vbo7GCE3LHmrfJNwPM9MjdbhabryAmsZKOSVvf0=; b=WZ+x6mn2PXMXUw/JxfQMj3ZepYHpPBH3wVTruS/NADl16ysYrO/4983QQ2EMrYBv85 7j5zNPi6cKnpwSWez5WuY9Bra+uIjnVoWdKMleJAozC5GI6PwlzllxMuh0l/Qi2k01yK 02UAaQ+oDP+nlRuB1OLeYUzGuxH7j/XOTjylG2UzquLhTyPN9TvRqnaxcTbBfmVXfp7j UojP2Qc5Hjj8hnZd69p+EGYU0qusjFpxl8WbpnQfoVMDWGzb1uOc6enz3XK6LyEV8AyK n5XLusgAl2T95xP+n1xmt/PdyPKm8Ma8Vn3qtH0CvlKEkRrn4TRUYBRdf65Zf0rgpfDk 5EcA== X-Gm-Message-State: AOJu0YxwkpFvnvJ4otiEJ4SFt9JTnWqtNxhBipvutUKEZaLhkCtLTtD9 ZjqUv29ZINbi3UPzTdGHGZVvYWL8eOffOZtEu2BBSyXsLecrtttdYJcSiaZ9Ik4caM+57NtsCVl I1GnQy+IPqQmVEPGQPfmPII4yYhvYmQQhAj0LKBiLYlJH X-Gm-Gg: ASbGnctTQSyup0N4pwfWCt28r9r5K0RLYb4/K2IkXT1IB6EogoLkvB1UbW8ChgGFLpg 7gnpnYHNkUhc0klfF49HieeVESiEEH63jRhPDtAVPh5/gTIIcXryG4a1wOL+kpyrp4Lthgc8IKP 7pJYrQaE+RQd64meM/16/cePQIz4dmCfToEWwGILzwL2OCiidK5ub1Y8hZOmz7rAV55XP8a1mgs N9Tok6ds6EkIr4xHFjuSLIVv5W3uMj9ccbPYD81D+xjg9I3o2ApFeeu5UPHiRFO2QkY71/Xvqx2 K4P+SK2dknBtCmSY0U60iiuFJDU5FWFbSoBfQpvA3tTsBgaG60m3JlFG4yv4eCBh5ZPP7XA7 X-Google-Smtp-Source: AGHT+IHCWz70YgNGSHETPsUJy+rOGEAmUfDyTJxmv1Hj/Mj2ffPmJkhA91m80a+VV3m/IJmu7mklRM8IFfDU X-Received: by 2002:a17:903:2ed0:b0:23d:d0e7:754b with SMTP id d9443c01a7336-23e24f4a246mr291173175ad.18.1753205332683; Tue, 22 Jul 2025 10:28:52 -0700 (PDT) Received: from postal.iol.unh.edu (postal.iol.unh.edu. [132.177.123.84]) by smtp-relay.gmail.com with ESMTPS id d9443c01a7336-23e3b61e232sm5858365ad.35.2025.07.22.10.28.52 (version=TLS1_2 cipher=ECDHE-ECDSA-AES128-GCM-SHA256 bits=128/128); Tue, 22 Jul 2025 10:28:52 -0700 (PDT) X-Relaying-Domain: iol.unh.edu Date: Tue, 22 Jul 2025 10:28:52 -0700 (PDT) Message-ID: <687fca54.170a0220.336b51.daf0SMTPIN_ADDED_MISSING@mx.google.com> Received: from [172.21.0.5] (unknown [172.18.0.240]) by postal.iol.unh.edu (Postfix) with ESMTP id 2DBC5604D420; Tue, 22 Jul 2025 13:28:52 -0400 (EDT) Subject: |WARNING| pw155415-155423 [PATCH] [v6,9/9] eal: simplify handling of From: dpdklab@iol.unh.edu To: Test Report Cc: dpdk-test-reports@iol.unh.edu In-Reply-To: <20250722140316.3568603-10-bruce.richardson@intel.com> References: <20250722140316.3568603-10-bruce.richardson@intel.com> Content-Type: text/plain X-BeenThere: test-report@dpdk.org X-Mailman-Version: 2.1.29 Precedence: list List-Id: automatic DPDK test reports List-Unsubscribe: , List-Archive: List-Post: List-Help: List-Subscribe: , Errors-To: test-report-bounces@dpdk.org Test-Label: iol-compile-amd64-testing Test-Status: WARNING http://dpdk.org/patch/155423 _Testing issues_ Submitter: Bruce Richardson Date: Tuesday, July 22 2025 14:03:14 DPDK git baseline: Repo:dpdk Branch: master CommitID:b222395561638f89562e4ef42e1eabf2d6db43dd 155415-155423 --> testing issues Upstream job id: Generic-DPDK-Compile-Meson#410999 Test environment and result as below: +-------------------------------+--------------------+-------------------+------------------+-------------------------+-------------------+----------------------+ | Environment | dpdk_meson_compile | dpdk_compile_spdk | dpdk_compile_ovs | dpdk_llvm_clang_compile | dpdk_msvc_compile | dpdk_mingw64_compile | +===============================+====================+===================+==================+=========================+===================+======================+ | CentOS Stream 9 | PASS | WARN | SKIPPED | SKIPPED | SKIPPED | SKIPPED | +-------------------------------+--------------------+-------------------+------------------+-------------------------+-------------------+----------------------+ | Fedora Linux 41 | PASS | WARN | PASS | SKIPPED | SKIPPED | SKIPPED | +-------------------------------+--------------------+-------------------+------------------+-------------------------+-------------------+----------------------+ | Debian GNU/Linux 12 | PASS | WARN | SKIPPED | SKIPPED | SKIPPED | SKIPPED | +-------------------------------+--------------------+-------------------+------------------+-------------------------+-------------------+----------------------+ | Fedora Linux 40 | PASS | WARN | SKIPPED | SKIPPED | SKIPPED | SKIPPED | +-------------------------------+--------------------+-------------------+------------------+-------------------------+-------------------+----------------------+ | Ubuntu 20.04 | PASS | SKIPPED | SKIPPED | SKIPPED | SKIPPED | SKIPPED | +-------------------------------+--------------------+-------------------+------------------+-------------------------+-------------------+----------------------+ | Red Hat Enterprise Linux 8.10 | PASS | SKIPPED | SKIPPED | SKIPPED | SKIPPED | SKIPPED | +-------------------------------+--------------------+-------------------+------------------+-------------------------+-------------------+----------------------+ | Ubuntu 24.04 | PASS | WARN | PASS | SKIPPED | SKIPPED | SKIPPED | +-------------------------------+--------------------+-------------------+------------------+-------------------------+-------------------+----------------------+ | openSUSE Leap 15.6 | PASS | SKIPPED | SKIPPED | SKIPPED | SKIPPED | SKIPPED | +-------------------------------+--------------------+-------------------+------------------+-------------------------+-------------------+----------------------+ | Ubuntu 22.04 | PASS | WARN | SKIPPED | SKIPPED | SKIPPED | SKIPPED | +-------------------------------+--------------------+-------------------+------------------+-------------------------+-------------------+----------------------+ | Alpine Linux 3.22.0 | PASS | SKIPPED | SKIPPED | SKIPPED | SKIPPED | SKIPPED | +-------------------------------+--------------------+-------------------+------------------+-------------------------+-------------------+----------------------+ | FreeBSD 14.2 | PASS | SKIPPED | SKIPPED | SKIPPED | SKIPPED | SKIPPED | +-------------------------------+--------------------+-------------------+------------------+-------------------------+-------------------+----------------------+ | Red Hat Enterprise Linux 9.5 | PASS | SKIPPED | SKIPPED | SKIPPED | SKIPPED | SKIPPED | +-------------------------------+--------------------+-------------------+------------------+-------------------------+-------------------+----------------------+ | Windows Server 2022 | SKIPPED | SKIPPED | SKIPPED | PASS | PASS | PASS | +-------------------------------+--------------------+-------------------+------------------+-------------------------+-------------------+----------------------+ ==== 20 line log output for Ubuntu 22.04 (dpdk_compile_spdk): ==== --- Failed to get log output --- ==== End log output ==== CentOS Stream 9 Kernel: 5.15 Compiler: gcc gcc (GCC) 11.5.0 20240719 (Red Hat 11.5.0-7) Fedora Linux 41 Kernel: 5.15 Compiler: gcc gcc (GCC) 14.3.1 20250523 (Red Hat 14.3.1-1) Debian GNU/Linux 12 Kernel: 5.15 Compiler: gcc gcc (Debian 12.2.0-14+deb12u1) 12.2.0 Fedora Linux 40 Kernel: 5.15 Compiler: gcc gcc (GCC) 14.2.1 20240912 (Red Hat 14.2.1-3) Ubuntu 20.04 Kernel: 5.15 Compiler: gcc gcc (Ubuntu 9.4.0-1ubuntu1~20.04.2) 9.4.0 Red Hat Enterprise Linux 8.10 Kernel: 5.15 Compiler: gcc gcc (GCC) 8.5.0 20210514 (Red Hat 8.5.0-22) Ubuntu 24.04 Kernel: 5.15 Compiler: gcc gcc (Ubuntu 13.3.0-6ubuntu2~24.04) 13.3.0 openSUSE Leap 15.6 Kernel: 5.15 Compiler: gcc gcc (SUSE Linux) 7.5.0 Ubuntu 22.04 Kernel: 5.15 Compiler: gcc gcc (Ubuntu 11.4.0-1ubuntu1~22.04) 11.4.0 Alpine Linux 3.22.0 Kernel: 5.15 Compiler: gcc gcc (Alpine 14.2.0) 14.2.0 FreeBSD 14.2 Kernel: 14.2-RELEASE Compiler: clang 18.1.6 Red Hat Enterprise Linux 9.5 Kernel: 5.15 Compiler: gcc gcc (GCC) 11.5.0 20240719 (Red Hat 11.5.0-2) Windows Server 2022 Kernel: 10.0.20348.2031 Compiler: clang 15.0.7, gcc 14.1.0 (MinGW), and MSVC VS 19.39.33521 To view detailed results, visit: https://lab.dpdk.org/results/dashboard/patchsets/33723/ UNH-IOL DPDK Community Lab To manage your email subscriptions, visit: https://lab.dpdk.org/results/dashboard/preferences/subscriptions/