From mboxrd@z Thu Jan 1 00:00:00 1970 Return-Path: Received: from mails.dpdk.org (mails.dpdk.org [217.70.189.124]) by inbox.dpdk.org (Postfix) with ESMTP id EBE4546BE5 for ; Tue, 22 Jul 2025 19:29:22 +0200 (CEST) Received: from mails.dpdk.org (localhost [127.0.0.1]) by mails.dpdk.org (Postfix) with ESMTP id E6EF04003C; Tue, 22 Jul 2025 19:29:22 +0200 (CEST) Received: from mail-qv1-f99.google.com (mail-qv1-f99.google.com [209.85.219.99]) by mails.dpdk.org (Postfix) with ESMTP id 435214003C for ; Tue, 22 Jul 2025 19:29:21 +0200 (CEST) Received: by mail-qv1-f99.google.com with SMTP id 6a1803df08f44-6fabe9446a0so49614336d6.2 for ; Tue, 22 Jul 2025 10:29:21 -0700 (PDT) DKIM-Signature: v=1; a=rsa-sha256; c=relaxed/relaxed; d=iol.unh.edu; s=unh-iol; t=1753205360; x=1753810160; darn=dpdk.org; h=references:in-reply-to:cc:to:from:subject:message-id:date:from:to :cc:subject:date:message-id:reply-to; bh=eZhVUTjuo9uo8ngALYkIDAuM06yh3+yPy2HeiOSp/Gk=; b=en5ZVVb3ssk76V3QyXbUgmSt4jWuPhU6RDjeaaTfuQNc2euhfa1P6SZ6+S5jXlS6e8 7N/ohaZw67aGB45t6+9a1rtBxb4kjFn2+FbdzBmUO9WRpkx5favpfQz22WJTap1y+WMj j3jCNIVXYxLayHRiOMTyrmzIefplOrs4aoTIY= X-Google-DKIM-Signature: v=1; a=rsa-sha256; c=relaxed/relaxed; d=1e100.net; s=20230601; t=1753205360; x=1753810160; h=references:in-reply-to:cc:to:from:subject:message-id:date :x-gm-message-state:from:to:cc:subject:date:message-id:reply-to; bh=eZhVUTjuo9uo8ngALYkIDAuM06yh3+yPy2HeiOSp/Gk=; b=eFrDaWKnfjuCRL14gq1ljSv6DcKOjobzKO1tl8TuSno/Qm5N6WIjem2g5dEPF25s+3 AS7gFPU+poeymsg+q20uVFmR2gtlrJbBavfFEKZEl+HIwquAvR4XCoBnV4BBUVQsXhqv WTlshCXS9Mm5K6cI1Dmmi0JDv1TqGoMQZUxIx9zjYt9kOE+/dQSVgSnr2mogK7E6DNew gQNhd7k+6GJ0wKaGSOufbVqXy3nrsZQ9URhG0F9Z9K40ohTOCXItomAGdES4LHC/MdwF bCtVxjTO1ctRgVf3NOvu2zEaomAeBtpjGrS9EfWDoZPOUGS5Ld9YfiTUXlisQc4gWJ0P CEYg== X-Gm-Message-State: AOJu0YxQmCZdAHFygMZWX0pUxlLOEAEyH4vLLBYGg0qbhnJrprJ6cuVh UbdV2aZ30zVbXPpIczEbbQIMA3JE67mtRJZWQEI94/xL2IpqN2anSmPu/w6uVy19Z9bRuj8+1ad h0YZMRlYg1vfQMaIrQneje2by0rdv4bJF/fGbk6C3Z6Ul X-Gm-Gg: ASbGnctbOp8ZIc5TMB3cmE3CXaHC2EVzDQA3QeCNuXuNi8bMswpQjd4j9dyT+pC743l 1AZ2cqlXM+C07Sb4EkOu9VDR0IfB/K5MSmRk9wSbMhoiXqIAtdIn0pLk2cvbO1vs2dt0NZ/kSvC 2576qCLe91WLKwog9/dnyj2IenQIogmTVmooF6IvQOVzRIGjZf9dPEImL1LamA/5k5vm1lPpE5b fe478v4bUny7NHPPVr0tOwvtB8VXU2GVZukOua32p+RHvMpfoEihgAezEusEfbPbquOuOYbvj+5 mWoa0LeT/D3lu3ZY1phFq9rc6miC2wME9hGLX5N+5mEGvFGnICPYzpaAA3Fj2hXWzaCEAxv3 X-Google-Smtp-Source: AGHT+IGiVoYIGHvCpMODUXxECadByJf4XtwmhTaoUqVzZv/3WrS7jiihXgCG9rHcOv2FDgLhGfhw4FfsevPK X-Received: by 2002:a05:6214:1d08:b0:6f5:3cae:920f with SMTP id 6a1803df08f44-704f4a87322mr324597796d6.27.1753205360598; Tue, 22 Jul 2025 10:29:20 -0700 (PDT) Received: from postal.iol.unh.edu (postal.iol.unh.edu. [132.177.123.84]) by smtp-relay.gmail.com with ESMTPS id 6a1803df08f44-7051bcd992dsm5211156d6.34.2025.07.22.10.29.20 (version=TLS1_2 cipher=ECDHE-ECDSA-AES128-GCM-SHA256 bits=128/128); Tue, 22 Jul 2025 10:29:20 -0700 (PDT) X-Relaying-Domain: iol.unh.edu Date: Tue, 22 Jul 2025 10:29:20 -0700 (PDT) Message-ID: <687fca70.050a0220.2ec0be.bb6bSMTPIN_ADDED_MISSING@mx.google.com> Received: from [172.21.0.6] (unknown [172.18.0.240]) by postal.iol.unh.edu (Postfix) with ESMTP id 5C5E9604D420; Tue, 22 Jul 2025 13:29:20 -0400 (EDT) Subject: |SUCCESS| pw155424 [PATCH] dumpcap: fix warnings when primary exits From: dpdklab@iol.unh.edu To: Test Report Cc: dpdk-test-reports@iol.unh.edu In-Reply-To: <20250722155319.168601-1-stephen@networkplumber.org> References: <20250722155319.168601-1-stephen@networkplumber.org> Content-Type: text/plain X-BeenThere: test-report@dpdk.org X-Mailman-Version: 2.1.29 Precedence: list List-Id: automatic DPDK test reports List-Unsubscribe: , List-Archive: List-Post: List-Help: List-Subscribe: , Errors-To: test-report-bounces@dpdk.org Test-Label: iol-compile-amd64-testing Test-Status: SUCCESS http://dpdk.org/patch/155424 _Testing PASS_ Submitter: Stephen Hemminger Date: Tuesday, July 22 2025 15:53:19 DPDK git baseline: Repo:dpdk Branch: master CommitID:b222395561638f89562e4ef42e1eabf2d6db43dd 155424 --> testing pass Upstream job id: Windows-Compile-DPDK-VS#6429 Test environment and result as below: +---------------------+--------------------+-------------------------+-------------------+ | Environment | dpdk_meson_compile | dpdk_llvm_clang_compile | dpdk_msvc_compile | +=====================+====================+=========================+===================+ | Ubuntu 20.04 | PASS | SKIPPED | SKIPPED | +---------------------+--------------------+-------------------------+-------------------+ | FreeBSD 14.2 | PASS | SKIPPED | SKIPPED | +---------------------+--------------------+-------------------------+-------------------+ | Windows Server 2022 | SKIPPED | PASS | PASS | +---------------------+--------------------+-------------------------+-------------------+ Ubuntu 20.04 Kernel: 4.19 Compiler: gcc gcc (Ubuntu 9.4.0-1ubuntu1~20.04.2) 9.4.0 FreeBSD 14.2 Kernel: 14.2-RELEASE Compiler: clang 18.1.6 Windows Server 2022 Kernel: 10.0.20348.2031 Compiler: clang 15.0.7, gcc 14.1.0 (MinGW), and MSVC VS 19.39.33521 To view detailed results, visit: https://lab.dpdk.org/results/dashboard/patchsets/33724/ UNH-IOL DPDK Community Lab To manage your email subscriptions, visit: https://lab.dpdk.org/results/dashboard/preferences/subscriptions/