From mboxrd@z Thu Jan 1 00:00:00 1970 Return-Path: Received: from mails.dpdk.org (mails.dpdk.org [217.70.189.124]) by inbox.dpdk.org (Postfix) with ESMTP id D29E146BE5 for ; Tue, 22 Jul 2025 19:51:51 +0200 (CEST) Received: from mails.dpdk.org (localhost [127.0.0.1]) by mails.dpdk.org (Postfix) with ESMTP id AFAFA4003C; Tue, 22 Jul 2025 19:51:51 +0200 (CEST) Received: from mail-pl1-f226.google.com (mail-pl1-f226.google.com [209.85.214.226]) by mails.dpdk.org (Postfix) with ESMTP id 1D8F84003C for ; Tue, 22 Jul 2025 19:51:51 +0200 (CEST) Received: by mail-pl1-f226.google.com with SMTP id d9443c01a7336-23694cec0feso55894225ad.2 for ; Tue, 22 Jul 2025 10:51:51 -0700 (PDT) DKIM-Signature: v=1; a=rsa-sha256; c=relaxed/relaxed; d=iol.unh.edu; s=unh-iol; t=1753206710; x=1753811510; darn=dpdk.org; h=references:in-reply-to:cc:to:from:subject:message-id:date:from:to :cc:subject:date:message-id:reply-to; bh=7MHEjq5gfCSJGLCUj0yxfLN8xmO89uyiQPHoN9ZO+jQ=; b=VlHR8KoHsM13tS3RcjQruaMpFub+U3fVA1EjO+KfEs84c0Uxxe0fxgbZW9PeromJmx YapoBYSQjE4FA5GRkwpEwE65q3s+joEe8zbnFmSQjghU6Go+HLG/ED3tFRndYgdyFtdX ek15m5shCOUX/ULu6oMWmyAZ4vdmsY4Jmajdo= X-Google-DKIM-Signature: v=1; a=rsa-sha256; c=relaxed/relaxed; d=1e100.net; s=20230601; t=1753206710; x=1753811510; h=references:in-reply-to:cc:to:from:subject:message-id:date :x-gm-message-state:from:to:cc:subject:date:message-id:reply-to; bh=7MHEjq5gfCSJGLCUj0yxfLN8xmO89uyiQPHoN9ZO+jQ=; b=DZHPd2K8UHg2/+nL/g/IepX054KPpOURp04eRdhpQxPLXLD5Ua7UHJamKkCWcHChxo 9d4bPaQRsqGv3Mn16dlnV15rZZsaPj1RZsKvC55XWfGWat1sGedA3LolIB71s62lb5nX xrYALp6xHcn4Vxrjwhy4Efp3wVriqmFdFhrG8FVNSc3fswUULQc7ombMEiEJWy0NYOs3 KOPMZKiaHOaIi78MqvQ4WctD046HxaYz3CNJGWSFazL5D4bEybUjfQmKogoDOZZVLMHW Skd4C/1QRvFHG039RfantUQEbxNne5Frdnmb6R5FuBBzUlF8lQlVUYIqiZ1XSRoBSp0X oHHw== X-Gm-Message-State: AOJu0Yyah6nWFAgW4CO4D01PDdbn/ETcC2jgU8JyUH9bTzN3bM+5ReEq paTIq2kxbCL8H7rj2DiI+dU9QOhB7W8qhXjhi/zzXmlzYRB16SdWV0tOh1w/0BvWZj0sI7QBl1g 9uo+/7ItLvjY2/6uABM/k5ho5LZmckt+GgPA6M+0O1SaEjYnPhnhKcbBfdOpa X-Gm-Gg: ASbGncvfjGP7qs+9mTAzY/FYRLmSqlV37G7ph6RsXCHYkiqF/3FVOHueBHzCFck9srh fyX3YsjwYjamLvXQIuTuNjYLn1vI9upkguoqdrTzRw/34NFRx1WxQNqxvAmDHG4Rr1g4kY/ma49 AyvMaHpD1hbWWRlnqZ3xRz26niLWbE+s1++QUx8GbBDKL1d3Ex6sCsApD+Kl+QS3dXWn0lvqvs8 sKmUEUgt4I0Pv16z5ey2ldNUylRyOxYhxCldNiVZuXbGmHZd+/FQlk5Sq5vDw0yHeN+0cbf17Vm 8Gk39kVlWa9WKzkp0eE5P3kdBZUtmrPcCdE85ddof0N/mA7XNg== X-Google-Smtp-Source: AGHT+IEyaGAs1II/25S0+gHaOR4+LXe53bTK8X4rN3bN9oRWnLOEjskOyX8nja2Hge60C0DRtPmsNJwCCd/n X-Received: by 2002:a17:903:3b8b:b0:234:d679:72e3 with SMTP id d9443c01a7336-23e24f59dbfmr352177775ad.42.1753206710221; Tue, 22 Jul 2025 10:51:50 -0700 (PDT) Received: from postal.iol.unh.edu (postal.iol.unh.edu. [2606:4100:3880:1234::84]) by smtp-relay.gmail.com with ESMTPS id d9443c01a7336-23e3b6b69e2sm5851445ad.75.2025.07.22.10.51.50 (version=TLS1_2 cipher=ECDHE-ECDSA-AES128-GCM-SHA256 bits=128/128); Tue, 22 Jul 2025 10:51:50 -0700 (PDT) X-Relaying-Domain: iol.unh.edu Date: Tue, 22 Jul 2025 10:51:50 -0700 (PDT) Message-ID: <687fcfb6.170a0220.75a8e.e338SMTPIN_ADDED_MISSING@mx.google.com> Received: from [172.21.0.2] (unknown [172.18.0.240]) by postal.iol.unh.edu (Postfix) with ESMTP id 7AFB0604D420; Tue, 22 Jul 2025 13:51:49 -0400 (EDT) Subject: |SUCCESS| pw155413-155414 [PATCH] [2/2] net: remove v25 ABI compatib From: dpdklab@iol.unh.edu To: Test Report Cc: dpdk-test-reports@iol.unh.edu In-Reply-To: <20250722132441.3700305-2-david.marchand@redhat.com> References: <20250722132441.3700305-2-david.marchand@redhat.com> Content-Type: text/plain X-BeenThere: test-report@dpdk.org X-Mailman-Version: 2.1.29 Precedence: list List-Id: automatic DPDK test reports List-Unsubscribe: , List-Archive: List-Post: List-Help: List-Subscribe: , Errors-To: test-report-bounces@dpdk.org Test-Label: iol-unit-arm64-testing Test-Status: SUCCESS http://dpdk.org/patch/155414 _Testing PASS_ Submitter: David Marchand Date: Tuesday, July 22 2025 13:24:41 DPDK git baseline: Repo:dpdk Branch: master CommitID:b222395561638f89562e4ef42e1eabf2d6db43dd 155413-155414 --> testing pass Upstream job id: Generic-Unit-Test-DPDK#357272 Test environment and result as below: +------------------------------+--------------+------------------------------+---------------------------+----------------+ | Environment | lpm_autotest | cryptodev_sw_snow3g_autotest | cryptodev_sw_zuc_autotest | dpdk_unit_test | +==============================+==============+==============================+===========================+================+ | Ubuntu 20.04 | PASS | SKIPPED | SKIPPED | PASS | +------------------------------+--------------+------------------------------+---------------------------+----------------+ | Debian 12 (arm) | SKIPPED | PASS | PASS | SKIPPED | +------------------------------+--------------+------------------------------+---------------------------+----------------+ | CentOS Stream 10 | SKIPPED | SKIPPED | SKIPPED | PASS | +------------------------------+--------------+------------------------------+---------------------------+----------------+ | Fedora Linux 40 | SKIPPED | SKIPPED | SKIPPED | PASS | +------------------------------+--------------+------------------------------+---------------------------+----------------+ | CentOS Stream 9 | SKIPPED | SKIPPED | SKIPPED | PASS | +------------------------------+--------------+------------------------------+---------------------------+----------------+ | Ubuntu 22.04 | SKIPPED | SKIPPED | SKIPPED | PASS | +------------------------------+--------------+------------------------------+---------------------------+----------------+ | Debian GNU/Linux 12 | SKIPPED | SKIPPED | SKIPPED | PASS | +------------------------------+--------------+------------------------------+---------------------------+----------------+ | Fedora Linux 41 | SKIPPED | SKIPPED | SKIPPED | PASS | +------------------------------+--------------+------------------------------+---------------------------+----------------+ | Red Hat Enterprise Linux 9.5 | SKIPPED | SKIPPED | SKIPPED | PASS | +------------------------------+--------------+------------------------------+---------------------------+----------------+ | Ubuntu 24.04 | SKIPPED | SKIPPED | SKIPPED | PASS | +------------------------------+--------------+------------------------------+---------------------------+----------------+ Ubuntu 20.04 Kernel: 5.4 Compiler: gcc gcc (Ubuntu 9.4.0-1ubuntu1~20.04.2) 9.4.0 Debian 12 (arm) Kernel: Depends on container host Compiler: gcc (Debian 12.2.0-14) 12.2.0 CentOS Stream 10 Kernel: 5.4 Compiler: gcc gcc (GCC) 14.2.1 20250110 (Red Hat 14.2.1-8) Fedora Linux 40 Kernel: 5.4 Compiler: clang gcc (GCC) 14.2.1 20240912 (Red Hat 14.2.1-3) CentOS Stream 9 Kernel: 5.4 Compiler: gcc gcc (GCC) 11.5.0 20240719 (Red Hat 11.5.0-7) Ubuntu 22.04 Kernel: 5.4 Compiler: gcc gcc (Ubuntu 11.4.0-1ubuntu1~22.04) 11.4.0 Debian GNU/Linux 12 Kernel: 5.4 Compiler: gcc gcc (Debian 12.2.0-14+deb12u1) 12.2.0 Fedora Linux 41 Kernel: 5.4 Compiler: gcc gcc (GCC) 14.3.1 20250523 (Red Hat 14.3.1-1) Red Hat Enterprise Linux 9.5 Kernel: 5.4 Compiler: gcc gcc (GCC) 11.5.0 20240719 (Red Hat 11.5.0-2) Ubuntu 24.04 Kernel: 5.4 Compiler: gcc gcc (Ubuntu 13.3.0-6ubuntu2~24.04) 13.3.0 To view detailed results, visit: https://lab.dpdk.org/results/dashboard/patchsets/33722/ UNH-IOL DPDK Community Lab To manage your email subscriptions, visit: https://lab.dpdk.org/results/dashboard/preferences/subscriptions/