From mboxrd@z Thu Jan 1 00:00:00 1970 Return-Path: Received: from mails.dpdk.org (mails.dpdk.org [217.70.189.124]) by inbox.dpdk.org (Postfix) with ESMTP id 1124146BE5 for ; Tue, 22 Jul 2025 20:32:08 +0200 (CEST) Received: from mails.dpdk.org (localhost [127.0.0.1]) by mails.dpdk.org (Postfix) with ESMTP id E2C8B40283; Tue, 22 Jul 2025 20:32:07 +0200 (CEST) Received: from mail-pf1-f225.google.com (mail-pf1-f225.google.com [209.85.210.225]) by mails.dpdk.org (Postfix) with ESMTP id 047204003C for ; Tue, 22 Jul 2025 20:32:06 +0200 (CEST) Received: by mail-pf1-f225.google.com with SMTP id d2e1a72fcca58-74b54cead6cso3793960b3a.1 for ; Tue, 22 Jul 2025 11:32:05 -0700 (PDT) DKIM-Signature: v=1; a=rsa-sha256; c=relaxed/relaxed; d=iol.unh.edu; s=unh-iol; t=1753209125; x=1753813925; darn=dpdk.org; h=references:in-reply-to:cc:to:from:subject:message-id:date:from:to :cc:subject:date:message-id:reply-to; bh=wTT1frMtlEvH51xULvUaVqDkQJE1kL6U92esbz1a5XQ=; b=ahnMZkitpCuhunA6bODM1klhAzsuJQI2htLWhn+PQ6e4qlC7pFtbZJwgsbTS2eSmd0 HcY3aCu/7UBuCwfbXVd6rR0b+tvPqVaokJc4SydXIH5pkqu6Hu2RvKlBK233ZP9u24wV B7F74AL7tXupHj/s9nS2iK34wsP+QeJ+I6Wlg= X-Google-DKIM-Signature: v=1; a=rsa-sha256; c=relaxed/relaxed; d=1e100.net; s=20230601; t=1753209125; x=1753813925; h=references:in-reply-to:cc:to:from:subject:message-id:date :x-gm-message-state:from:to:cc:subject:date:message-id:reply-to; bh=wTT1frMtlEvH51xULvUaVqDkQJE1kL6U92esbz1a5XQ=; b=S9kUVno49+OhO+b0t6tff/JWRl9PYq+yMEaCmhtDxAjuPvQ/wZl7R1PlmJUqSNg660 9c7FR1okmSQ9HkQecd5WRt9R751FXQluKXpiC4WswQRMp910rGhiECeskD2vDMn1tnQ3 xCHfzAy3t1QQ4NzPo4tTVlSgTJFfSvr2939Rj4xwgY88pMNXpjo/isLtM0aF/2XFINNZ LPhYMsUQf4PgN5eFPQKuK3fG9tlRGpbg4Wbn3yL/LUCFsZ2KZ8Tzq0HNLPJDjQRsoc+a f7cq8Q8Q2PeTTZ1MjcvJjmIeODj7+dRI2OMhn6g/JsJzE21hZiBNHN6BV0OU1VryjDLS syrg== X-Gm-Message-State: AOJu0YwTu5AgGGFOAYIn5gJCKm/XVDtH14JZfTNbU7Qi9s5gRG+odpTF H7JtiM2ueEwiy3+puGD34z4O4Zn2GoLrBlpNKwGxlc0AwIdCxfctxCkPmLKJAGS9VL7T5XEaTPu 2zB4ertUt/aFdtT2aLoAlkB6ahFaSeelxDe45U7JmvAUb X-Gm-Gg: ASbGncv9z2h/aZmx9BQ4WSzYLikfTFM88PMXH9Pd65j5JPm1VVP7qAQGwRRqaJA1vgA t9F/6rj0ToG5lHmVdpLFw+UTQspogxzYDB0OXvNfFlQ9OE1mSlzgTFYNwP8sdCjEX80b0pyp5sb gTM2kwsmG4fCfInkRyx2431HepbsdJi9q4rE/MWVNwRTY7N7iLczkEw2ux55g5ipZ1TeDpFf4Sc j8p2UJ8suDVA5YFxIfBIW0DwY057FLI2Se721xJzkyW9NDKA8jwOyTCdVlSUu7w5GnUeyH5QPJx qp87wmV/Ptx2QsFyFOISh2ZIcp9OXZTO6/DWCvz5RmmTsfeCTxtfXf28T5mOkk88qlQnN8CO X-Google-Smtp-Source: AGHT+IEDi3FonSTdGxQKOpc8UbrTkXwmhB57c54sWJvvdrKtUo4Ee9Btw0fWVXdA9xhp/NOQIF6/8j0pUzz9 X-Received: by 2002:a05:6a00:4fcc:b0:755:ad06:b6d1 with SMTP id d2e1a72fcca58-760353f1fc5mr388332b3a.20.1753209125059; Tue, 22 Jul 2025 11:32:05 -0700 (PDT) Received: from postal.iol.unh.edu (postal.iol.unh.edu. [132.177.123.84]) by smtp-relay.gmail.com with ESMTPS id d2e1a72fcca58-759c84dae44sm624328b3a.4.2025.07.22.11.32.04 (version=TLS1_2 cipher=ECDHE-ECDSA-AES128-GCM-SHA256 bits=128/128); Tue, 22 Jul 2025 11:32:05 -0700 (PDT) X-Relaying-Domain: iol.unh.edu Date: Tue, 22 Jul 2025 11:32:05 -0700 (PDT) Message-ID: <687fd925.050a0220.399f0b.0047SMTPIN_ADDED_MISSING@mx.google.com> Received: from [172.21.0.6] (unknown [172.18.0.240]) by postal.iol.unh.edu (Postfix) with ESMTP id 0C9F26051830; Tue, 22 Jul 2025 14:32:04 -0400 (EDT) Subject: |SUCCESS| pw155424 [PATCH] dumpcap: fix warnings when primary exits From: dpdklab@iol.unh.edu To: Test Report Cc: dpdk-test-reports@iol.unh.edu In-Reply-To: <20250722155319.168601-1-stephen@networkplumber.org> References: <20250722155319.168601-1-stephen@networkplumber.org> Content-Type: text/plain X-BeenThere: test-report@dpdk.org X-Mailman-Version: 2.1.29 Precedence: list List-Id: automatic DPDK test reports List-Unsubscribe: , List-Archive: List-Post: List-Help: List-Subscribe: , Errors-To: test-report-bounces@dpdk.org Test-Label: iol-unit-amd64-testing Test-Status: SUCCESS http://dpdk.org/patch/155424 _Testing PASS_ Submitter: Stephen Hemminger Date: Tuesday, July 22 2025 15:53:19 DPDK git baseline: Repo:dpdk Branch: master CommitID:b222395561638f89562e4ef42e1eabf2d6db43dd 155424 --> testing pass Upstream job id: Generic-VM-Unit-Test-DPDK#30101 Test environment and result as below: +-------------------------------+----------------+ | Environment | dpdk_unit_test | +===============================+================+ | CentOS Stream 10 | PASS | +-------------------------------+----------------+ | CentOS Stream 9 | PASS | +-------------------------------+----------------+ | Debian GNU/Linux 12 | PASS | +-------------------------------+----------------+ | Fedora Linux 40 | PASS | +-------------------------------+----------------+ | Red Hat Enterprise Linux 8.10 | PASS | +-------------------------------+----------------+ | Red Hat Enterprise Linux 9.5 | PASS | +-------------------------------+----------------+ | Ubuntu 20.04 | PASS | +-------------------------------+----------------+ | Fedora Linux 41 | PASS | +-------------------------------+----------------+ | Ubuntu 22.04 | PASS | +-------------------------------+----------------+ | Ubuntu 24.04 | PASS | +-------------------------------+----------------+ | Windows Server 2022 | PASS | +-------------------------------+----------------+ CentOS Stream 10 Kernel: 5.15 Compiler: gcc gcc (GCC) 14.2.1 20250110 (Red Hat 14.2.1-8) CentOS Stream 9 Kernel: 5.15 Compiler: gcc gcc (GCC) 11.5.0 20240719 (Red Hat 11.5.0-7) Debian GNU/Linux 12 Kernel: 5.15 Compiler: gcc gcc (Debian 12.2.0-14+deb12u1) 12.2.0 Fedora Linux 40 Kernel: 5.15 Compiler: gcc gcc (GCC) 14.2.1 20240912 (Red Hat 14.2.1-3) Red Hat Enterprise Linux 8.10 Kernel: 5.15 Compiler: gcc gcc (GCC) 8.5.0 20210514 (Red Hat 8.5.0-22) Red Hat Enterprise Linux 9.5 Kernel: 5.15 Compiler: gcc gcc (GCC) 11.5.0 20240719 (Red Hat 11.5.0-2) Ubuntu 20.04 Kernel: 5.15 Compiler: gcc gcc (Ubuntu 9.4.0-1ubuntu1~20.04.2) 9.4.0 Fedora Linux 41 Kernel: 5.15 Compiler: gcc gcc (GCC) 14.3.1 20250523 (Red Hat 14.3.1-1) Ubuntu 22.04 Kernel: 5.15 Compiler: gcc gcc (Ubuntu 11.4.0-1ubuntu1~22.04) 11.4.0 Ubuntu 24.04 Kernel: 5.15 Compiler: gcc gcc (Ubuntu 13.3.0-6ubuntu2~24.04) 13.3.0 Windows Server 2022 Kernel: 10.0.20348.2031 Compiler: clang 15.0.7, gcc 14.1.0 (MinGW), and MSVC VS 19.39.33521 To view detailed results, visit: https://lab.dpdk.org/results/dashboard/patchsets/33724/ UNH-IOL DPDK Community Lab To manage your email subscriptions, visit: https://lab.dpdk.org/results/dashboard/preferences/subscriptions/