From mboxrd@z Thu Jan 1 00:00:00 1970 Return-Path: Received: from mails.dpdk.org (mails.dpdk.org [217.70.189.124]) by inbox.dpdk.org (Postfix) with ESMTP id 7C09D46BE5 for ; Tue, 22 Jul 2025 21:17:57 +0200 (CEST) Received: from mails.dpdk.org (localhost [127.0.0.1]) by mails.dpdk.org (Postfix) with ESMTP id 76CEB4003C; Tue, 22 Jul 2025 21:17:57 +0200 (CEST) Received: from mail-qv1-f100.google.com (mail-qv1-f100.google.com [209.85.219.100]) by mails.dpdk.org (Postfix) with ESMTP id 0DEC04003C for ; Tue, 22 Jul 2025 21:17:56 +0200 (CEST) Received: by mail-qv1-f100.google.com with SMTP id 6a1803df08f44-6face367320so52952906d6.3 for ; Tue, 22 Jul 2025 12:17:56 -0700 (PDT) DKIM-Signature: v=1; a=rsa-sha256; c=relaxed/relaxed; d=iol.unh.edu; s=unh-iol; t=1753211875; x=1753816675; darn=dpdk.org; h=references:in-reply-to:cc:to:from:subject:message-id:date:from:to :cc:subject:date:message-id:reply-to; bh=nFzwQbTbnUFZ4jYOFitZ857RHjTj4DOC3R1JA8DXqkU=; b=EzjCLZlUp4RUywNDHHUoebfxk2A1g1njZAFMrNFcB5XnBfSB3B4WYPSvQIeJJTNI+X okz+KzjQq45cyAS4CEXhUOWp7ccbTZRnpO0RjcwSNNw67D/N0Q76P2GCdK0KqIjVL5TW yAwBiavt4IhRsQVGBrwWw6keAraPTx5za39Wg= X-Google-DKIM-Signature: v=1; a=rsa-sha256; c=relaxed/relaxed; d=1e100.net; s=20230601; t=1753211875; x=1753816675; h=references:in-reply-to:cc:to:from:subject:message-id:date :x-gm-message-state:from:to:cc:subject:date:message-id:reply-to; bh=nFzwQbTbnUFZ4jYOFitZ857RHjTj4DOC3R1JA8DXqkU=; b=HtPGkMsjz/9X9OJTZw9Gv62rH9TxxEilM/5z9N+9l4H2vwjV6LBcZ9TB+MJCnTCbtK p1JqBdCzppn8ivniDjsywu65JRE/wyhOzXc9KiqBNe/bXWBix0lwRVgt7ONiIz0gAaYl Z+5bi/7LPdLKtZwtLWJCClRjHUAkz4RbTQhTwuuEOlC/AmMK4Lt5/A8GMlYWFJkWnq0w ANQo+u+aGs9R5urLwjW4icVafc8au5mjKoZOKVtAta9CUNxawNarGPr/Fi+EFI9ePvX6 mdVajylfpQQh+aSUXFbGM+kq8IHoxYn9BMc26P7m7GzPptwGrU3285qvfRpGjd6eBSoy GguA== X-Gm-Message-State: AOJu0YyJfQCbWfY68W9hhEV8gXYIi2+hMkxKgg/PK8jKWMtiUvgGG0OJ M9XvyOQtWwMBsV7kboCEd8DFaK80cHg9ez+mzjFSJGGv7sK3OusNK2E7bZzR0FsxHN+3QPxJtkQ w6ixMgTnK1OcrNa+AnuJfWOp4Sda4zG5hlqPCW35HjOiCuydXXl03Bk1KAMgx X-Gm-Gg: ASbGncs/np/oQxU4zg4RzvFE3v3jcy3UJK8Ql02XhyXhoaZnSQc0TfIENhfh2KnuyiD ra5LhKFkZ9Rubgc8ho8s37jN8iijGjJYUi+WqjCKjSp3SUK1dnk5Kyj5LKxVfByt+YaZTSvsLLV RXbaUJC+j4o9MTR9N3orKImNrigHzawCrAtwChnJMv6N0QLJiiDqCbje2MHt73FznbykKJUB1PX Uh54mEu+VvFoUVGmF9Z0LRF8YbQHoSftjXr3hQuXHRxyvZbYqnimsGxEXXFm3wDqa8y10Dzpumn IiOhZ/MugtHaG8pz2uoFP3xmd04R5fx+IBshjvCBVOn0j5njWQ== X-Google-Smtp-Source: AGHT+IF+5o+TPS1UYHyjQ9n1vqiLm3pSBpH50ZcQx7887x9LUoV6Eph+Dhu2kreY9czLqbrlkb+I52AavSjg X-Received: by 2002:a05:6214:230f:b0:706:c5ff:f1 with SMTP id 6a1803df08f44-7070080f54amr3218836d6.30.1753211875256; Tue, 22 Jul 2025 12:17:55 -0700 (PDT) Received: from postal.iol.unh.edu (postal.iol.unh.edu. [2606:4100:3880:1234::84]) by smtp-relay.gmail.com with ESMTPS id 6a1803df08f44-706ee366078sm1138646d6.53.2025.07.22.12.17.55 (version=TLS1_2 cipher=ECDHE-ECDSA-AES128-GCM-SHA256 bits=128/128); Tue, 22 Jul 2025 12:17:55 -0700 (PDT) X-Relaying-Domain: iol.unh.edu Date: Tue, 22 Jul 2025 12:17:55 -0700 (PDT) Message-ID: <687fe3e3.050a0220.5f729.6851SMTPIN_ADDED_MISSING@mx.google.com> Received: from [172.21.0.4] (unknown [172.18.0.240]) by postal.iol.unh.edu (Postfix) with ESMTP id F32B56050A61; Tue, 22 Jul 2025 15:17:54 -0400 (EDT) Subject: |SUCCESS| pw155425 [PATCH] maintainers: update for DTS From: dpdklab@iol.unh.edu To: Test Report Cc: dpdk-test-reports@iol.unh.edu In-Reply-To: <20250722160529.2659392-1-luca.vizzarro@arm.com> References: <20250722160529.2659392-1-luca.vizzarro@arm.com> Content-Type: text/plain X-BeenThere: test-report@dpdk.org X-Mailman-Version: 2.1.29 Precedence: list List-Id: automatic DPDK test reports List-Unsubscribe: , List-Archive: List-Post: List-Help: List-Subscribe: , Errors-To: test-report-bounces@dpdk.org Test-Label: iol-unit-amd64-testing Test-Status: SUCCESS http://dpdk.org/patch/155425 _Testing PASS_ Submitter: Luca Vizzarro Date: Tuesday, July 22 2025 16:05:14 DPDK git baseline: Repo:dpdk Branch: master CommitID:b222395561638f89562e4ef42e1eabf2d6db43dd 155425 --> testing pass Upstream job id: Generic-Unit-Test-DPDK#357368 Test environment and result as below: +-------------------------------+----------------+ | Environment | dpdk_unit_test | +===============================+================+ | Red Hat Enterprise Linux 8.10 | PASS | +-------------------------------+----------------+ | CentOS Stream 9 | PASS | +-------------------------------+----------------+ | CentOS Stream 10 | PASS | +-------------------------------+----------------+ | Fedora Linux 41 | PASS | +-------------------------------+----------------+ | Debian GNU/Linux 12 | PASS | +-------------------------------+----------------+ | Fedora Linux 40 | PASS | +-------------------------------+----------------+ | Ubuntu 22.04 | PASS | +-------------------------------+----------------+ | Red Hat Enterprise Linux 9.5 | PASS | +-------------------------------+----------------+ | Ubuntu 20.04 | PASS | +-------------------------------+----------------+ | Ubuntu 24.04 | PASS | +-------------------------------+----------------+ Red Hat Enterprise Linux 8.10 Kernel: 5.15 Compiler: gcc gcc (GCC) 8.5.0 20210514 (Red Hat 8.5.0-22) CentOS Stream 9 Kernel: 5.15 Compiler: gcc gcc (GCC) 11.5.0 20240719 (Red Hat 11.5.0-7) CentOS Stream 10 Kernel: 5.15 Compiler: gcc gcc (GCC) 14.2.1 20250110 (Red Hat 14.2.1-8) Fedora Linux 41 Kernel: 5.15 Compiler: clang gcc (GCC) 14.3.1 20250523 (Red Hat 14.3.1-1) Debian GNU/Linux 12 Kernel: 5.15 Compiler: gcc gcc (Debian 12.2.0-14+deb12u1) 12.2.0 Fedora Linux 40 Kernel: 5.15 Compiler: clang gcc (GCC) 14.2.1 20240912 (Red Hat 14.2.1-3) Ubuntu 22.04 Kernel: 5.15 Compiler: gcc gcc (Ubuntu 11.4.0-1ubuntu1~22.04) 11.4.0 Red Hat Enterprise Linux 9.5 Kernel: 5.15 Compiler: gcc gcc (GCC) 11.5.0 20240719 (Red Hat 11.5.0-2) Ubuntu 20.04 Kernel: 5.15 Compiler: gcc gcc (Ubuntu 9.4.0-1ubuntu1~20.04.2) 9.4.0 Ubuntu 24.04 Kernel: 5.15 Compiler: gcc gcc (Ubuntu 13.3.0-6ubuntu2~24.04) 13.3.0 To view detailed results, visit: https://lab.dpdk.org/results/dashboard/patchsets/33725/ UNH-IOL DPDK Community Lab To manage your email subscriptions, visit: https://lab.dpdk.org/results/dashboard/preferences/subscriptions/