From mboxrd@z Thu Jan 1 00:00:00 1970 Return-Path: Received: from mails.dpdk.org (mails.dpdk.org [217.70.189.124]) by inbox.dpdk.org (Postfix) with ESMTP id 467D346BE5 for ; Tue, 22 Jul 2025 21:33:33 +0200 (CEST) Received: from mails.dpdk.org (localhost [127.0.0.1]) by mails.dpdk.org (Postfix) with ESMTP id 302B04003C; Tue, 22 Jul 2025 21:33:33 +0200 (CEST) Received: from mail-il1-f226.google.com (mail-il1-f226.google.com [209.85.166.226]) by mails.dpdk.org (Postfix) with ESMTP id DEA7D4003C for ; Tue, 22 Jul 2025 21:33:31 +0200 (CEST) Received: by mail-il1-f226.google.com with SMTP id e9e14a558f8ab-3df2d8cb8d2so22287495ab.2 for ; Tue, 22 Jul 2025 12:33:31 -0700 (PDT) DKIM-Signature: v=1; a=rsa-sha256; c=relaxed/relaxed; d=iol.unh.edu; s=unh-iol; t=1753212811; x=1753817611; darn=dpdk.org; h=references:in-reply-to:cc:to:from:subject:message-id:date:from:to :cc:subject:date:message-id:reply-to; bh=FeyKbpdgY2T1IVLkwNSBtjVzBra+IyQLDo4EpDcYq2M=; b=C2Y21CmD0ZF3PXnyu9GEi5CEeGpZGn29oQaUOHQPgT/d/R8owrXzA10lvmya8jCFa5 x4KQLOoNis59LEHVAS/yso8Eb76V5kFoGZklOzsW5KXaRARIcfYVIZLid4qBteHYjIPh 0ybWTu1HIu3rlf/k2zbwtV+55UUinH21UNdkM= X-Google-DKIM-Signature: v=1; a=rsa-sha256; c=relaxed/relaxed; d=1e100.net; s=20230601; t=1753212811; x=1753817611; h=references:in-reply-to:cc:to:from:subject:message-id:date :x-gm-message-state:from:to:cc:subject:date:message-id:reply-to; bh=FeyKbpdgY2T1IVLkwNSBtjVzBra+IyQLDo4EpDcYq2M=; b=RAMdYnX6c39VUd1krd3883QE3djUdM/NLJHyIGaZc8Uh9bKK+35GWGIqBdAvbeMDDK /amD7cFmeVFrLmHElkzyp1eu7VgiCNlBRCUqKrN9A3VkiJXMOcM/AccOSkDWIuZDLiZC vzgI97fJjXXa9R2Ahr8xxIkMeSrLtcKG2Cqsb2arzJLcqKBCRl796Yu6SiYgJFsNlYsg +vDJxQu3OqssGD9HktdLpRRpHaD/CavzQITibbehdnoMrhxBh/bKTnoow6Cc3BD/BMNn aJ8fWcUG89sasu1pkdhUSj42hsxL2aoSimPX2ctUPW+Fr47E3QVVTDY6Nepwzm6nFenN Z9sw== X-Gm-Message-State: AOJu0Yw9YjcFhAmlmaYOfZzoRiPWuVRokwFbxb4WMnRPEy2Iycb7nESm EcVy6IXQ4jRti2Xz8VJjxyXz7hixb2HQ3iLtcKb8mEj0WTC4Q83f0VDkxbj5HeVoQO4yY30/udo s0bGJzRMNLKaSPNNJhigygiVq/nSkU5GzQ2ELkvhv7mX9+JworRT0NpBuqhpR X-Gm-Gg: ASbGncsBqN9zuSaQMbcTZXkE4VJ8YO9MLg5nmKLn1VcFubq/TTlXMVH/b7lu9ZjrVwq v/wLAHXdf+ZZQWH2xuAqcpzCexlWsWZHsnMymRkHLVnn3T61fwDejr5WezKMw9dddMfiFuE9CEH jfnjYUoKsXkEGXERlqs3lzKzRWnuBYOW/MZqJtG8DfkCahTI4UtIgyy6Wh0I87Q9geqHPXkoTrd aXck2aAkoS5TJJ7lbtJTQWGRCdZxURmJrUBmrAAiYjiNtWT/OidvGFJ57xKoPVgYjNq1/o9MZew 8UiYJeXtW585em4wDaUgWjoYvqAQb/1YNQoUtCrdV/n6yUtNVA== X-Google-Smtp-Source: AGHT+IGtFy1Hlt+XSPPDKOrgAUi358mBlCW0t3yo6sf47/RS/NQlOZYX/oOd9ebSMhuAh9jObuf1sNUfEBwM X-Received: by 2002:a05:6e02:c:b0:3dd:8663:d182 with SMTP id e9e14a558f8ab-3e32fcc2fcfmr6072565ab.13.1753212811167; Tue, 22 Jul 2025 12:33:31 -0700 (PDT) Received: from postal.iol.unh.edu (postal.iol.unh.edu. [2606:4100:3880:1234::84]) by smtp-relay.gmail.com with ESMTPS id 8926c6da1cb9f-5084c976a1fsm507658173.62.2025.07.22.12.33.31 (version=TLS1_2 cipher=ECDHE-ECDSA-AES128-GCM-SHA256 bits=128/128); Tue, 22 Jul 2025 12:33:31 -0700 (PDT) X-Relaying-Domain: iol.unh.edu Date: Tue, 22 Jul 2025 12:33:31 -0700 (PDT) Message-ID: <687fe78b.050a0220.5d28d.a464SMTPIN_ADDED_MISSING@mx.google.com> Received: from [172.21.0.2] (unknown [172.18.0.240]) by postal.iol.unh.edu (Postfix) with ESMTP id AEC4B6050A61; Tue, 22 Jul 2025 15:33:30 -0400 (EDT) Subject: |SUCCESS| pw155426-155427 [PATCH] [v3,2/2] test/strsep: add tests fo From: dpdklab@iol.unh.edu To: Test Report Cc: dpdk-test-reports@iol.unh.edu In-Reply-To: <1753202334-27615-2-git-send-email-andremue@linux.microsoft.com> References: <1753202334-27615-2-git-send-email-andremue@linux.microsoft.com> Content-Type: text/plain X-BeenThere: test-report@dpdk.org X-Mailman-Version: 2.1.29 Precedence: list List-Id: automatic DPDK test reports List-Unsubscribe: , List-Archive: List-Post: List-Help: List-Subscribe: , Errors-To: test-report-bounces@dpdk.org Test-Label: iol-compile-amd64-testing Test-Status: SUCCESS http://dpdk.org/patch/155427 _Testing PASS_ Submitter: Andre Muezerie Date: Tuesday, July 22 2025 16:38:54 DPDK git baseline: Repo:dpdk Branch: master CommitID:b222395561638f89562e4ef42e1eabf2d6db43dd 155426-155427 --> testing pass Upstream job id: Windows-Compile-DPDK-VS#6432 Test environment and result as below: +---------------------+--------------------+-------------------+ | Environment | dpdk_meson_compile | dpdk_msvc_compile | +=====================+====================+===================+ | Ubuntu 20.04 | PASS | SKIPPED | +---------------------+--------------------+-------------------+ | FreeBSD 14.2 | PASS | SKIPPED | +---------------------+--------------------+-------------------+ | Windows Server 2022 | SKIPPED | PASS | +---------------------+--------------------+-------------------+ Ubuntu 20.04 Kernel: 4.19 Compiler: gcc gcc (Ubuntu 9.4.0-1ubuntu1~20.04.2) 9.4.0 FreeBSD 14.2 Kernel: 14.2-RELEASE Compiler: clang 18.1.6 Windows Server 2022 Kernel: 10.0.20348.2031 Compiler: clang 15.0.7, gcc 14.1.0 (MinGW), and MSVC VS 19.39.33521 To view detailed results, visit: https://lab.dpdk.org/results/dashboard/patchsets/33726/ UNH-IOL DPDK Community Lab To manage your email subscriptions, visit: https://lab.dpdk.org/results/dashboard/preferences/subscriptions/