From mboxrd@z Thu Jan 1 00:00:00 1970 Return-Path: Received: from mails.dpdk.org (mails.dpdk.org [217.70.189.124]) by inbox.dpdk.org (Postfix) with ESMTP id BB07D46BE5 for ; Tue, 22 Jul 2025 21:47:02 +0200 (CEST) Received: from mails.dpdk.org (localhost [127.0.0.1]) by mails.dpdk.org (Postfix) with ESMTP id B105B40664; Tue, 22 Jul 2025 21:47:02 +0200 (CEST) Received: from mail-oo1-f99.google.com (mail-oo1-f99.google.com [209.85.161.99]) by mails.dpdk.org (Postfix) with ESMTP id DA4694003C for ; Tue, 22 Jul 2025 21:47:01 +0200 (CEST) Received: by mail-oo1-f99.google.com with SMTP id 006d021491bc7-615a4b50215so2084860eaf.1 for ; Tue, 22 Jul 2025 12:47:01 -0700 (PDT) DKIM-Signature: v=1; a=rsa-sha256; c=relaxed/relaxed; d=iol.unh.edu; s=unh-iol; t=1753213621; x=1753818421; darn=dpdk.org; h=references:in-reply-to:cc:to:from:subject:message-id:date:from:to :cc:subject:date:message-id:reply-to; bh=uXh5gZzp60p4Jvvdv2TUTI/iFEnGT5goIMzZoQLLCpY=; b=HeD6GHBmzpkrQ8Yx583q6lNjfGQ3iXYj3qgKBaoMNlQI4B7zmw9PMGGzdxd/fb8FuS /8goa5nrAFuzINSyL0WQyVQmqYZkms3okUwRjc0pZthYrqEtVrWnyrCLs5U/V8TDryJi RwDAm/oVsQN4mWrOET5bYF54hRaunhhJxjgCs= X-Google-DKIM-Signature: v=1; a=rsa-sha256; c=relaxed/relaxed; d=1e100.net; s=20230601; t=1753213621; x=1753818421; h=references:in-reply-to:cc:to:from:subject:message-id:date :x-gm-message-state:from:to:cc:subject:date:message-id:reply-to; bh=uXh5gZzp60p4Jvvdv2TUTI/iFEnGT5goIMzZoQLLCpY=; b=SKGZ/hcxNXPtCoG7rgoJEET5jMRTyoIPAPIN54TYStCIoc7tQXnzg04z0Eohwf3BTt RfFdW9RU9PQihGlNq7kCdLnRLqJkXMZRoQ3Veoi95JRmSIaNey+Cys4zDfnhKjUzDHhC RndTPI9dPD4Ln+dtqLq9TJ4AYj3UbDE15xZYR4qjBS8832D3i2Otl3DvcweRl43sFZnq LowoTace9hiA3aksOy2iYXn6Dcu9FwQ2qp5/eMmpO2RRoBIUgXtPIWMpMPtqAMByeK5t gIgkfxsNOAoa3WU+4Hs0OrLeROjeGY3+KgboL5KC7ZFwuZ85yo3y99WQ4EWfel3NbRZG Vbmw== X-Gm-Message-State: AOJu0Yxdk12Q85PqwTmnyNVAw9LnttOyVyFTSewol5Dtyf7saQR53pwG jIG0Jx47FeJBuAYu2TCrpg0YZCAs/3rcHumtyje0Z+U8BrcjgGEngLUTG/jLvWmIXbfDy2spovo rRSH4VOfXbguVYKxRQlXZNXPtC4MR2Py5zJyhvESqfz8P X-Gm-Gg: ASbGncvdYcgJEHFiDjfuQWm35iYgUbz6qbO3jWx269f6vxEz+tO6zbsUlhvFUKAuyXK XebjopekfeG7NqCh5yhsLU18uzek5zxd/h1DMEI6oZXxSeQYV7YhFf1DlTMVM8WKWT7CbxO6TV5 oVkAR+dedrdTZjr6bZc3l+vPwoVwdcu6bQAU35Hs/4R4scH1EaU+pklGSPQChIT89H3CSagng1Q ps3FkfkQ6KGHKf9oUJbtgMHzM0gUWcKxHr+0TGiBc43xgglfbSfH/BoKaJdR911yfZS2J/0avh6 f2JZL8KDAFEFT7Xl5MStblR0qT1tUAOVcOhlLc0hK9d5Qh/asaBkZghKsY3bJ4P4DFfOVB6p X-Google-Smtp-Source: AGHT+IHrslzarzMlWZeYSRlzspk+bGXgx1V9RqFxTCyE7dHG1XG24WwjtvP9h1VtkEjGC5Qj4C17HBi76WSw X-Received: by 2002:a05:6871:ea84:b0:2ff:8f57:917f with SMTP id 586e51a60fabf-306c73033dfmr153505fac.39.1753213620992; Tue, 22 Jul 2025 12:47:00 -0700 (PDT) Received: from postal.iol.unh.edu (postal.iol.unh.edu. [132.177.123.84]) by smtp-relay.gmail.com with ESMTPS id 586e51a60fabf-3010456e8cesm819328fac.3.2025.07.22.12.47.00 (version=TLS1_2 cipher=ECDHE-ECDSA-AES128-GCM-SHA256 bits=128/128); Tue, 22 Jul 2025 12:47:00 -0700 (PDT) X-Relaying-Domain: iol.unh.edu Date: Tue, 22 Jul 2025 12:47:00 -0700 (PDT) Message-ID: <687feab4.050a0220.1b1af.a9f0SMTPIN_ADDED_MISSING@mx.google.com> Received: from [172.21.0.4] (unknown [172.18.0.240]) by postal.iol.unh.edu (Postfix) with ESMTP id 97EDA604D420; Tue, 22 Jul 2025 15:47:00 -0400 (EDT) Subject: |SUCCESS| pw155425 [PATCH] maintainers: update for DTS From: dpdklab@iol.unh.edu To: Test Report Cc: dpdk-test-reports@iol.unh.edu In-Reply-To: <20250722160529.2659392-1-luca.vizzarro@arm.com> References: <20250722160529.2659392-1-luca.vizzarro@arm.com> Content-Type: text/plain X-BeenThere: test-report@dpdk.org X-Mailman-Version: 2.1.29 Precedence: list List-Id: automatic DPDK test reports List-Unsubscribe: , List-Archive: List-Post: List-Help: List-Subscribe: , Errors-To: test-report-bounces@dpdk.org Test-Label: iol-unit-amd64-testing Test-Status: SUCCESS http://dpdk.org/patch/155425 _Testing PASS_ Submitter: Luca Vizzarro Date: Tuesday, July 22 2025 16:05:14 DPDK git baseline: Repo:dpdk Branch: master CommitID:b222395561638f89562e4ef42e1eabf2d6db43dd 155425 --> testing pass Upstream job id: Generic-VM-Unit-Test-DPDK#30104 Test environment and result as below: +-------------------------------+----------------+ | Environment | dpdk_unit_test | +===============================+================+ | Red Hat Enterprise Linux 8.10 | PASS | +-------------------------------+----------------+ | CentOS Stream 9 | PASS | +-------------------------------+----------------+ | CentOS Stream 10 | PASS | +-------------------------------+----------------+ | Fedora Linux 41 | PASS | +-------------------------------+----------------+ | Debian GNU/Linux 12 | PASS | +-------------------------------+----------------+ | Fedora Linux 40 | PASS | +-------------------------------+----------------+ | Ubuntu 22.04 | PASS | +-------------------------------+----------------+ | Red Hat Enterprise Linux 9.5 | PASS | +-------------------------------+----------------+ | Ubuntu 20.04 | PASS | +-------------------------------+----------------+ | Ubuntu 24.04 | PASS | +-------------------------------+----------------+ | Windows Server 2022 | PASS | +-------------------------------+----------------+ Red Hat Enterprise Linux 8.10 Kernel: 5.15 Compiler: gcc gcc (GCC) 8.5.0 20210514 (Red Hat 8.5.0-22) CentOS Stream 9 Kernel: 5.15 Compiler: gcc gcc (GCC) 11.5.0 20240719 (Red Hat 11.5.0-7) CentOS Stream 10 Kernel: 5.15 Compiler: gcc gcc (GCC) 14.2.1 20250110 (Red Hat 14.2.1-8) Fedora Linux 41 Kernel: 5.15 Compiler: clang gcc (GCC) 14.3.1 20250523 (Red Hat 14.3.1-1) Debian GNU/Linux 12 Kernel: 5.15 Compiler: gcc gcc (Debian 12.2.0-14+deb12u1) 12.2.0 Fedora Linux 40 Kernel: 5.15 Compiler: clang gcc (GCC) 14.2.1 20240912 (Red Hat 14.2.1-3) Ubuntu 22.04 Kernel: 5.15 Compiler: gcc gcc (Ubuntu 11.4.0-1ubuntu1~22.04) 11.4.0 Red Hat Enterprise Linux 9.5 Kernel: 5.15 Compiler: gcc gcc (GCC) 11.5.0 20240719 (Red Hat 11.5.0-2) Ubuntu 20.04 Kernel: 5.15 Compiler: gcc gcc (Ubuntu 9.4.0-1ubuntu1~20.04.2) 9.4.0 Ubuntu 24.04 Kernel: 5.15 Compiler: gcc gcc (Ubuntu 13.3.0-6ubuntu2~24.04) 13.3.0 Windows Server 2022 Kernel: 10.0.20348.2031 Compiler: clang 15.0.7, gcc 14.1.0 (MinGW), and MSVC VS 19.39.33521 To view detailed results, visit: https://lab.dpdk.org/results/dashboard/patchsets/33725/ UNH-IOL DPDK Community Lab To manage your email subscriptions, visit: https://lab.dpdk.org/results/dashboard/preferences/subscriptions/